BEGIN:VCALENDAR
VERSION:2.0
PRODID:-//The Hope Church Family - ECPv6.15.20//NONSGML v1.0//EN
CALSCALE:GREGORIAN
METHOD:PUBLISH
X-ORIGINAL-URL:https://hopechurchfamily.org
X-WR-CALDESC:Events for The Hope Church Family
REFRESH-INTERVAL;VALUE=DURATION:PT1H
X-Robots-Tag:noindex
X-PUBLISHED-TTL:PT1H
BEGIN:VTIMEZONE
TZID:Europe/London
BEGIN:DAYLIGHT
TZOFFSETFROM:+0000
TZOFFSETTO:+0100
TZNAME:BST
DTSTART:20280326T010000
END:DAYLIGHT
BEGIN:STANDARD
TZOFFSETFROM:+0100
TZOFFSETTO:+0000
TZNAME:GMT
DTSTART:20281029T010000
END:STANDARD
BEGIN:DAYLIGHT
TZOFFSETFROM:+0000
TZOFFSETTO:+0100
TZNAME:BST
DTSTART:20290325T010000
END:DAYLIGHT
BEGIN:STANDARD
TZOFFSETFROM:+0100
TZOFFSETTO:+0000
TZNAME:GMT
DTSTART:20291028T010000
END:STANDARD
BEGIN:DAYLIGHT
TZOFFSETFROM:+0000
TZOFFSETTO:+0100
TZNAME:BST
DTSTART:20300331T010000
END:DAYLIGHT
BEGIN:STANDARD
TZOFFSETFROM:+0100
TZOFFSETTO:+0000
TZNAME:GMT
DTSTART:20301027T010000
END:STANDARD
END:VTIMEZONE
BEGIN:VEVENT
DTSTART;VALUE=DATE:20290701
DTEND;VALUE=DATE:20290702
DTSTAMP:20260420T072545
CREATED:20240130T103651Z
LAST-MODIFIED:20240130T103651Z
UID:10005487-1877558400-1877644799@hopechurchfamily.org
SUMMARY:Online Service
DESCRIPTION:Join us online for a simple weekly service\, all day\, every Sunday. \nClick here to go to our online service page.
URL:https://hopechurchfamily.org/calendars/online-service/2029-07-01/
LOCATION:Worcestershire
CATEGORIES:AdvertiseCroomes,AdvertiseHanleysWelland,AdvertiseRipple,AdvertiseUpton,Service
ATTACH;FMTTYPE=image/jpeg:https://hopechurchfamily.org/wp-content/uploads/2020/03/sunday-service-online-400_400.jpg
END:VEVENT
BEGIN:VEVENT
DTSTART;TZID=Europe/London:20290701T093000
DTEND;TZID=Europe/London:20290701T103000
DTSTAMP:20260420T072545
CREATED:20251229T001712Z
LAST-MODIFIED:20260401T115835Z
UID:10007153-1877592600-1877596200@hopechurchfamily.org
SUMMARY:Holy Communion
DESCRIPTION:Join us for a simple service of Holy Communion.
URL:https://hopechurchfamily.org/calendars/holy-communion-11/2029-07-01/
LOCATION:Hanley Swan\, St Gabriel’s\, Hanley Swan\, Worcestershire\, wr8 0dy\, United Kingdom
CATEGORIES:AdvertiseHanleysWelland,All,Hanley Swan,Service
ATTACH;FMTTYPE=image/jpeg:https://hopechurchfamily.org/wp-content/uploads/2016/09/communion-400_400.jpg
GEO:52.0833913;-2.2766275
END:VEVENT
BEGIN:VEVENT
DTSTART;TZID=Europe/London:20290701T110000
DTEND;TZID=Europe/London:20290701T120000
DTSTAMP:20260420T072545
CREATED:20251229T001840Z
LAST-MODIFIED:20260401T123854Z
UID:10007271-1877598000-1877601600@hopechurchfamily.org
SUMMARY:Holy Communion
DESCRIPTION:Join us for a simple service of Holy Communion.
URL:https://hopechurchfamily.org/calendars/holy-communion-13/2029-07-01/
LOCATION:Hook\, Church of the Good Shepherd\, Hook Common\, Worcestershire\, WR8 0JQ\, United Kingdom
CATEGORIES:AdvertiseUpton,All,Hook,Service
ATTACH;FMTTYPE=image/jpeg:https://hopechurchfamily.org/wp-content/uploads/2016/09/communion-400_400.jpg
GEO:52.0632147;-2.2616535
END:VEVENT
BEGIN:VEVENT
DTSTART;TZID=Europe/London:20290701T110000
DTEND;TZID=Europe/London:20290701T120000
DTSTAMP:20260420T072545
CREATED:20260401T120057Z
LAST-MODIFIED:20260401T120057Z
UID:10007949-1877598000-1877601600@hopechurchfamily.org
SUMMARY:Holy Communion
DESCRIPTION:Join us for a simple service of Holy Communion.
URL:https://hopechurchfamily.org/calendars/holy-communion-15/
LOCATION:Hook\, Church of the Good Shepherd\, Hook Common\, Worcestershire\, WR8 0JQ\, United Kingdom
CATEGORIES:AdvertiseUpton,All,Easter,EasterSunday,Hook,Service
ATTACH;FMTTYPE=image/jpeg:https://hopechurchfamily.org/wp-content/uploads/2018/02/easter400_400.jpg
GEO:52.0632147;-2.2616535
END:VEVENT
BEGIN:VEVENT
DTSTART;TZID=Europe/London:20290701T183000
DTEND;TZID=Europe/London:20290701T193000
DTSTAMP:20260420T072545
CREATED:20230920T092608Z
LAST-MODIFIED:20260401T120453Z
UID:10005493-1877625000-1877628600@hopechurchfamily.org
SUMMARY:Evensong
DESCRIPTION:Join us for a simple evensong service\, with hymns\, readings\, a short reflection and a warm welcome.
URL:https://hopechurchfamily.org/calendars/evensong/2029-07-01/
LOCATION:Hanley Castle\, St Mary\, Hanley Castle\, Worcestershire\, WR8 0BL
CATEGORIES:AdvertiseHanleysWelland,Hanley Castle,Service
ATTACH;FMTTYPE=image/jpeg:https://hopechurchfamily.org/wp-content/uploads/2016/11/prayer-book-evensong-400_400.jpg
END:VEVENT
BEGIN:VEVENT
DTSTART;TZID=Europe/London:20290701T183000
DTEND;TZID=Europe/London:20290701T193000
DTSTAMP:20260420T072545
CREATED:20260401T120335Z
LAST-MODIFIED:20260401T120335Z
UID:10008014-1877625000-1877628600@hopechurchfamily.org
SUMMARY:Evensong
DESCRIPTION:Join us for a simple evensong service\, with hymns\, readings\, a short reflection and a warm welcome.
URL:https://hopechurchfamily.org/calendars/evensong-2/
LOCATION:Hanley Castle\, St Mary\, Hanley Castle\, Worcestershire\, WR8 0BL
CATEGORIES:AdvertiseHanleysWelland,Easter,EasterSunday,Hanley Castle,Service
ATTACH;FMTTYPE=image/jpeg:https://hopechurchfamily.org/wp-content/uploads/2018/02/easter400_400.jpg
END:VEVENT
END:VCALENDAR