BEGIN:VCALENDAR
VERSION:2.0
PRODID:-//The Hope Church Family - ECPv6.15.20//NONSGML v1.0//EN
CALSCALE:GREGORIAN
METHOD:PUBLISH
X-WR-CALNAME:The Hope Church Family
X-ORIGINAL-URL:https://hopechurchfamily.org
X-WR-CALDESC:Events for The Hope Church Family
REFRESH-INTERVAL;VALUE=DURATION:PT1H
X-Robots-Tag:noindex
X-PUBLISHED-TTL:PT1H
BEGIN:VTIMEZONE
TZID:Europe/London
BEGIN:DAYLIGHT
TZOFFSETFROM:+0000
TZOFFSETTO:+0100
TZNAME:BST
DTSTART:20250330T010000
END:DAYLIGHT
BEGIN:STANDARD
TZOFFSETFROM:+0100
TZOFFSETTO:+0000
TZNAME:GMT
DTSTART:20251026T010000
END:STANDARD
BEGIN:DAYLIGHT
TZOFFSETFROM:+0000
TZOFFSETTO:+0100
TZNAME:BST
DTSTART:20260329T010000
END:DAYLIGHT
BEGIN:STANDARD
TZOFFSETFROM:+0100
TZOFFSETTO:+0000
TZNAME:GMT
DTSTART:20261025T010000
END:STANDARD
BEGIN:DAYLIGHT
TZOFFSETFROM:+0000
TZOFFSETTO:+0100
TZNAME:BST
DTSTART:20270328T010000
END:DAYLIGHT
BEGIN:STANDARD
TZOFFSETFROM:+0100
TZOFFSETTO:+0000
TZNAME:GMT
DTSTART:20271031T010000
END:STANDARD
END:VTIMEZONE
BEGIN:VEVENT
DTSTART;TZID=Europe/London:20260402T193000
DTEND;TZID=Europe/London:20260402T203000
DTSTAMP:20260421T151518
CREATED:20260401T114944Z
LAST-MODIFIED:20260401T114944Z
UID:10007776-1775158200-1775161800@hopechurchfamily.org
SUMMARY:Maundy Thursday Service
DESCRIPTION:Part of our series for Holy Week. A special Maundy Thursday Service reflecting on the last Supper.
URL:https://hopechurchfamily.org/calendars/maundy-thursday-service/
LOCATION:Hanley Swan\, St Gabriel’s\, Hanley Swan\, Worcestershire\, wr8 0dy\, United Kingdom
CATEGORIES:AdvertiseCroomes,AdvertiseHanleysWelland,AdvertiseRipple,AdvertiseUpton,Easter,Hanley Swan,HolyWeek,Service
ATTACH;FMTTYPE=image/jpeg:https://hopechurchfamily.org/wp-content/uploads/2018/02/easter400_400.jpg
GEO:52.0833913;-2.2766275
END:VEVENT
END:VCALENDAR