BEGIN:VCALENDAR
VERSION:2.0
PRODID:-//The Hope Church Family - ECPv6.15.20//NONSGML v1.0//EN
CALSCALE:GREGORIAN
METHOD:PUBLISH
X-WR-CALNAME:The Hope Church Family
X-ORIGINAL-URL:https://hopechurchfamily.org
X-WR-CALDESC:Events for The Hope Church Family
REFRESH-INTERVAL;VALUE=DURATION:PT1H
X-Robots-Tag:noindex
X-PUBLISHED-TTL:PT1H
BEGIN:VTIMEZONE
TZID:Europe/London
BEGIN:DAYLIGHT
TZOFFSETFROM:+0000
TZOFFSETTO:+0100
TZNAME:BST
DTSTART:20250330T010000
END:DAYLIGHT
BEGIN:STANDARD
TZOFFSETFROM:+0100
TZOFFSETTO:+0000
TZNAME:GMT
DTSTART:20251026T010000
END:STANDARD
BEGIN:DAYLIGHT
TZOFFSETFROM:+0000
TZOFFSETTO:+0100
TZNAME:BST
DTSTART:20260329T010000
END:DAYLIGHT
BEGIN:STANDARD
TZOFFSETFROM:+0100
TZOFFSETTO:+0000
TZNAME:GMT
DTSTART:20261025T010000
END:STANDARD
BEGIN:DAYLIGHT
TZOFFSETFROM:+0000
TZOFFSETTO:+0100
TZNAME:BST
DTSTART:20270328T010000
END:DAYLIGHT
BEGIN:STANDARD
TZOFFSETFROM:+0100
TZOFFSETTO:+0000
TZNAME:GMT
DTSTART:20271031T010000
END:STANDARD
END:VTIMEZONE
BEGIN:VEVENT
DTSTART;VALUE=DATE:20260329
DTEND;VALUE=DATE:20260331
DTSTAMP:20260421T175728
CREATED:20240130T103651Z
LAST-MODIFIED:20240130T103651Z
UID:10004997-1774742400-1774832399@hopechurchfamily.org
SUMMARY:Online Service
DESCRIPTION:Join us online for a simple weekly service\, all day\, every Sunday. \nClick here to go to our online service page.
URL:https://hopechurchfamily.org/calendars/online-service/2026-03-29/
CATEGORIES:AdvertiseCroomes,AdvertiseHanleysWelland,AdvertiseRipple,AdvertiseUpton,Service
ATTACH;FMTTYPE=image/jpeg:https://hopechurchfamily.org/wp-content/uploads/2020/03/sunday-service-online-400_400.jpg
END:VEVENT
BEGIN:VEVENT
DTSTART;TZID=Europe/London:20260401T180000
DTEND;TZID=Europe/London:20260401T190000
DTSTAMP:20260421T175728
CREATED:20260401T114657Z
LAST-MODIFIED:20260401T115008Z
UID:10007774-1775066400-1775070000@hopechurchfamily.org
SUMMARY:Compline
DESCRIPTION:A gentle\, choral led\, compline service\, for Holy Week.
URL:https://hopechurchfamily.org/calendars/compline/
LOCATION:Upton\, St Peter and St Paul\, Old Street\, Upton Upon Severn\, Worcestershire\, WR8 0JQ
CATEGORIES:AdvertiseCroomes,AdvertiseHanleysWelland,AdvertiseRipple,AdvertiseUpton,Easter,HolyWeek,Service,Upton
ATTACH;FMTTYPE=image/jpeg:https://hopechurchfamily.org/wp-content/uploads/2018/02/easter400_400.jpg
GEO:52.0613513;-2.2183986
X-APPLE-STRUCTURED-LOCATION;VALUE=URI;X-ADDRESS=Upton St Peter and St Paul Old Street Upton Upon Severn Worcestershire WR8 0JQ;X-APPLE-RADIUS=500;X-TITLE=Old Street:geo:-2.2183986,52.0613513
END:VEVENT
BEGIN:VEVENT
DTSTART;TZID=Europe/London:20260402T193000
DTEND;TZID=Europe/London:20260402T203000
DTSTAMP:20260421T175728
CREATED:20260401T114944Z
LAST-MODIFIED:20260401T114944Z
UID:10007776-1775158200-1775161800@hopechurchfamily.org
SUMMARY:Maundy Thursday Service
DESCRIPTION:Part of our series for Holy Week. A special Maundy Thursday Service reflecting on the last Supper.
URL:https://hopechurchfamily.org/calendars/maundy-thursday-service/
LOCATION:Hanley Swan\, St Gabriel’s\, Hanley Swan\, Worcestershire\, wr8 0dy\, United Kingdom
CATEGORIES:AdvertiseCroomes,AdvertiseHanleysWelland,AdvertiseRipple,AdvertiseUpton,Easter,Hanley Swan,HolyWeek,Service
ATTACH;FMTTYPE=image/jpeg:https://hopechurchfamily.org/wp-content/uploads/2018/02/easter400_400.jpg
GEO:52.0833913;-2.2766275
END:VEVENT
BEGIN:VEVENT
DTSTART;TZID=Europe/London:20260403T100000
DTEND;TZID=Europe/London:20260403T110000
DTSTAMP:20260421T175728
CREATED:20260401T114822Z
LAST-MODIFIED:20260401T115024Z
UID:10007775-1775210400-1775214000@hopechurchfamily.org
SUMMARY:Easter Adventure - all age event
DESCRIPTION:An all-age event for Good Friday\, with refreshments and fun for all the family.
URL:https://hopechurchfamily.org/calendars/easter-adventure-all-age-event/
LOCATION:Hanley Castle\, St Mary\, Hanley Castle\, Worcestershire\, WR8 0BL
CATEGORIES:AdvertiseCroomes,AdvertiseHanleysWelland,AdvertiseRipple,AdvertiseUpton,Easter,GoodFriday,Hanley Castle,Service
ATTACH;FMTTYPE=image/jpeg:https://hopechurchfamily.org/wp-content/uploads/2018/02/easter400_400.jpg
END:VEVENT
BEGIN:VEVENT
DTSTART;TZID=Europe/London:20260403T140000
DTEND;TZID=Europe/London:20260403T150000
DTSTAMP:20260421T175728
CREATED:20260401T115208Z
LAST-MODIFIED:20260401T115208Z
UID:10007777-1775224800-1775228400@hopechurchfamily.org
SUMMARY:An Hour at the Cross
DESCRIPTION:Join us for an hour of quiet guided reflection as we focus on the final hours of the Lord’s life. This year we read through Luke’s account of the passion\, with five short meditations on the passage led by a variety of different voices.
URL:https://hopechurchfamily.org/calendars/an-hour-at-the-cross/
LOCATION:Earls Croome\, St Nicholas’ Church\, Church Lane\,\, Earls Croome\,\, Worcestershire\, wr8 9de\, United Kingdom
CATEGORIES:AdvertiseCroomes,AdvertiseHanleysWelland,AdvertiseRipple,AdvertiseUpton,Earls Croome,Easter,GoodFriday,Service
ATTACH;FMTTYPE=image/jpeg:https://hopechurchfamily.org/wp-content/uploads/2018/02/easter400_400.jpg
GEO:52.0753008;-2.1913477
X-APPLE-STRUCTURED-LOCATION;VALUE=URI;X-ADDRESS=Earls Croome St Nicholas’ Church Church Lane Earls Croome Worcestershire wr8 9de United Kingdom;X-APPLE-RADIUS=500;X-TITLE=Church Lane\,:geo:-2.1913477,52.0753008
END:VEVENT
BEGIN:VEVENT
DTSTART;TZID=Europe/London:20260403T180000
DTEND;TZID=Europe/London:20260403T190000
DTSTAMP:20260421T175728
CREATED:20260401T115617Z
LAST-MODIFIED:20260401T115617Z
UID:10007841-1775239200-1775242800@hopechurchfamily.org
SUMMARY:An hour of music and contemplation
DESCRIPTION:Join us for a choral-led Good Friday meditation.
URL:https://hopechurchfamily.org/calendars/an-hour-of-music-and-contemplation/
LOCATION:Upton\, St Peter and St Paul\, Old Street\, Upton Upon Severn\, Worcestershire\, WR8 0JQ
CATEGORIES:AdvertiseCroomes,AdvertiseHanleysWelland,AdvertiseRipple,AdvertiseUpton,Easter,GoodFriday,Service,Upton
ATTACH;FMTTYPE=image/jpeg:https://hopechurchfamily.org/wp-content/uploads/2018/02/easter400_400.jpg
GEO:52.0613513;-2.2183986
X-APPLE-STRUCTURED-LOCATION;VALUE=URI;X-ADDRESS=Upton St Peter and St Paul Old Street Upton Upon Severn Worcestershire WR8 0JQ;X-APPLE-RADIUS=500;X-TITLE=Old Street:geo:-2.2183986,52.0613513
END:VEVENT
BEGIN:VEVENT
DTSTART;VALUE=DATE:20260405
DTEND;VALUE=DATE:20260406
DTSTAMP:20260421T175728
CREATED:20240130T103651Z
LAST-MODIFIED:20240130T103651Z
UID:10004998-1775347200-1775433599@hopechurchfamily.org
SUMMARY:Online Service
DESCRIPTION:Join us online for a simple weekly service\, all day\, every Sunday. \nClick here to go to our online service page.
URL:https://hopechurchfamily.org/calendars/online-service/2026-04-05/
CATEGORIES:AdvertiseCroomes,AdvertiseHanleysWelland,AdvertiseRipple,AdvertiseUpton,Service
ATTACH;FMTTYPE=image/jpeg:https://hopechurchfamily.org/wp-content/uploads/2020/03/sunday-service-online-400_400.jpg
END:VEVENT
BEGIN:VEVENT
DTSTART;TZID=Europe/London:20260405T110000
DTEND;TZID=Europe/London:20260405T120000
DTSTAMP:20260421T175728
CREATED:20260401T121310Z
LAST-MODIFIED:20260401T121556Z
UID:10008037-1775386800-1775390400@hopechurchfamily.org
SUMMARY:Holy Communion
DESCRIPTION:Join us for a simple service of Holy Communion
URL:https://hopechurchfamily.org/calendars/holy-communion-18/
LOCATION:Earls Croome\, St Nicholas’ Church\, Church Lane\,\, Earls Croome\,\, Worcestershire\, wr8 9de\, United Kingdom
CATEGORIES:AdvertiseCroomes,Earls Croome,Easter,EasterSunday,Service
ATTACH;FMTTYPE=image/jpeg:https://hopechurchfamily.org/wp-content/uploads/2018/02/easter400_400.jpg
GEO:52.0753008;-2.1913477
X-APPLE-STRUCTURED-LOCATION;VALUE=URI;X-ADDRESS=Earls Croome St Nicholas’ Church Church Lane Earls Croome Worcestershire wr8 9de United Kingdom;X-APPLE-RADIUS=500;X-TITLE=Church Lane\,:geo:-2.1913477,52.0753008
END:VEVENT
END:VCALENDAR