BEGIN:VCALENDAR
VERSION:2.0
PRODID:-//The Hope Church Family - ECPv6.15.20//NONSGML v1.0//EN
CALSCALE:GREGORIAN
METHOD:PUBLISH
X-ORIGINAL-URL:https://hopechurchfamily.org
X-WR-CALDESC:Events for The Hope Church Family
REFRESH-INTERVAL;VALUE=DURATION:PT1H
X-Robots-Tag:noindex
X-PUBLISHED-TTL:PT1H
BEGIN:VTIMEZONE
TZID:Europe/London
BEGIN:DAYLIGHT
TZOFFSETFROM:+0000
TZOFFSETTO:+0100
TZNAME:BST
DTSTART:20250330T010000
END:DAYLIGHT
BEGIN:STANDARD
TZOFFSETFROM:+0100
TZOFFSETTO:+0000
TZNAME:GMT
DTSTART:20251026T010000
END:STANDARD
BEGIN:DAYLIGHT
TZOFFSETFROM:+0000
TZOFFSETTO:+0100
TZNAME:BST
DTSTART:20260329T010000
END:DAYLIGHT
BEGIN:STANDARD
TZOFFSETFROM:+0100
TZOFFSETTO:+0000
TZNAME:GMT
DTSTART:20261025T010000
END:STANDARD
BEGIN:DAYLIGHT
TZOFFSETFROM:+0000
TZOFFSETTO:+0100
TZNAME:BST
DTSTART:20270328T010000
END:DAYLIGHT
BEGIN:STANDARD
TZOFFSETFROM:+0100
TZOFFSETTO:+0000
TZNAME:GMT
DTSTART:20271031T010000
END:STANDARD
END:VTIMEZONE
BEGIN:VEVENT
DTSTART;VALUE=DATE:20261108
DTEND;VALUE=DATE:20261109
DTSTAMP:20260424T163256
CREATED:20240130T103651Z
LAST-MODIFIED:20240130T103651Z
UID:10005029-1794096000-1794182399@hopechurchfamily.org
SUMMARY:Online Service
DESCRIPTION:Join us online for a simple weekly service\, all day\, every Sunday. \nClick here to go to our online service page.
URL:https://hopechurchfamily.org/calendars/online-service/2026-11-08/
CATEGORIES:AdvertiseCroomes,AdvertiseHanleysWelland,AdvertiseRipple,AdvertiseUpton,Service
ATTACH;FMTTYPE=image/jpeg:https://hopechurchfamily.org/wp-content/uploads/2020/03/sunday-service-online-400_400.jpg
END:VEVENT
BEGIN:VEVENT
DTSTART;TZID=Europe/London:20261108T100000
DTEND;TZID=Europe/London:20261108T110000
DTSTAMP:20260424T163256
CREATED:20251014T121827Z
LAST-MODIFIED:20251014T121844Z
UID:10006697-1794132000-1794135600@hopechurchfamily.org
SUMMARY:Remembrance Sunday Service
DESCRIPTION:Join us for our annual service of Remembrance. \nPlease take your seat early as the service will start promptly\, to allow us to participate in the national act of remembrance at 11am.
URL:https://hopechurchfamily.org/calendars/remembrance-sunday-service-6/2026-11-08/
LOCATION:Earls Croome\, St Nicholas’ Church\, Church Lane\,\, Earls Croome\,\, Worcestershire\, wr8 9de\, United Kingdom
CATEGORIES:AdvertiseCroomes,Earls Croome,Remembrance,Service
ATTACH;FMTTYPE=image/jpeg:https://hopechurchfamily.org/wp-content/uploads/2016/10/remembrance-sunday-400_400.jpg
GEO:52.0753008;-2.1913477
X-APPLE-STRUCTURED-LOCATION;VALUE=URI;X-ADDRESS=Earls Croome St Nicholas’ Church Church Lane Earls Croome Worcestershire wr8 9de United Kingdom;X-APPLE-RADIUS=500;X-TITLE=Church Lane\,:geo:-2.1913477,52.0753008
END:VEVENT
END:VCALENDAR