BEGIN:VCALENDAR
VERSION:2.0
PRODID:-//The Hope Church Family - ECPv6.15.20//NONSGML v1.0//EN
CALSCALE:GREGORIAN
METHOD:PUBLISH
X-WR-CALNAME:The Hope Church Family
X-ORIGINAL-URL:https://hopechurchfamily.org
X-WR-CALDESC:Events for The Hope Church Family
REFRESH-INTERVAL;VALUE=DURATION:PT1H
X-Robots-Tag:noindex
X-PUBLISHED-TTL:PT1H
BEGIN:VTIMEZONE
TZID:Europe/London
BEGIN:DAYLIGHT
TZOFFSETFROM:+0000
TZOFFSETTO:+0100
TZNAME:BST
DTSTART:20260329T010000
END:DAYLIGHT
BEGIN:STANDARD
TZOFFSETFROM:+0100
TZOFFSETTO:+0000
TZNAME:GMT
DTSTART:20261025T010000
END:STANDARD
BEGIN:DAYLIGHT
TZOFFSETFROM:+0000
TZOFFSETTO:+0100
TZNAME:BST
DTSTART:20270328T010000
END:DAYLIGHT
BEGIN:STANDARD
TZOFFSETFROM:+0100
TZOFFSETTO:+0000
TZNAME:GMT
DTSTART:20271031T010000
END:STANDARD
BEGIN:DAYLIGHT
TZOFFSETFROM:+0000
TZOFFSETTO:+0100
TZNAME:BST
DTSTART:20280326T010000
END:DAYLIGHT
BEGIN:STANDARD
TZOFFSETFROM:+0100
TZOFFSETTO:+0000
TZNAME:GMT
DTSTART:20281029T010000
END:STANDARD
BEGIN:DAYLIGHT
TZOFFSETFROM:+0000
TZOFFSETTO:+0100
TZNAME:BST
DTSTART:20290325T010000
END:DAYLIGHT
BEGIN:STANDARD
TZOFFSETFROM:+0100
TZOFFSETTO:+0000
TZNAME:GMT
DTSTART:20291028T010000
END:STANDARD
END:VTIMEZONE
BEGIN:VEVENT
DTSTART;VALUE=DATE:20271212
DTEND;VALUE=DATE:20271213
DTSTAMP:20260420T024902
CREATED:20240130T103651Z
LAST-MODIFIED:20240130T103651Z
UID:10005086-1828569600-1828655999@hopechurchfamily.org
SUMMARY:Online Service
DESCRIPTION:Join us online for a simple weekly service\, all day\, every Sunday. \nClick here to go to our online service page.
URL:https://hopechurchfamily.org/calendars/online-service/2027-12-12/
CATEGORIES:AdvertiseCroomes,AdvertiseHanleysWelland,AdvertiseRipple,AdvertiseUpton,Service
ATTACH;FMTTYPE=image/jpeg:https://hopechurchfamily.org/wp-content/uploads/2020/03/sunday-service-online-400_400.jpg
END:VEVENT
BEGIN:VEVENT
DTSTART;TZID=Europe/London:20271212T110000
DTEND;TZID=Europe/London:20271212T120000
DTSTAMP:20260420T024902
CREATED:20200817T134259Z
LAST-MODIFIED:20260401T121956Z
UID:10004196-1828609200-1828612800@hopechurchfamily.org
SUMMARY:Morning Worship
DESCRIPTION:Join us for a simple\, Morning Worship Service. \nWe sometimes serve refreshments after the service – it’s a great way to get know people. \n 
URL:https://hopechurchfamily.org/calendars/morning-worship-2-2021-05-09-2021-07-11/2027-12-12/
LOCATION:Ripple\, St Mary’s\, The Cross\, Ripple\, GL20 6HA
CATEGORIES:AdvertiseRipple,Ripple,Service
ATTACH;FMTTYPE=image/jpeg:https://hopechurchfamily.org/wp-content/uploads/2016/11/morning-worship-2-400_400.jpg
GEO:52.0381259;-2.1838752
X-APPLE-STRUCTURED-LOCATION;VALUE=URI;X-ADDRESS=Ripple St Mary’s The Cross Ripple GL20 6HA;X-APPLE-RADIUS=500;X-TITLE=The Cross:geo:-2.1838752,52.0381259
END:VEVENT
BEGIN:VEVENT
DTSTART;VALUE=DATE:20271219
DTEND;VALUE=DATE:20271220
DTSTAMP:20260420T024902
CREATED:20240130T103651Z
LAST-MODIFIED:20240130T103651Z
UID:10005087-1829174400-1829260799@hopechurchfamily.org
SUMMARY:Online Service
DESCRIPTION:Join us online for a simple weekly service\, all day\, every Sunday. \nClick here to go to our online service page.
URL:https://hopechurchfamily.org/calendars/online-service/2027-12-19/
CATEGORIES:AdvertiseCroomes,AdvertiseHanleysWelland,AdvertiseRipple,AdvertiseUpton,Service
ATTACH;FMTTYPE=image/jpeg:https://hopechurchfamily.org/wp-content/uploads/2020/03/sunday-service-online-400_400.jpg
END:VEVENT
BEGIN:VEVENT
DTSTART;TZID=Europe/London:20271219T160000
DTEND;TZID=Europe/London:20271219T170000
DTSTAMP:20260420T024902
CREATED:20231130T232734Z
LAST-MODIFIED:20251014T134515Z
UID:10006718-1829232000-1829235600@hopechurchfamily.org
SUMMARY:Carol Service
DESCRIPTION:Join us for our annual carol service. With readings and carols\, and the Tewkesbury Brass Band.
URL:https://hopechurchfamily.org/calendars/carol-service-3/2027-12-19/
LOCATION:Ripple\, St Mary’s\, The Cross\, Ripple\, GL20 6HA
CATEGORIES:AdvertiseRipple,Christmas,ChristmasRipple,Ripple,Service
ATTACH;FMTTYPE=image/jpeg:https://hopechurchfamily.org/wp-content/uploads/2017/09/carol-service.jpg
GEO:52.0381259;-2.1838752
X-APPLE-STRUCTURED-LOCATION;VALUE=URI;X-ADDRESS=Ripple St Mary’s The Cross Ripple GL20 6HA;X-APPLE-RADIUS=500;X-TITLE=The Cross:geo:-2.1838752,52.0381259
END:VEVENT
BEGIN:VEVENT
DTSTART;TZID=Europe/London:20271219T180000
DTEND;TZID=Europe/London:20271219T190000
DTSTAMP:20260420T024902
CREATED:20230214T180001Z
LAST-MODIFIED:20251014T132914Z
UID:10002320-1829239200-1829242800@hopechurchfamily.org
SUMMARY:Choral Evensong
DESCRIPTION:Join us for a traditional choral evensong service\, with music from the Upton Choir.
URL:https://hopechurchfamily.org/calendars/choral-evensong-2/2027-12-19/
LOCATION:Upton\, St Peter and St Paul\, Old Street\, Upton Upon Severn\, Worcestershire\, WR8 0JQ
CATEGORIES:AdvertiseCroomes,AdvertiseHanleysWelland,AdvertiseRipple,AdvertiseUpton,concert,Service,Upton
ATTACH;FMTTYPE=image/jpeg:https://hopechurchfamily.org/wp-content/uploads/2017/01/choral-evensong-400_400.jpg
GEO:52.0613513;-2.2183986
X-APPLE-STRUCTURED-LOCATION;VALUE=URI;X-ADDRESS=Upton St Peter and St Paul Old Street Upton Upon Severn Worcestershire WR8 0JQ;X-APPLE-RADIUS=500;X-TITLE=Old Street:geo:-2.2183986,52.0613513
END:VEVENT
BEGIN:VEVENT
DTSTART;TZID=Europe/London:20271224T160000
DTEND;TZID=Europe/London:20271224T170000
DTSTAMP:20260420T024902
CREATED:20241127T203006Z
LAST-MODIFIED:20241127T203232Z
UID:10005710-1829664000-1829667600@hopechurchfamily.org
SUMMARY:Crib Service
DESCRIPTION:Join us for our annual Christmas Eve crib service\, with carols\, readings\, nativity and Jesus’ birthday cake!
URL:https://hopechurchfamily.org/calendars/crib-service-2/2027-12-24/
LOCATION:Ripple\, St Mary’s\, The Cross\, Ripple\, GL20 6HA
CATEGORIES:AdvertiseRipple,ChristmasRipple,Ripple,Service
ATTACH;FMTTYPE=image/jpeg:https://hopechurchfamily.org/wp-content/uploads/2016/11/crib-service-400_400.jpg
GEO:52.0381259;-2.1838752
X-APPLE-STRUCTURED-LOCATION;VALUE=URI;X-ADDRESS=Ripple St Mary’s The Cross Ripple GL20 6HA;X-APPLE-RADIUS=500;X-TITLE=The Cross:geo:-2.1838752,52.0381259
END:VEVENT
BEGIN:VEVENT
DTSTART;VALUE=DATE:20271226
DTEND;VALUE=DATE:20271227
DTSTAMP:20260420T024902
CREATED:20240130T103651Z
LAST-MODIFIED:20240130T103651Z
UID:10005088-1829779200-1829865599@hopechurchfamily.org
SUMMARY:Online Service
DESCRIPTION:Join us online for a simple weekly service\, all day\, every Sunday. \nClick here to go to our online service page.
URL:https://hopechurchfamily.org/calendars/online-service/2027-12-26/
CATEGORIES:AdvertiseCroomes,AdvertiseHanleysWelland,AdvertiseRipple,AdvertiseUpton,Service
ATTACH;FMTTYPE=image/jpeg:https://hopechurchfamily.org/wp-content/uploads/2020/03/sunday-service-online-400_400.jpg
END:VEVENT
BEGIN:VEVENT
DTSTART;TZID=Europe/London:20271226T110000
DTEND;TZID=Europe/London:20271226T120000
DTSTAMP:20260420T024902
CREATED:20251014T115701Z
LAST-MODIFIED:20251014T133703Z
UID:10006528-1829818800-1829822400@hopechurchfamily.org
SUMMARY:Holy Communion
DESCRIPTION:Join us for a simple service of Holy Communion.
URL:https://hopechurchfamily.org/calendars/holy-communion-10/2027-12-26/
LOCATION:Ripple\, St Mary’s\, The Cross\, Ripple\, GL20 6HA
CATEGORIES:AdvertiseRipple,Ripple,Service
ATTACH;FMTTYPE=image/jpeg:https://hopechurchfamily.org/wp-content/uploads/2016/09/communion-400_400.jpg
GEO:52.0381259;-2.1838752
X-APPLE-STRUCTURED-LOCATION;VALUE=URI;X-ADDRESS=Ripple St Mary’s The Cross Ripple GL20 6HA;X-APPLE-RADIUS=500;X-TITLE=The Cross:geo:-2.1838752,52.0381259
END:VEVENT
BEGIN:VEVENT
DTSTART;VALUE=DATE:20280102
DTEND;VALUE=DATE:20280103
DTSTAMP:20260420T024902
CREATED:20240130T103651Z
LAST-MODIFIED:20240130T103651Z
UID:10005089-1830384000-1830470399@hopechurchfamily.org
SUMMARY:Online Service
DESCRIPTION:Join us online for a simple weekly service\, all day\, every Sunday. \nClick here to go to our online service page.
URL:https://hopechurchfamily.org/calendars/online-service/2028-01-02/
CATEGORIES:AdvertiseCroomes,AdvertiseHanleysWelland,AdvertiseRipple,AdvertiseUpton,Service
ATTACH;FMTTYPE=image/jpeg:https://hopechurchfamily.org/wp-content/uploads/2020/03/sunday-service-online-400_400.jpg
END:VEVENT
BEGIN:VEVENT
DTSTART;VALUE=DATE:20280109
DTEND;VALUE=DATE:20280110
DTSTAMP:20260420T024902
CREATED:20240130T103651Z
LAST-MODIFIED:20240130T103651Z
UID:10005090-1830988800-1831075199@hopechurchfamily.org
SUMMARY:Online Service
DESCRIPTION:Join us online for a simple weekly service\, all day\, every Sunday. \nClick here to go to our online service page.
URL:https://hopechurchfamily.org/calendars/online-service/2028-01-09/
CATEGORIES:AdvertiseCroomes,AdvertiseHanleysWelland,AdvertiseRipple,AdvertiseUpton,Service
ATTACH;FMTTYPE=image/jpeg:https://hopechurchfamily.org/wp-content/uploads/2020/03/sunday-service-online-400_400.jpg
END:VEVENT
BEGIN:VEVENT
DTSTART;TZID=Europe/London:20280109T110000
DTEND;TZID=Europe/London:20280109T120000
DTSTAMP:20260420T024902
CREATED:20200817T134259Z
LAST-MODIFIED:20260401T121956Z
UID:10004197-1831028400-1831032000@hopechurchfamily.org
SUMMARY:Morning Worship
DESCRIPTION:Join us for a simple\, Morning Worship Service. \nWe sometimes serve refreshments after the service – it’s a great way to get know people. \n 
URL:https://hopechurchfamily.org/calendars/morning-worship-2-2021-05-09-2021-07-11/2028-01-09/
LOCATION:Ripple\, St Mary’s\, The Cross\, Ripple\, GL20 6HA
CATEGORIES:AdvertiseRipple,Ripple,Service
ATTACH;FMTTYPE=image/jpeg:https://hopechurchfamily.org/wp-content/uploads/2016/11/morning-worship-2-400_400.jpg
GEO:52.0381259;-2.1838752
X-APPLE-STRUCTURED-LOCATION;VALUE=URI;X-ADDRESS=Ripple St Mary’s The Cross Ripple GL20 6HA;X-APPLE-RADIUS=500;X-TITLE=The Cross:geo:-2.1838752,52.0381259
END:VEVENT
BEGIN:VEVENT
DTSTART;TZID=Europe/London:20280113T100000
DTEND;TZID=Europe/London:20280113T104500
DTSTAMP:20260420T024902
CREATED:20230614T090617Z
LAST-MODIFIED:20230614T090617Z
UID:10002902-1831370400-1831373100@hopechurchfamily.org
SUMMARY:Holy Communion
DESCRIPTION:A simple\, said\, Common Worship service of Holy Communion.
URL:https://hopechurchfamily.org/calendars/holy-communion-2/2028-01-13/
LOCATION:Hanley Swan\, St Gabriel’s\, Hanley Swan\, Worcestershire\, wr8 0dy\, United Kingdom
CATEGORIES:AdvertiseCroomes,AdvertiseHanleysWelland,AdvertiseRipple,AdvertiseUpton,Hanley Swan,Service
ATTACH;FMTTYPE=image/jpeg:https://hopechurchfamily.org/wp-content/uploads/2016/09/communion-400_400.jpg
GEO:52.0833913;-2.2766275
END:VEVENT
BEGIN:VEVENT
DTSTART;VALUE=DATE:20280116
DTEND;VALUE=DATE:20280117
DTSTAMP:20260420T024902
CREATED:20240130T103651Z
LAST-MODIFIED:20240130T103651Z
UID:10005091-1831593600-1831679999@hopechurchfamily.org
SUMMARY:Online Service
DESCRIPTION:Join us online for a simple weekly service\, all day\, every Sunday. \nClick here to go to our online service page.
URL:https://hopechurchfamily.org/calendars/online-service/2028-01-16/
CATEGORIES:AdvertiseCroomes,AdvertiseHanleysWelland,AdvertiseRipple,AdvertiseUpton,Service
ATTACH;FMTTYPE=image/jpeg:https://hopechurchfamily.org/wp-content/uploads/2020/03/sunday-service-online-400_400.jpg
END:VEVENT
BEGIN:VEVENT
DTSTART;TZID=Europe/London:20280116T180000
DTEND;TZID=Europe/London:20280116T190000
DTSTAMP:20260420T024902
CREATED:20230214T180001Z
LAST-MODIFIED:20251014T132914Z
UID:10002321-1831658400-1831662000@hopechurchfamily.org
SUMMARY:Choral Evensong
DESCRIPTION:Join us for a traditional choral evensong service\, with music from the Upton Choir.
URL:https://hopechurchfamily.org/calendars/choral-evensong-2/2028-01-16/
LOCATION:Upton\, St Peter and St Paul\, Old Street\, Upton Upon Severn\, Worcestershire\, WR8 0JQ
CATEGORIES:AdvertiseCroomes,AdvertiseHanleysWelland,AdvertiseRipple,AdvertiseUpton,concert,Service,Upton
ATTACH;FMTTYPE=image/jpeg:https://hopechurchfamily.org/wp-content/uploads/2017/01/choral-evensong-400_400.jpg
GEO:52.0613513;-2.2183986
X-APPLE-STRUCTURED-LOCATION;VALUE=URI;X-ADDRESS=Upton St Peter and St Paul Old Street Upton Upon Severn Worcestershire WR8 0JQ;X-APPLE-RADIUS=500;X-TITLE=Old Street:geo:-2.2183986,52.0613513
END:VEVENT
BEGIN:VEVENT
DTSTART;VALUE=DATE:20280123
DTEND;VALUE=DATE:20280124
DTSTAMP:20260420T024902
CREATED:20240130T103651Z
LAST-MODIFIED:20240130T103651Z
UID:10005092-1832198400-1832284799@hopechurchfamily.org
SUMMARY:Online Service
DESCRIPTION:Join us online for a simple weekly service\, all day\, every Sunday. \nClick here to go to our online service page.
URL:https://hopechurchfamily.org/calendars/online-service/2028-01-23/
CATEGORIES:AdvertiseCroomes,AdvertiseHanleysWelland,AdvertiseRipple,AdvertiseUpton,Service
ATTACH;FMTTYPE=image/jpeg:https://hopechurchfamily.org/wp-content/uploads/2020/03/sunday-service-online-400_400.jpg
END:VEVENT
BEGIN:VEVENT
DTSTART;TZID=Europe/London:20280123T110000
DTEND;TZID=Europe/London:20280123T120000
DTSTAMP:20260420T024902
CREATED:20251014T115701Z
LAST-MODIFIED:20251014T133703Z
UID:10006529-1832238000-1832241600@hopechurchfamily.org
SUMMARY:Holy Communion
DESCRIPTION:Join us for a simple service of Holy Communion.
URL:https://hopechurchfamily.org/calendars/holy-communion-10/2028-01-23/
LOCATION:Ripple\, St Mary’s\, The Cross\, Ripple\, GL20 6HA
CATEGORIES:AdvertiseRipple,Ripple,Service
ATTACH;FMTTYPE=image/jpeg:https://hopechurchfamily.org/wp-content/uploads/2016/09/communion-400_400.jpg
GEO:52.0381259;-2.1838752
X-APPLE-STRUCTURED-LOCATION;VALUE=URI;X-ADDRESS=Ripple St Mary’s The Cross Ripple GL20 6HA;X-APPLE-RADIUS=500;X-TITLE=The Cross:geo:-2.1838752,52.0381259
END:VEVENT
BEGIN:VEVENT
DTSTART;VALUE=DATE:20280130
DTEND;VALUE=DATE:20280131
DTSTAMP:20260420T024902
CREATED:20240130T103651Z
LAST-MODIFIED:20240130T103651Z
UID:10005093-1832803200-1832889599@hopechurchfamily.org
SUMMARY:Online Service
DESCRIPTION:Join us online for a simple weekly service\, all day\, every Sunday. \nClick here to go to our online service page.
URL:https://hopechurchfamily.org/calendars/online-service/2028-01-30/
CATEGORIES:AdvertiseCroomes,AdvertiseHanleysWelland,AdvertiseRipple,AdvertiseUpton,Service
ATTACH;FMTTYPE=image/jpeg:https://hopechurchfamily.org/wp-content/uploads/2020/03/sunday-service-online-400_400.jpg
END:VEVENT
BEGIN:VEVENT
DTSTART;VALUE=DATE:20280206
DTEND;VALUE=DATE:20280207
DTSTAMP:20260420T024902
CREATED:20240130T103651Z
LAST-MODIFIED:20240130T103651Z
UID:10005094-1833408000-1833494399@hopechurchfamily.org
SUMMARY:Online Service
DESCRIPTION:Join us online for a simple weekly service\, all day\, every Sunday. \nClick here to go to our online service page.
URL:https://hopechurchfamily.org/calendars/online-service/2028-02-06/
CATEGORIES:AdvertiseCroomes,AdvertiseHanleysWelland,AdvertiseRipple,AdvertiseUpton,Service
ATTACH;FMTTYPE=image/jpeg:https://hopechurchfamily.org/wp-content/uploads/2020/03/sunday-service-online-400_400.jpg
END:VEVENT
BEGIN:VEVENT
DTSTART;TZID=Europe/London:20280210T100000
DTEND;TZID=Europe/London:20280210T104500
DTSTAMP:20260420T024902
CREATED:20230614T090617Z
LAST-MODIFIED:20230614T090617Z
UID:10002903-1833789600-1833792300@hopechurchfamily.org
SUMMARY:Holy Communion
DESCRIPTION:A simple\, said\, Common Worship service of Holy Communion.
URL:https://hopechurchfamily.org/calendars/holy-communion-2/2028-02-10/
LOCATION:Hanley Swan\, St Gabriel’s\, Hanley Swan\, Worcestershire\, wr8 0dy\, United Kingdom
CATEGORIES:AdvertiseCroomes,AdvertiseHanleysWelland,AdvertiseRipple,AdvertiseUpton,Hanley Swan,Service
ATTACH;FMTTYPE=image/jpeg:https://hopechurchfamily.org/wp-content/uploads/2016/09/communion-400_400.jpg
GEO:52.0833913;-2.2766275
END:VEVENT
BEGIN:VEVENT
DTSTART;VALUE=DATE:20280213
DTEND;VALUE=DATE:20280214
DTSTAMP:20260420T024902
CREATED:20240130T103651Z
LAST-MODIFIED:20240130T103651Z
UID:10005095-1834012800-1834099199@hopechurchfamily.org
SUMMARY:Online Service
DESCRIPTION:Join us online for a simple weekly service\, all day\, every Sunday. \nClick here to go to our online service page.
URL:https://hopechurchfamily.org/calendars/online-service/2028-02-13/
CATEGORIES:AdvertiseCroomes,AdvertiseHanleysWelland,AdvertiseRipple,AdvertiseUpton,Service
ATTACH;FMTTYPE=image/jpeg:https://hopechurchfamily.org/wp-content/uploads/2020/03/sunday-service-online-400_400.jpg
END:VEVENT
BEGIN:VEVENT
DTSTART;TZID=Europe/London:20280213T110000
DTEND;TZID=Europe/London:20280213T120000
DTSTAMP:20260420T024902
CREATED:20200817T134259Z
LAST-MODIFIED:20260401T121956Z
UID:10004198-1834052400-1834056000@hopechurchfamily.org
SUMMARY:Morning Worship
DESCRIPTION:Join us for a simple\, Morning Worship Service. \nWe sometimes serve refreshments after the service – it’s a great way to get know people. \n 
URL:https://hopechurchfamily.org/calendars/morning-worship-2-2021-05-09-2021-07-11/2028-02-13/
LOCATION:Ripple\, St Mary’s\, The Cross\, Ripple\, GL20 6HA
CATEGORIES:AdvertiseRipple,Ripple,Service
ATTACH;FMTTYPE=image/jpeg:https://hopechurchfamily.org/wp-content/uploads/2016/11/morning-worship-2-400_400.jpg
GEO:52.0381259;-2.1838752
X-APPLE-STRUCTURED-LOCATION;VALUE=URI;X-ADDRESS=Ripple St Mary’s The Cross Ripple GL20 6HA;X-APPLE-RADIUS=500;X-TITLE=The Cross:geo:-2.1838752,52.0381259
END:VEVENT
BEGIN:VEVENT
DTSTART;VALUE=DATE:20280220
DTEND;VALUE=DATE:20280221
DTSTAMP:20260420T024902
CREATED:20240130T103651Z
LAST-MODIFIED:20240130T103651Z
UID:10005096-1834617600-1834703999@hopechurchfamily.org
SUMMARY:Online Service
DESCRIPTION:Join us online for a simple weekly service\, all day\, every Sunday. \nClick here to go to our online service page.
URL:https://hopechurchfamily.org/calendars/online-service/2028-02-20/
CATEGORIES:AdvertiseCroomes,AdvertiseHanleysWelland,AdvertiseRipple,AdvertiseUpton,Service
ATTACH;FMTTYPE=image/jpeg:https://hopechurchfamily.org/wp-content/uploads/2020/03/sunday-service-online-400_400.jpg
END:VEVENT
BEGIN:VEVENT
DTSTART;TZID=Europe/London:20280220T180000
DTEND;TZID=Europe/London:20280220T190000
DTSTAMP:20260420T024902
CREATED:20230214T180001Z
LAST-MODIFIED:20251014T132914Z
UID:10002322-1834682400-1834686000@hopechurchfamily.org
SUMMARY:Choral Evensong
DESCRIPTION:Join us for a traditional choral evensong service\, with music from the Upton Choir.
URL:https://hopechurchfamily.org/calendars/choral-evensong-2/2028-02-20/
LOCATION:Upton\, St Peter and St Paul\, Old Street\, Upton Upon Severn\, Worcestershire\, WR8 0JQ
CATEGORIES:AdvertiseCroomes,AdvertiseHanleysWelland,AdvertiseRipple,AdvertiseUpton,concert,Service,Upton
ATTACH;FMTTYPE=image/jpeg:https://hopechurchfamily.org/wp-content/uploads/2017/01/choral-evensong-400_400.jpg
GEO:52.0613513;-2.2183986
X-APPLE-STRUCTURED-LOCATION;VALUE=URI;X-ADDRESS=Upton St Peter and St Paul Old Street Upton Upon Severn Worcestershire WR8 0JQ;X-APPLE-RADIUS=500;X-TITLE=Old Street:geo:-2.2183986,52.0613513
END:VEVENT
BEGIN:VEVENT
DTSTART;VALUE=DATE:20280227
DTEND;VALUE=DATE:20280228
DTSTAMP:20260420T024902
CREATED:20240130T103651Z
LAST-MODIFIED:20240130T103651Z
UID:10005097-1835222400-1835308799@hopechurchfamily.org
SUMMARY:Online Service
DESCRIPTION:Join us online for a simple weekly service\, all day\, every Sunday. \nClick here to go to our online service page.
URL:https://hopechurchfamily.org/calendars/online-service/2028-02-27/
CATEGORIES:AdvertiseCroomes,AdvertiseHanleysWelland,AdvertiseRipple,AdvertiseUpton,Service
ATTACH;FMTTYPE=image/jpeg:https://hopechurchfamily.org/wp-content/uploads/2020/03/sunday-service-online-400_400.jpg
END:VEVENT
BEGIN:VEVENT
DTSTART;TZID=Europe/London:20280227T110000
DTEND;TZID=Europe/London:20280227T120000
DTSTAMP:20260420T024902
CREATED:20251014T115701Z
LAST-MODIFIED:20251014T133703Z
UID:10006530-1835262000-1835265600@hopechurchfamily.org
SUMMARY:Holy Communion
DESCRIPTION:Join us for a simple service of Holy Communion.
URL:https://hopechurchfamily.org/calendars/holy-communion-10/2028-02-27/
LOCATION:Ripple\, St Mary’s\, The Cross\, Ripple\, GL20 6HA
CATEGORIES:AdvertiseRipple,Ripple,Service
ATTACH;FMTTYPE=image/jpeg:https://hopechurchfamily.org/wp-content/uploads/2016/09/communion-400_400.jpg
GEO:52.0381259;-2.1838752
X-APPLE-STRUCTURED-LOCATION;VALUE=URI;X-ADDRESS=Ripple St Mary’s The Cross Ripple GL20 6HA;X-APPLE-RADIUS=500;X-TITLE=The Cross:geo:-2.1838752,52.0381259
END:VEVENT
BEGIN:VEVENT
DTSTART;VALUE=DATE:20280305
DTEND;VALUE=DATE:20280306
DTSTAMP:20260420T024902
CREATED:20240130T103651Z
LAST-MODIFIED:20240130T103651Z
UID:10005098-1835827200-1835913599@hopechurchfamily.org
SUMMARY:Online Service
DESCRIPTION:Join us online for a simple weekly service\, all day\, every Sunday. \nClick here to go to our online service page.
URL:https://hopechurchfamily.org/calendars/online-service/2028-03-05/
CATEGORIES:AdvertiseCroomes,AdvertiseHanleysWelland,AdvertiseRipple,AdvertiseUpton,Service
ATTACH;FMTTYPE=image/jpeg:https://hopechurchfamily.org/wp-content/uploads/2020/03/sunday-service-online-400_400.jpg
END:VEVENT
BEGIN:VEVENT
DTSTART;TZID=Europe/London:20280309T100000
DTEND;TZID=Europe/London:20280309T104500
DTSTAMP:20260420T024902
CREATED:20230614T090617Z
LAST-MODIFIED:20230614T090617Z
UID:10002904-1836208800-1836211500@hopechurchfamily.org
SUMMARY:Holy Communion
DESCRIPTION:A simple\, said\, Common Worship service of Holy Communion.
URL:https://hopechurchfamily.org/calendars/holy-communion-2/2028-03-09/
LOCATION:Hanley Swan\, St Gabriel’s\, Hanley Swan\, Worcestershire\, wr8 0dy\, United Kingdom
CATEGORIES:AdvertiseCroomes,AdvertiseHanleysWelland,AdvertiseRipple,AdvertiseUpton,Hanley Swan,Service
ATTACH;FMTTYPE=image/jpeg:https://hopechurchfamily.org/wp-content/uploads/2016/09/communion-400_400.jpg
GEO:52.0833913;-2.2766275
END:VEVENT
BEGIN:VEVENT
DTSTART;VALUE=DATE:20280312
DTEND;VALUE=DATE:20280313
DTSTAMP:20260420T024902
CREATED:20240130T103651Z
LAST-MODIFIED:20240130T103651Z
UID:10005099-1836432000-1836518399@hopechurchfamily.org
SUMMARY:Online Service
DESCRIPTION:Join us online for a simple weekly service\, all day\, every Sunday. \nClick here to go to our online service page.
URL:https://hopechurchfamily.org/calendars/online-service/2028-03-12/
CATEGORIES:AdvertiseCroomes,AdvertiseHanleysWelland,AdvertiseRipple,AdvertiseUpton,Service
ATTACH;FMTTYPE=image/jpeg:https://hopechurchfamily.org/wp-content/uploads/2020/03/sunday-service-online-400_400.jpg
END:VEVENT
BEGIN:VEVENT
DTSTART;TZID=Europe/London:20280312T110000
DTEND;TZID=Europe/London:20280312T120000
DTSTAMP:20260420T024902
CREATED:20200817T134259Z
LAST-MODIFIED:20260401T121956Z
UID:10004199-1836471600-1836475200@hopechurchfamily.org
SUMMARY:Morning Worship
DESCRIPTION:Join us for a simple\, Morning Worship Service. \nWe sometimes serve refreshments after the service – it’s a great way to get know people. \n 
URL:https://hopechurchfamily.org/calendars/morning-worship-2-2021-05-09-2021-07-11/2028-03-12/
LOCATION:Ripple\, St Mary’s\, The Cross\, Ripple\, GL20 6HA
CATEGORIES:AdvertiseRipple,Ripple,Service
ATTACH;FMTTYPE=image/jpeg:https://hopechurchfamily.org/wp-content/uploads/2016/11/morning-worship-2-400_400.jpg
GEO:52.0381259;-2.1838752
X-APPLE-STRUCTURED-LOCATION;VALUE=URI;X-ADDRESS=Ripple St Mary’s The Cross Ripple GL20 6HA;X-APPLE-RADIUS=500;X-TITLE=The Cross:geo:-2.1838752,52.0381259
END:VEVENT
BEGIN:VEVENT
DTSTART;VALUE=DATE:20280319
DTEND;VALUE=DATE:20280320
DTSTAMP:20260420T024902
CREATED:20240130T103651Z
LAST-MODIFIED:20240130T103651Z
UID:10005100-1837036800-1837123199@hopechurchfamily.org
SUMMARY:Online Service
DESCRIPTION:Join us online for a simple weekly service\, all day\, every Sunday. \nClick here to go to our online service page.
URL:https://hopechurchfamily.org/calendars/online-service/2028-03-19/
CATEGORIES:AdvertiseCroomes,AdvertiseHanleysWelland,AdvertiseRipple,AdvertiseUpton,Service
ATTACH;FMTTYPE=image/jpeg:https://hopechurchfamily.org/wp-content/uploads/2020/03/sunday-service-online-400_400.jpg
END:VEVENT
END:VCALENDAR