BEGIN:VCALENDAR
VERSION:2.0
PRODID:-//The Hope Church Family - ECPv6.15.20//NONSGML v1.0//EN
CALSCALE:GREGORIAN
METHOD:PUBLISH
X-WR-CALNAME:The Hope Church Family
X-ORIGINAL-URL:https://hopechurchfamily.org
X-WR-CALDESC:Events for The Hope Church Family
REFRESH-INTERVAL;VALUE=DURATION:PT1H
X-Robots-Tag:noindex
X-PUBLISHED-TTL:PT1H
BEGIN:VTIMEZONE
TZID:Europe/London
BEGIN:DAYLIGHT
TZOFFSETFROM:+0000
TZOFFSETTO:+0100
TZNAME:BST
DTSTART:20270328T010000
END:DAYLIGHT
BEGIN:STANDARD
TZOFFSETFROM:+0100
TZOFFSETTO:+0000
TZNAME:GMT
DTSTART:20271031T010000
END:STANDARD
BEGIN:DAYLIGHT
TZOFFSETFROM:+0000
TZOFFSETTO:+0100
TZNAME:BST
DTSTART:20280326T010000
END:DAYLIGHT
BEGIN:STANDARD
TZOFFSETFROM:+0100
TZOFFSETTO:+0000
TZNAME:GMT
DTSTART:20281029T010000
END:STANDARD
BEGIN:DAYLIGHT
TZOFFSETFROM:+0000
TZOFFSETTO:+0100
TZNAME:BST
DTSTART:20290325T010000
END:DAYLIGHT
BEGIN:STANDARD
TZOFFSETFROM:+0100
TZOFFSETTO:+0000
TZNAME:GMT
DTSTART:20291028T010000
END:STANDARD
END:VTIMEZONE
BEGIN:VEVENT
DTSTART;TZID=Europe/London:20280608T100000
DTEND;TZID=Europe/London:20280608T104500
DTSTAMP:20260420T071903
CREATED:20230614T090617Z
LAST-MODIFIED:20230614T090617Z
UID:10002907-1844071200-1844073900@hopechurchfamily.org
SUMMARY:Holy Communion
DESCRIPTION:A simple\, said\, Common Worship service of Holy Communion.
URL:https://hopechurchfamily.org/calendars/holy-communion-2/2028-06-08/
LOCATION:Hanley Swan\, St Gabriel’s\, Hanley Swan\, Worcestershire\, wr8 0dy\, United Kingdom
CATEGORIES:AdvertiseCroomes,AdvertiseHanleysWelland,AdvertiseRipple,AdvertiseUpton,Hanley Swan,Service
ATTACH;FMTTYPE=image/jpeg:https://hopechurchfamily.org/wp-content/uploads/2016/09/communion-400_400.jpg
GEO:52.0833913;-2.2766275
END:VEVENT
BEGIN:VEVENT
DTSTART;VALUE=DATE:20280611
DTEND;VALUE=DATE:20280612
DTSTAMP:20260420T071903
CREATED:20240130T103651Z
LAST-MODIFIED:20240130T103651Z
UID:10005112-1844294400-1844380799@hopechurchfamily.org
SUMMARY:Online Service
DESCRIPTION:Join us online for a simple weekly service\, all day\, every Sunday. \nClick here to go to our online service page.
URL:https://hopechurchfamily.org/calendars/online-service/2028-06-11/
CATEGORIES:AdvertiseCroomes,AdvertiseHanleysWelland,AdvertiseRipple,AdvertiseUpton,Service
ATTACH;FMTTYPE=image/jpeg:https://hopechurchfamily.org/wp-content/uploads/2020/03/sunday-service-online-400_400.jpg
END:VEVENT
BEGIN:VEVENT
DTSTART;TZID=Europe/London:20280611T110000
DTEND;TZID=Europe/London:20280611T120000
DTSTAMP:20260420T071903
CREATED:20200817T134259Z
LAST-MODIFIED:20260401T121956Z
UID:10004202-1844334000-1844337600@hopechurchfamily.org
SUMMARY:Morning Worship
DESCRIPTION:Join us for a simple\, Morning Worship Service. \nWe sometimes serve refreshments after the service – it’s a great way to get know people. \n 
URL:https://hopechurchfamily.org/calendars/morning-worship-2-2021-05-09-2021-07-11/2028-06-11/
LOCATION:Ripple\, St Mary’s\, The Cross\, Ripple\, GL20 6HA
CATEGORIES:AdvertiseRipple,Ripple,Service
ATTACH;FMTTYPE=image/jpeg:https://hopechurchfamily.org/wp-content/uploads/2016/11/morning-worship-2-400_400.jpg
GEO:52.0381259;-2.1838752
X-APPLE-STRUCTURED-LOCATION;VALUE=URI;X-ADDRESS=Ripple St Mary’s The Cross Ripple GL20 6HA;X-APPLE-RADIUS=500;X-TITLE=The Cross:geo:-2.1838752,52.0381259
END:VEVENT
BEGIN:VEVENT
DTSTART;VALUE=DATE:20280618
DTEND;VALUE=DATE:20280619
DTSTAMP:20260420T071903
CREATED:20240130T103651Z
LAST-MODIFIED:20240130T103651Z
UID:10005113-1844899200-1844985599@hopechurchfamily.org
SUMMARY:Online Service
DESCRIPTION:Join us online for a simple weekly service\, all day\, every Sunday. \nClick here to go to our online service page.
URL:https://hopechurchfamily.org/calendars/online-service/2028-06-18/
CATEGORIES:AdvertiseCroomes,AdvertiseHanleysWelland,AdvertiseRipple,AdvertiseUpton,Service
ATTACH;FMTTYPE=image/jpeg:https://hopechurchfamily.org/wp-content/uploads/2020/03/sunday-service-online-400_400.jpg
END:VEVENT
BEGIN:VEVENT
DTSTART;TZID=Europe/London:20280618T180000
DTEND;TZID=Europe/London:20280618T190000
DTSTAMP:20260420T071903
CREATED:20230214T180001Z
LAST-MODIFIED:20251014T132914Z
UID:10002968-1844964000-1844967600@hopechurchfamily.org
SUMMARY:Choral Evensong
DESCRIPTION:Join us for a traditional choral evensong service\, with music from the Upton Choir.
URL:https://hopechurchfamily.org/calendars/choral-evensong-2/2028-06-18/
LOCATION:Upton\, St Peter and St Paul\, Old Street\, Upton Upon Severn\, Worcestershire\, WR8 0JQ
CATEGORIES:AdvertiseCroomes,AdvertiseHanleysWelland,AdvertiseRipple,AdvertiseUpton,concert,Service,Upton
ATTACH;FMTTYPE=image/jpeg:https://hopechurchfamily.org/wp-content/uploads/2017/01/choral-evensong-400_400.jpg
GEO:52.0613513;-2.2183986
X-APPLE-STRUCTURED-LOCATION;VALUE=URI;X-ADDRESS=Upton St Peter and St Paul Old Street Upton Upon Severn Worcestershire WR8 0JQ;X-APPLE-RADIUS=500;X-TITLE=Old Street:geo:-2.2183986,52.0613513
END:VEVENT
BEGIN:VEVENT
DTSTART;VALUE=DATE:20280625
DTEND;VALUE=DATE:20280626
DTSTAMP:20260420T071903
CREATED:20240130T103651Z
LAST-MODIFIED:20240130T103651Z
UID:10005114-1845504000-1845590399@hopechurchfamily.org
SUMMARY:Online Service
DESCRIPTION:Join us online for a simple weekly service\, all day\, every Sunday. \nClick here to go to our online service page.
URL:https://hopechurchfamily.org/calendars/online-service/2028-06-25/
CATEGORIES:AdvertiseCroomes,AdvertiseHanleysWelland,AdvertiseRipple,AdvertiseUpton,Service
ATTACH;FMTTYPE=image/jpeg:https://hopechurchfamily.org/wp-content/uploads/2020/03/sunday-service-online-400_400.jpg
END:VEVENT
BEGIN:VEVENT
DTSTART;TZID=Europe/London:20280625T110000
DTEND;TZID=Europe/London:20280625T120000
DTSTAMP:20260420T071903
CREATED:20251014T115701Z
LAST-MODIFIED:20251014T133703Z
UID:10006534-1845543600-1845547200@hopechurchfamily.org
SUMMARY:Holy Communion
DESCRIPTION:Join us for a simple service of Holy Communion.
URL:https://hopechurchfamily.org/calendars/holy-communion-10/2028-06-25/
LOCATION:Ripple\, St Mary’s\, The Cross\, Ripple\, GL20 6HA
CATEGORIES:AdvertiseRipple,Ripple,Service
ATTACH;FMTTYPE=image/jpeg:https://hopechurchfamily.org/wp-content/uploads/2016/09/communion-400_400.jpg
GEO:52.0381259;-2.1838752
X-APPLE-STRUCTURED-LOCATION;VALUE=URI;X-ADDRESS=Ripple St Mary’s The Cross Ripple GL20 6HA;X-APPLE-RADIUS=500;X-TITLE=The Cross:geo:-2.1838752,52.0381259
END:VEVENT
BEGIN:VEVENT
DTSTART;VALUE=DATE:20280702
DTEND;VALUE=DATE:20280703
DTSTAMP:20260420T071903
CREATED:20240130T103651Z
LAST-MODIFIED:20240130T103651Z
UID:10005115-1846108800-1846195199@hopechurchfamily.org
SUMMARY:Online Service
DESCRIPTION:Join us online for a simple weekly service\, all day\, every Sunday. \nClick here to go to our online service page.
URL:https://hopechurchfamily.org/calendars/online-service/2028-07-02/
CATEGORIES:AdvertiseCroomes,AdvertiseHanleysWelland,AdvertiseRipple,AdvertiseUpton,Service
ATTACH;FMTTYPE=image/jpeg:https://hopechurchfamily.org/wp-content/uploads/2020/03/sunday-service-online-400_400.jpg
END:VEVENT
BEGIN:VEVENT
DTSTART;VALUE=DATE:20280709
DTEND;VALUE=DATE:20280710
DTSTAMP:20260420T071903
CREATED:20240130T103651Z
LAST-MODIFIED:20240130T103651Z
UID:10005116-1846713600-1846799999@hopechurchfamily.org
SUMMARY:Online Service
DESCRIPTION:Join us online for a simple weekly service\, all day\, every Sunday. \nClick here to go to our online service page.
URL:https://hopechurchfamily.org/calendars/online-service/2028-07-09/
CATEGORIES:AdvertiseCroomes,AdvertiseHanleysWelland,AdvertiseRipple,AdvertiseUpton,Service
ATTACH;FMTTYPE=image/jpeg:https://hopechurchfamily.org/wp-content/uploads/2020/03/sunday-service-online-400_400.jpg
END:VEVENT
BEGIN:VEVENT
DTSTART;TZID=Europe/London:20280709T110000
DTEND;TZID=Europe/London:20280709T120000
DTSTAMP:20260420T071903
CREATED:20200817T134259Z
LAST-MODIFIED:20260401T121956Z
UID:10004203-1846753200-1846756800@hopechurchfamily.org
SUMMARY:Morning Worship
DESCRIPTION:Join us for a simple\, Morning Worship Service. \nWe sometimes serve refreshments after the service – it’s a great way to get know people. \n 
URL:https://hopechurchfamily.org/calendars/morning-worship-2-2021-05-09-2021-07-11/2028-07-09/
LOCATION:Ripple\, St Mary’s\, The Cross\, Ripple\, GL20 6HA
CATEGORIES:AdvertiseRipple,Ripple,Service
ATTACH;FMTTYPE=image/jpeg:https://hopechurchfamily.org/wp-content/uploads/2016/11/morning-worship-2-400_400.jpg
GEO:52.0381259;-2.1838752
X-APPLE-STRUCTURED-LOCATION;VALUE=URI;X-ADDRESS=Ripple St Mary’s The Cross Ripple GL20 6HA;X-APPLE-RADIUS=500;X-TITLE=The Cross:geo:-2.1838752,52.0381259
END:VEVENT
BEGIN:VEVENT
DTSTART;TZID=Europe/London:20280713T100000
DTEND;TZID=Europe/London:20280713T104500
DTSTAMP:20260420T071903
CREATED:20230614T090617Z
LAST-MODIFIED:20230614T090617Z
UID:10003608-1847095200-1847097900@hopechurchfamily.org
SUMMARY:Holy Communion
DESCRIPTION:A simple\, said\, Common Worship service of Holy Communion.
URL:https://hopechurchfamily.org/calendars/holy-communion-2/2028-07-13/
LOCATION:Hanley Swan\, St Gabriel’s\, Hanley Swan\, Worcestershire\, wr8 0dy\, United Kingdom
CATEGORIES:AdvertiseCroomes,AdvertiseHanleysWelland,AdvertiseRipple,AdvertiseUpton,Hanley Swan,Service
ATTACH;FMTTYPE=image/jpeg:https://hopechurchfamily.org/wp-content/uploads/2016/09/communion-400_400.jpg
GEO:52.0833913;-2.2766275
END:VEVENT
BEGIN:VEVENT
DTSTART;VALUE=DATE:20280716
DTEND;VALUE=DATE:20280717
DTSTAMP:20260420T071903
CREATED:20240130T103651Z
LAST-MODIFIED:20240130T103651Z
UID:10005117-1847318400-1847404799@hopechurchfamily.org
SUMMARY:Online Service
DESCRIPTION:Join us online for a simple weekly service\, all day\, every Sunday. \nClick here to go to our online service page.
URL:https://hopechurchfamily.org/calendars/online-service/2028-07-16/
CATEGORIES:AdvertiseCroomes,AdvertiseHanleysWelland,AdvertiseRipple,AdvertiseUpton,Service
ATTACH;FMTTYPE=image/jpeg:https://hopechurchfamily.org/wp-content/uploads/2020/03/sunday-service-online-400_400.jpg
END:VEVENT
BEGIN:VEVENT
DTSTART;TZID=Europe/London:20280716T180000
DTEND;TZID=Europe/London:20280716T190000
DTSTAMP:20260420T071903
CREATED:20230214T180001Z
LAST-MODIFIED:20251014T132914Z
UID:10002972-1847383200-1847386800@hopechurchfamily.org
SUMMARY:Choral Evensong
DESCRIPTION:Join us for a traditional choral evensong service\, with music from the Upton Choir.
URL:https://hopechurchfamily.org/calendars/choral-evensong-2/2028-07-16/
LOCATION:Upton\, St Peter and St Paul\, Old Street\, Upton Upon Severn\, Worcestershire\, WR8 0JQ
CATEGORIES:AdvertiseCroomes,AdvertiseHanleysWelland,AdvertiseRipple,AdvertiseUpton,concert,Service,Upton
ATTACH;FMTTYPE=image/jpeg:https://hopechurchfamily.org/wp-content/uploads/2017/01/choral-evensong-400_400.jpg
GEO:52.0613513;-2.2183986
X-APPLE-STRUCTURED-LOCATION;VALUE=URI;X-ADDRESS=Upton St Peter and St Paul Old Street Upton Upon Severn Worcestershire WR8 0JQ;X-APPLE-RADIUS=500;X-TITLE=Old Street:geo:-2.2183986,52.0613513
END:VEVENT
BEGIN:VEVENT
DTSTART;VALUE=DATE:20280723
DTEND;VALUE=DATE:20280724
DTSTAMP:20260420T071903
CREATED:20240130T103651Z
LAST-MODIFIED:20240130T103651Z
UID:10005118-1847923200-1848009599@hopechurchfamily.org
SUMMARY:Online Service
DESCRIPTION:Join us online for a simple weekly service\, all day\, every Sunday. \nClick here to go to our online service page.
URL:https://hopechurchfamily.org/calendars/online-service/2028-07-23/
CATEGORIES:AdvertiseCroomes,AdvertiseHanleysWelland,AdvertiseRipple,AdvertiseUpton,Service
ATTACH;FMTTYPE=image/jpeg:https://hopechurchfamily.org/wp-content/uploads/2020/03/sunday-service-online-400_400.jpg
END:VEVENT
BEGIN:VEVENT
DTSTART;TZID=Europe/London:20280723T110000
DTEND;TZID=Europe/London:20280723T120000
DTSTAMP:20260420T071903
CREATED:20251014T115701Z
LAST-MODIFIED:20251014T133703Z
UID:10006535-1847962800-1847966400@hopechurchfamily.org
SUMMARY:Holy Communion
DESCRIPTION:Join us for a simple service of Holy Communion.
URL:https://hopechurchfamily.org/calendars/holy-communion-10/2028-07-23/
LOCATION:Ripple\, St Mary’s\, The Cross\, Ripple\, GL20 6HA
CATEGORIES:AdvertiseRipple,Ripple,Service
ATTACH;FMTTYPE=image/jpeg:https://hopechurchfamily.org/wp-content/uploads/2016/09/communion-400_400.jpg
GEO:52.0381259;-2.1838752
X-APPLE-STRUCTURED-LOCATION;VALUE=URI;X-ADDRESS=Ripple St Mary’s The Cross Ripple GL20 6HA;X-APPLE-RADIUS=500;X-TITLE=The Cross:geo:-2.1838752,52.0381259
END:VEVENT
BEGIN:VEVENT
DTSTART;VALUE=DATE:20280730
DTEND;VALUE=DATE:20280731
DTSTAMP:20260420T071903
CREATED:20240130T103651Z
LAST-MODIFIED:20240130T103651Z
UID:10005119-1848528000-1848614399@hopechurchfamily.org
SUMMARY:Online Service
DESCRIPTION:Join us online for a simple weekly service\, all day\, every Sunday. \nClick here to go to our online service page.
URL:https://hopechurchfamily.org/calendars/online-service/2028-07-30/
CATEGORIES:AdvertiseCroomes,AdvertiseHanleysWelland,AdvertiseRipple,AdvertiseUpton,Service
ATTACH;FMTTYPE=image/jpeg:https://hopechurchfamily.org/wp-content/uploads/2020/03/sunday-service-online-400_400.jpg
END:VEVENT
BEGIN:VEVENT
DTSTART;VALUE=DATE:20280806
DTEND;VALUE=DATE:20280807
DTSTAMP:20260420T071903
CREATED:20240130T103651Z
LAST-MODIFIED:20240130T103651Z
UID:10005120-1849132800-1849219199@hopechurchfamily.org
SUMMARY:Online Service
DESCRIPTION:Join us online for a simple weekly service\, all day\, every Sunday. \nClick here to go to our online service page.
URL:https://hopechurchfamily.org/calendars/online-service/2028-08-06/
CATEGORIES:AdvertiseCroomes,AdvertiseHanleysWelland,AdvertiseRipple,AdvertiseUpton,Service
ATTACH;FMTTYPE=image/jpeg:https://hopechurchfamily.org/wp-content/uploads/2020/03/sunday-service-online-400_400.jpg
END:VEVENT
BEGIN:VEVENT
DTSTART;TZID=Europe/London:20280810T100000
DTEND;TZID=Europe/London:20280810T104500
DTSTAMP:20260420T071903
CREATED:20230614T090617Z
LAST-MODIFIED:20230614T090617Z
UID:10003609-1849514400-1849517100@hopechurchfamily.org
SUMMARY:Holy Communion
DESCRIPTION:A simple\, said\, Common Worship service of Holy Communion.
URL:https://hopechurchfamily.org/calendars/holy-communion-2/2028-08-10/
LOCATION:Hanley Swan\, St Gabriel’s\, Hanley Swan\, Worcestershire\, wr8 0dy\, United Kingdom
CATEGORIES:AdvertiseCroomes,AdvertiseHanleysWelland,AdvertiseRipple,AdvertiseUpton,Hanley Swan,Service
ATTACH;FMTTYPE=image/jpeg:https://hopechurchfamily.org/wp-content/uploads/2016/09/communion-400_400.jpg
GEO:52.0833913;-2.2766275
END:VEVENT
BEGIN:VEVENT
DTSTART;VALUE=DATE:20280813
DTEND;VALUE=DATE:20280814
DTSTAMP:20260420T071903
CREATED:20240130T103651Z
LAST-MODIFIED:20240130T103651Z
UID:10005121-1849737600-1849823999@hopechurchfamily.org
SUMMARY:Online Service
DESCRIPTION:Join us online for a simple weekly service\, all day\, every Sunday. \nClick here to go to our online service page.
URL:https://hopechurchfamily.org/calendars/online-service/2028-08-13/
CATEGORIES:AdvertiseCroomes,AdvertiseHanleysWelland,AdvertiseRipple,AdvertiseUpton,Service
ATTACH;FMTTYPE=image/jpeg:https://hopechurchfamily.org/wp-content/uploads/2020/03/sunday-service-online-400_400.jpg
END:VEVENT
BEGIN:VEVENT
DTSTART;TZID=Europe/London:20280813T110000
DTEND;TZID=Europe/London:20280813T120000
DTSTAMP:20260420T071903
CREATED:20200817T134259Z
LAST-MODIFIED:20260401T121956Z
UID:10004204-1849777200-1849780800@hopechurchfamily.org
SUMMARY:Morning Worship
DESCRIPTION:Join us for a simple\, Morning Worship Service. \nWe sometimes serve refreshments after the service – it’s a great way to get know people. \n 
URL:https://hopechurchfamily.org/calendars/morning-worship-2-2021-05-09-2021-07-11/2028-08-13/
LOCATION:Ripple\, St Mary’s\, The Cross\, Ripple\, GL20 6HA
CATEGORIES:AdvertiseRipple,Ripple,Service
ATTACH;FMTTYPE=image/jpeg:https://hopechurchfamily.org/wp-content/uploads/2016/11/morning-worship-2-400_400.jpg
GEO:52.0381259;-2.1838752
X-APPLE-STRUCTURED-LOCATION;VALUE=URI;X-ADDRESS=Ripple St Mary’s The Cross Ripple GL20 6HA;X-APPLE-RADIUS=500;X-TITLE=The Cross:geo:-2.1838752,52.0381259
END:VEVENT
BEGIN:VEVENT
DTSTART;VALUE=DATE:20280820
DTEND;VALUE=DATE:20280821
DTSTAMP:20260420T071903
CREATED:20240130T103651Z
LAST-MODIFIED:20240130T103651Z
UID:10005122-1850342400-1850428799@hopechurchfamily.org
SUMMARY:Online Service
DESCRIPTION:Join us online for a simple weekly service\, all day\, every Sunday. \nClick here to go to our online service page.
URL:https://hopechurchfamily.org/calendars/online-service/2028-08-20/
CATEGORIES:AdvertiseCroomes,AdvertiseHanleysWelland,AdvertiseRipple,AdvertiseUpton,Service
ATTACH;FMTTYPE=image/jpeg:https://hopechurchfamily.org/wp-content/uploads/2020/03/sunday-service-online-400_400.jpg
END:VEVENT
BEGIN:VEVENT
DTSTART;TZID=Europe/London:20280820T180000
DTEND;TZID=Europe/London:20280820T190000
DTSTAMP:20260420T071903
CREATED:20230214T180001Z
LAST-MODIFIED:20251014T132914Z
UID:10003099-1850407200-1850410800@hopechurchfamily.org
SUMMARY:Choral Evensong
DESCRIPTION:Join us for a traditional choral evensong service\, with music from the Upton Choir.
URL:https://hopechurchfamily.org/calendars/choral-evensong-2/2028-08-20/
LOCATION:Upton\, St Peter and St Paul\, Old Street\, Upton Upon Severn\, Worcestershire\, WR8 0JQ
CATEGORIES:AdvertiseCroomes,AdvertiseHanleysWelland,AdvertiseRipple,AdvertiseUpton,concert,Service,Upton
ATTACH;FMTTYPE=image/jpeg:https://hopechurchfamily.org/wp-content/uploads/2017/01/choral-evensong-400_400.jpg
GEO:52.0613513;-2.2183986
X-APPLE-STRUCTURED-LOCATION;VALUE=URI;X-ADDRESS=Upton St Peter and St Paul Old Street Upton Upon Severn Worcestershire WR8 0JQ;X-APPLE-RADIUS=500;X-TITLE=Old Street:geo:-2.2183986,52.0613513
END:VEVENT
BEGIN:VEVENT
DTSTART;VALUE=DATE:20280827
DTEND;VALUE=DATE:20280828
DTSTAMP:20260420T071903
CREATED:20240130T103651Z
LAST-MODIFIED:20240130T103651Z
UID:10005123-1850947200-1851033599@hopechurchfamily.org
SUMMARY:Online Service
DESCRIPTION:Join us online for a simple weekly service\, all day\, every Sunday. \nClick here to go to our online service page.
URL:https://hopechurchfamily.org/calendars/online-service/2028-08-27/
CATEGORIES:AdvertiseCroomes,AdvertiseHanleysWelland,AdvertiseRipple,AdvertiseUpton,Service
ATTACH;FMTTYPE=image/jpeg:https://hopechurchfamily.org/wp-content/uploads/2020/03/sunday-service-online-400_400.jpg
END:VEVENT
BEGIN:VEVENT
DTSTART;TZID=Europe/London:20280827T110000
DTEND;TZID=Europe/London:20280827T120000
DTSTAMP:20260420T071903
CREATED:20251014T115701Z
LAST-MODIFIED:20251014T133703Z
UID:10006536-1850986800-1850990400@hopechurchfamily.org
SUMMARY:Holy Communion
DESCRIPTION:Join us for a simple service of Holy Communion.
URL:https://hopechurchfamily.org/calendars/holy-communion-10/2028-08-27/
LOCATION:Ripple\, St Mary’s\, The Cross\, Ripple\, GL20 6HA
CATEGORIES:AdvertiseRipple,Ripple,Service
ATTACH;FMTTYPE=image/jpeg:https://hopechurchfamily.org/wp-content/uploads/2016/09/communion-400_400.jpg
GEO:52.0381259;-2.1838752
X-APPLE-STRUCTURED-LOCATION;VALUE=URI;X-ADDRESS=Ripple St Mary’s The Cross Ripple GL20 6HA;X-APPLE-RADIUS=500;X-TITLE=The Cross:geo:-2.1838752,52.0381259
END:VEVENT
BEGIN:VEVENT
DTSTART;VALUE=DATE:20280903
DTEND;VALUE=DATE:20280904
DTSTAMP:20260420T071903
CREATED:20240130T103651Z
LAST-MODIFIED:20240130T103651Z
UID:10005124-1851552000-1851638399@hopechurchfamily.org
SUMMARY:Online Service
DESCRIPTION:Join us online for a simple weekly service\, all day\, every Sunday. \nClick here to go to our online service page.
URL:https://hopechurchfamily.org/calendars/online-service/2028-09-03/
CATEGORIES:AdvertiseCroomes,AdvertiseHanleysWelland,AdvertiseRipple,AdvertiseUpton,Service
ATTACH;FMTTYPE=image/jpeg:https://hopechurchfamily.org/wp-content/uploads/2020/03/sunday-service-online-400_400.jpg
END:VEVENT
BEGIN:VEVENT
DTSTART;VALUE=DATE:20280910
DTEND;VALUE=DATE:20280911
DTSTAMP:20260420T071903
CREATED:20240130T103651Z
LAST-MODIFIED:20240130T103651Z
UID:10005125-1852156800-1852243199@hopechurchfamily.org
SUMMARY:Online Service
DESCRIPTION:Join us online for a simple weekly service\, all day\, every Sunday. \nClick here to go to our online service page.
URL:https://hopechurchfamily.org/calendars/online-service/2028-09-10/
CATEGORIES:AdvertiseCroomes,AdvertiseHanleysWelland,AdvertiseRipple,AdvertiseUpton,Service
ATTACH;FMTTYPE=image/jpeg:https://hopechurchfamily.org/wp-content/uploads/2020/03/sunday-service-online-400_400.jpg
END:VEVENT
BEGIN:VEVENT
DTSTART;TZID=Europe/London:20280910T110000
DTEND;TZID=Europe/London:20280910T120000
DTSTAMP:20260420T071903
CREATED:20200817T134259Z
LAST-MODIFIED:20260401T121956Z
UID:10004205-1852196400-1852200000@hopechurchfamily.org
SUMMARY:Morning Worship
DESCRIPTION:Join us for a simple\, Morning Worship Service. \nWe sometimes serve refreshments after the service – it’s a great way to get know people. \n 
URL:https://hopechurchfamily.org/calendars/morning-worship-2-2021-05-09-2021-07-11/2028-09-10/
LOCATION:Ripple\, St Mary’s\, The Cross\, Ripple\, GL20 6HA
CATEGORIES:AdvertiseRipple,Ripple,Service
ATTACH;FMTTYPE=image/jpeg:https://hopechurchfamily.org/wp-content/uploads/2016/11/morning-worship-2-400_400.jpg
GEO:52.0381259;-2.1838752
X-APPLE-STRUCTURED-LOCATION;VALUE=URI;X-ADDRESS=Ripple St Mary’s The Cross Ripple GL20 6HA;X-APPLE-RADIUS=500;X-TITLE=The Cross:geo:-2.1838752,52.0381259
END:VEVENT
BEGIN:VEVENT
DTSTART;TZID=Europe/London:20280914T100000
DTEND;TZID=Europe/London:20280914T104500
DTSTAMP:20260420T071903
CREATED:20230614T090617Z
LAST-MODIFIED:20230614T090617Z
UID:10003610-1852538400-1852541100@hopechurchfamily.org
SUMMARY:Holy Communion
DESCRIPTION:A simple\, said\, Common Worship service of Holy Communion.
URL:https://hopechurchfamily.org/calendars/holy-communion-2/2028-09-14/
LOCATION:Hanley Swan\, St Gabriel’s\, Hanley Swan\, Worcestershire\, wr8 0dy\, United Kingdom
CATEGORIES:AdvertiseCroomes,AdvertiseHanleysWelland,AdvertiseRipple,AdvertiseUpton,Hanley Swan,Service
ATTACH;FMTTYPE=image/jpeg:https://hopechurchfamily.org/wp-content/uploads/2016/09/communion-400_400.jpg
GEO:52.0833913;-2.2766275
END:VEVENT
BEGIN:VEVENT
DTSTART;VALUE=DATE:20280917
DTEND;VALUE=DATE:20280918
DTSTAMP:20260420T071903
CREATED:20240130T103651Z
LAST-MODIFIED:20240130T103651Z
UID:10005126-1852761600-1852847999@hopechurchfamily.org
SUMMARY:Online Service
DESCRIPTION:Join us online for a simple weekly service\, all day\, every Sunday. \nClick here to go to our online service page.
URL:https://hopechurchfamily.org/calendars/online-service/2028-09-17/
CATEGORIES:AdvertiseCroomes,AdvertiseHanleysWelland,AdvertiseRipple,AdvertiseUpton,Service
ATTACH;FMTTYPE=image/jpeg:https://hopechurchfamily.org/wp-content/uploads/2020/03/sunday-service-online-400_400.jpg
END:VEVENT
BEGIN:VEVENT
DTSTART;TZID=Europe/London:20280917T180000
DTEND;TZID=Europe/London:20280917T190000
DTSTAMP:20260420T071903
CREATED:20230214T180001Z
LAST-MODIFIED:20251014T132914Z
UID:10003176-1852826400-1852830000@hopechurchfamily.org
SUMMARY:Choral Evensong
DESCRIPTION:Join us for a traditional choral evensong service\, with music from the Upton Choir.
URL:https://hopechurchfamily.org/calendars/choral-evensong-2/2028-09-17/
LOCATION:Upton\, St Peter and St Paul\, Old Street\, Upton Upon Severn\, Worcestershire\, WR8 0JQ
CATEGORIES:AdvertiseCroomes,AdvertiseHanleysWelland,AdvertiseRipple,AdvertiseUpton,concert,Service,Upton
ATTACH;FMTTYPE=image/jpeg:https://hopechurchfamily.org/wp-content/uploads/2017/01/choral-evensong-400_400.jpg
GEO:52.0613513;-2.2183986
X-APPLE-STRUCTURED-LOCATION;VALUE=URI;X-ADDRESS=Upton St Peter and St Paul Old Street Upton Upon Severn Worcestershire WR8 0JQ;X-APPLE-RADIUS=500;X-TITLE=Old Street:geo:-2.2183986,52.0613513
END:VEVENT
END:VCALENDAR