BEGIN:VCALENDAR
VERSION:2.0
PRODID:-//The Hope Church Family - ECPv6.15.20//NONSGML v1.0//EN
CALSCALE:GREGORIAN
METHOD:PUBLISH
X-ORIGINAL-URL:https://hopechurchfamily.org
X-WR-CALDESC:Events for The Hope Church Family
REFRESH-INTERVAL;VALUE=DURATION:PT1H
X-Robots-Tag:noindex
X-PUBLISHED-TTL:PT1H
BEGIN:VTIMEZONE
TZID:Europe/London
BEGIN:DAYLIGHT
TZOFFSETFROM:+0000
TZOFFSETTO:+0100
TZNAME:BST
DTSTART:20250330T010000
END:DAYLIGHT
BEGIN:STANDARD
TZOFFSETFROM:+0100
TZOFFSETTO:+0000
TZNAME:GMT
DTSTART:20251026T010000
END:STANDARD
BEGIN:DAYLIGHT
TZOFFSETFROM:+0000
TZOFFSETTO:+0100
TZNAME:BST
DTSTART:20260329T010000
END:DAYLIGHT
BEGIN:STANDARD
TZOFFSETFROM:+0100
TZOFFSETTO:+0000
TZNAME:GMT
DTSTART:20261025T010000
END:STANDARD
BEGIN:DAYLIGHT
TZOFFSETFROM:+0000
TZOFFSETTO:+0100
TZNAME:BST
DTSTART:20270328T010000
END:DAYLIGHT
BEGIN:STANDARD
TZOFFSETFROM:+0100
TZOFFSETTO:+0000
TZNAME:GMT
DTSTART:20271031T010000
END:STANDARD
END:VTIMEZONE
BEGIN:VEVENT
DTSTART;TZID=Europe/London:20260517T180000
DTEND;TZID=Europe/London:20260517T190000
DTSTAMP:20260424T010553
CREATED:20230214T180001Z
LAST-MODIFIED:20251014T132914Z
UID:10002301-1779040800-1779044400@hopechurchfamily.org
SUMMARY:Choral Evensong
DESCRIPTION:Join us for a traditional choral evensong service\, with music from the Upton Choir.
URL:https://hopechurchfamily.org/calendars/choral-evensong-2/2026-05-17/
LOCATION:Upton\, St Peter and St Paul\, Old Street\, Upton Upon Severn\, Worcestershire\, WR8 0JQ
CATEGORIES:AdvertiseCroomes,AdvertiseHanleysWelland,AdvertiseRipple,AdvertiseUpton,concert,Service,Upton
ATTACH;FMTTYPE=image/jpeg:https://hopechurchfamily.org/wp-content/uploads/2017/01/choral-evensong-400_400.jpg
GEO:52.0613513;-2.2183986
X-APPLE-STRUCTURED-LOCATION;VALUE=URI;X-ADDRESS=Upton St Peter and St Paul Old Street Upton Upon Severn Worcestershire WR8 0JQ;X-APPLE-RADIUS=500;X-TITLE=Old Street:geo:-2.2183986,52.0613513
END:VEVENT
BEGIN:VEVENT
DTSTART;VALUE=DATE:20260524
DTEND;VALUE=DATE:20260525
DTSTAMP:20260424T010553
CREATED:20240130T103651Z
LAST-MODIFIED:20240130T103651Z
UID:10005005-1779580800-1779667199@hopechurchfamily.org
SUMMARY:Online Service
DESCRIPTION:Join us online for a simple weekly service\, all day\, every Sunday. \nClick here to go to our online service page.
URL:https://hopechurchfamily.org/calendars/online-service/2026-05-24/
LOCATION:Worcestershire
CATEGORIES:AdvertiseCroomes,AdvertiseHanleysWelland,AdvertiseRipple,AdvertiseUpton,Service
ATTACH;FMTTYPE=image/jpeg:https://hopechurchfamily.org/wp-content/uploads/2020/03/sunday-service-online-400_400.jpg
END:VEVENT
BEGIN:VEVENT
DTSTART;TZID=Europe/London:20260524T093000
DTEND;TZID=Europe/London:20260524T103000
DTSTAMP:20260424T010553
CREATED:20201201T090755Z
LAST-MODIFIED:20251014T133608Z
UID:10004851-1779615000-1779618600@hopechurchfamily.org
SUMMARY:Morning Worship
DESCRIPTION:Join us for a simple Morning service\, with readings\, prayers\, hymns and a sermon.
URL:https://hopechurchfamily.org/calendars/a-service-of-readings-and-carols-2021-01-17-2021-01-24/2026-05-24/
LOCATION:Upton\, St Peter and St Paul\, Old Street\, Upton Upon Severn\, Worcestershire\, WR8 0JQ
CATEGORIES:AdvertiseUpton,Hook,Upton
ATTACH;FMTTYPE=image/jpeg:https://hopechurchfamily.org/wp-content/uploads/2016/11/morning-worship-2-400_400.jpg
GEO:52.0613513;-2.2183986
X-APPLE-STRUCTURED-LOCATION;VALUE=URI;X-ADDRESS=Upton St Peter and St Paul Old Street Upton Upon Severn Worcestershire WR8 0JQ;X-APPLE-RADIUS=500;X-TITLE=Old Street:geo:-2.2183986,52.0613513
END:VEVENT
BEGIN:VEVENT
DTSTART;VALUE=DATE:20260531
DTEND;VALUE=DATE:20260601
DTSTAMP:20260424T010553
CREATED:20240130T103651Z
LAST-MODIFIED:20240130T103651Z
UID:10005006-1780185600-1780271999@hopechurchfamily.org
SUMMARY:Online Service
DESCRIPTION:Join us online for a simple weekly service\, all day\, every Sunday. \nClick here to go to our online service page.
URL:https://hopechurchfamily.org/calendars/online-service/2026-05-31/
LOCATION:Worcestershire
CATEGORIES:AdvertiseCroomes,AdvertiseHanleysWelland,AdvertiseRipple,AdvertiseUpton,Service
ATTACH;FMTTYPE=image/jpeg:https://hopechurchfamily.org/wp-content/uploads/2020/03/sunday-service-online-400_400.jpg
END:VEVENT
BEGIN:VEVENT
DTSTART;TZID=Europe/London:20260531T103000
DTEND;TZID=Europe/London:20260531T120000
DTSTAMP:20260424T010553
CREATED:20260401T124429Z
LAST-MODIFIED:20260401T124520Z
UID:10008051-1780223400-1780228800@hopechurchfamily.org
SUMMARY:Holy Communion
DESCRIPTION:Join us for a combined “benefice” holy communion\, as all our churches come together to celebrate Trinity Sunday\, with refreshments afterwards.
URL:https://hopechurchfamily.org/calendars/holy-communion-21/
LOCATION:Ripple\, St Mary’s\, The Cross\, Ripple\, GL20 6HA
CATEGORIES:AdvertiseCroomes,AdvertiseHanleysWelland,AdvertiseRipple,AdvertiseUpton,Ripple,Service
ATTACH;FMTTYPE=image/jpeg:https://hopechurchfamily.org/wp-content/uploads/2016/09/communion-400_400.jpg
GEO:52.0381259;-2.1838752
X-APPLE-STRUCTURED-LOCATION;VALUE=URI;X-ADDRESS=Ripple St Mary’s The Cross Ripple GL20 6HA;X-APPLE-RADIUS=500;X-TITLE=The Cross:geo:-2.1838752,52.0381259
END:VEVENT
BEGIN:VEVENT
DTSTART;VALUE=DATE:20260607
DTEND;VALUE=DATE:20260608
DTSTAMP:20260424T010553
CREATED:20240130T103651Z
LAST-MODIFIED:20240130T103651Z
UID:10005007-1780790400-1780876799@hopechurchfamily.org
SUMMARY:Online Service
DESCRIPTION:Join us online for a simple weekly service\, all day\, every Sunday. \nClick here to go to our online service page.
URL:https://hopechurchfamily.org/calendars/online-service/2026-06-07/
LOCATION:Worcestershire
CATEGORIES:AdvertiseCroomes,AdvertiseHanleysWelland,AdvertiseRipple,AdvertiseUpton,Service
ATTACH;FMTTYPE=image/jpeg:https://hopechurchfamily.org/wp-content/uploads/2020/03/sunday-service-online-400_400.jpg
END:VEVENT
BEGIN:VEVENT
DTSTART;TZID=Europe/London:20260607T110000
DTEND;TZID=Europe/London:20260607T120000
DTSTAMP:20260424T010553
CREATED:20251229T001840Z
LAST-MODIFIED:20260401T123854Z
UID:10007234-1780830000-1780833600@hopechurchfamily.org
SUMMARY:Holy Communion
DESCRIPTION:Join us for a simple service of Holy Communion.
URL:https://hopechurchfamily.org/calendars/holy-communion-13/2026-06-07/
LOCATION:Hook\, Church of the Good Shepherd\, Hook Common\, Worcestershire\, WR8 0JQ\, United Kingdom
CATEGORIES:AdvertiseUpton,All,Hook,Service
ATTACH;FMTTYPE=image/jpeg:https://hopechurchfamily.org/wp-content/uploads/2016/09/communion-400_400.jpg
GEO:52.0632147;-2.2616535
END:VEVENT
BEGIN:VEVENT
DTSTART;TZID=Europe/London:20260607T110000
DTEND;TZID=Europe/London:20260607T120000
DTSTAMP:20260424T010553
CREATED:20260401T120057Z
LAST-MODIFIED:20260401T120057Z
UID:10007912-1780830000-1780833600@hopechurchfamily.org
SUMMARY:Holy Communion
DESCRIPTION:Join us for a simple service of Holy Communion.
URL:https://hopechurchfamily.org/calendars/holy-communion-15/
LOCATION:Hook\, Church of the Good Shepherd\, Hook Common\, Worcestershire\, WR8 0JQ\, United Kingdom
CATEGORIES:AdvertiseUpton,All,Easter,EasterSunday,Hook,Service
ATTACH;FMTTYPE=image/jpeg:https://hopechurchfamily.org/wp-content/uploads/2018/02/easter400_400.jpg
GEO:52.0632147;-2.2616535
END:VEVENT
BEGIN:VEVENT
DTSTART;TZID=Europe/London:20260611T100000
DTEND;TZID=Europe/London:20260611T104500
DTSTAMP:20260424T010553
CREATED:20230614T090617Z
LAST-MODIFIED:20230614T090617Z
UID:10002883-1781172000-1781174700@hopechurchfamily.org
SUMMARY:Holy Communion
DESCRIPTION:A simple\, said\, Common Worship service of Holy Communion.
URL:https://hopechurchfamily.org/calendars/holy-communion-2/2026-06-11/
LOCATION:Hanley Swan\, St Gabriel’s\, Hanley Swan\, Worcestershire\, wr8 0dy\, United Kingdom
CATEGORIES:AdvertiseCroomes,AdvertiseHanleysWelland,AdvertiseRipple,AdvertiseUpton,Hanley Swan,Service
ATTACH;FMTTYPE=image/jpeg:https://hopechurchfamily.org/wp-content/uploads/2016/09/communion-400_400.jpg
GEO:52.0833913;-2.2766275
END:VEVENT
BEGIN:VEVENT
DTSTART;VALUE=DATE:20260614
DTEND;VALUE=DATE:20260615
DTSTAMP:20260424T010553
CREATED:20240130T103651Z
LAST-MODIFIED:20240130T103651Z
UID:10005008-1781395200-1781481599@hopechurchfamily.org
SUMMARY:Online Service
DESCRIPTION:Join us online for a simple weekly service\, all day\, every Sunday. \nClick here to go to our online service page.
URL:https://hopechurchfamily.org/calendars/online-service/2026-06-14/
LOCATION:Worcestershire
CATEGORIES:AdvertiseCroomes,AdvertiseHanleysWelland,AdvertiseRipple,AdvertiseUpton,Service
ATTACH;FMTTYPE=image/jpeg:https://hopechurchfamily.org/wp-content/uploads/2020/03/sunday-service-online-400_400.jpg
END:VEVENT
BEGIN:VEVENT
DTSTART;TZID=Europe/London:20260614T093000
DTEND;TZID=Europe/London:20260614T103000
DTSTAMP:20260424T010553
CREATED:20220706T090642Z
LAST-MODIFIED:20260401T123648Z
UID:10004058-1781429400-1781433000@hopechurchfamily.org
SUMMARY:Holy Communion
DESCRIPTION:Join us for a service of Holy Communion\, featuring the Upton Choir. \nRefreshments afterwards.
URL:https://hopechurchfamily.org/calendars/holy-communion-3/2026-06-14/
LOCATION:Upton\, St Peter and St Paul\, Old Street\, Upton Upon Severn\, Worcestershire\, WR8 0JQ
CATEGORIES:AdvertiseUpton,Service,Upton
ATTACH;FMTTYPE=image/jpeg:https://hopechurchfamily.org/wp-content/uploads/2016/09/communion-400_400.jpg
GEO:52.0613513;-2.2183986
X-APPLE-STRUCTURED-LOCATION;VALUE=URI;X-ADDRESS=Upton St Peter and St Paul Old Street Upton Upon Severn Worcestershire WR8 0JQ;X-APPLE-RADIUS=500;X-TITLE=Old Street:geo:-2.2183986,52.0613513
END:VEVENT
BEGIN:VEVENT
DTSTART;VALUE=DATE:20260621
DTEND;VALUE=DATE:20260622
DTSTAMP:20260424T010553
CREATED:20240130T103651Z
LAST-MODIFIED:20240130T103651Z
UID:10005009-1782000000-1782086399@hopechurchfamily.org
SUMMARY:Online Service
DESCRIPTION:Join us online for a simple weekly service\, all day\, every Sunday. \nClick here to go to our online service page.
URL:https://hopechurchfamily.org/calendars/online-service/2026-06-21/
LOCATION:Worcestershire
CATEGORIES:AdvertiseCroomes,AdvertiseHanleysWelland,AdvertiseRipple,AdvertiseUpton,Service
ATTACH;FMTTYPE=image/jpeg:https://hopechurchfamily.org/wp-content/uploads/2020/03/sunday-service-online-400_400.jpg
END:VEVENT
BEGIN:VEVENT
DTSTART;TZID=Europe/London:20260621T093000
DTEND;TZID=Europe/London:20260621T103000
DTSTAMP:20260424T010553
CREATED:20230315T174949Z
LAST-MODIFIED:20251014T163330Z
UID:10002942-1782034200-1782037800@hopechurchfamily.org
SUMMARY:Morning Worship
DESCRIPTION:Join us for a simple service of morning worship\, featuring a warm welcome\, hymns\, readings\, prayers and a sermon.
URL:https://hopechurchfamily.org/calendars/morning-worship-3/2026-06-21/
LOCATION:Hook\, Church of the Good Shepherd\, Hook Common\, Worcestershire\, WR8 0JQ\, United Kingdom
CATEGORIES:AdvertiseUpton,Hook,Service
ATTACH;FMTTYPE=image/jpeg:https://hopechurchfamily.org/wp-content/uploads/2016/10/morning-worship-400_400.jpg
GEO:52.0632147;-2.2616535
END:VEVENT
BEGIN:VEVENT
DTSTART;TZID=Europe/London:20260621T180000
DTEND;TZID=Europe/London:20260621T190000
DTSTAMP:20260424T010553
CREATED:20230214T180001Z
LAST-MODIFIED:20251014T132914Z
UID:10002302-1782064800-1782068400@hopechurchfamily.org
SUMMARY:Choral Evensong
DESCRIPTION:Join us for a traditional choral evensong service\, with music from the Upton Choir.
URL:https://hopechurchfamily.org/calendars/choral-evensong-2/2026-06-21/
LOCATION:Upton\, St Peter and St Paul\, Old Street\, Upton Upon Severn\, Worcestershire\, WR8 0JQ
CATEGORIES:AdvertiseCroomes,AdvertiseHanleysWelland,AdvertiseRipple,AdvertiseUpton,concert,Service,Upton
ATTACH;FMTTYPE=image/jpeg:https://hopechurchfamily.org/wp-content/uploads/2017/01/choral-evensong-400_400.jpg
GEO:52.0613513;-2.2183986
X-APPLE-STRUCTURED-LOCATION;VALUE=URI;X-ADDRESS=Upton St Peter and St Paul Old Street Upton Upon Severn Worcestershire WR8 0JQ;X-APPLE-RADIUS=500;X-TITLE=Old Street:geo:-2.2183986,52.0613513
END:VEVENT
BEGIN:VEVENT
DTSTART;VALUE=DATE:20260628
DTEND;VALUE=DATE:20260629
DTSTAMP:20260424T010553
CREATED:20240130T103651Z
LAST-MODIFIED:20240130T103651Z
UID:10005010-1782604800-1782691199@hopechurchfamily.org
SUMMARY:Online Service
DESCRIPTION:Join us online for a simple weekly service\, all day\, every Sunday. \nClick here to go to our online service page.
URL:https://hopechurchfamily.org/calendars/online-service/2026-06-28/
LOCATION:Worcestershire
CATEGORIES:AdvertiseCroomes,AdvertiseHanleysWelland,AdvertiseRipple,AdvertiseUpton,Service
ATTACH;FMTTYPE=image/jpeg:https://hopechurchfamily.org/wp-content/uploads/2020/03/sunday-service-online-400_400.jpg
END:VEVENT
BEGIN:VEVENT
DTSTART;TZID=Europe/London:20260628T093000
DTEND;TZID=Europe/London:20260628T103000
DTSTAMP:20260424T010553
CREATED:20201201T090755Z
LAST-MODIFIED:20251014T133608Z
UID:10004852-1782639000-1782642600@hopechurchfamily.org
SUMMARY:Morning Worship
DESCRIPTION:Join us for a simple Morning service\, with readings\, prayers\, hymns and a sermon.
URL:https://hopechurchfamily.org/calendars/a-service-of-readings-and-carols-2021-01-17-2021-01-24/2026-06-28/
LOCATION:Upton\, St Peter and St Paul\, Old Street\, Upton Upon Severn\, Worcestershire\, WR8 0JQ
CATEGORIES:AdvertiseUpton,Hook,Upton
ATTACH;FMTTYPE=image/jpeg:https://hopechurchfamily.org/wp-content/uploads/2016/11/morning-worship-2-400_400.jpg
GEO:52.0613513;-2.2183986
X-APPLE-STRUCTURED-LOCATION;VALUE=URI;X-ADDRESS=Upton St Peter and St Paul Old Street Upton Upon Severn Worcestershire WR8 0JQ;X-APPLE-RADIUS=500;X-TITLE=Old Street:geo:-2.2183986,52.0613513
END:VEVENT
BEGIN:VEVENT
DTSTART;VALUE=DATE:20260705
DTEND;VALUE=DATE:20260706
DTSTAMP:20260424T010553
CREATED:20240130T103651Z
LAST-MODIFIED:20240130T103651Z
UID:10005011-1783209600-1783295999@hopechurchfamily.org
SUMMARY:Online Service
DESCRIPTION:Join us online for a simple weekly service\, all day\, every Sunday. \nClick here to go to our online service page.
URL:https://hopechurchfamily.org/calendars/online-service/2026-07-05/
LOCATION:Worcestershire
CATEGORIES:AdvertiseCroomes,AdvertiseHanleysWelland,AdvertiseRipple,AdvertiseUpton,Service
ATTACH;FMTTYPE=image/jpeg:https://hopechurchfamily.org/wp-content/uploads/2020/03/sunday-service-online-400_400.jpg
END:VEVENT
BEGIN:VEVENT
DTSTART;TZID=Europe/London:20260705T110000
DTEND;TZID=Europe/London:20260705T120000
DTSTAMP:20260424T010553
CREATED:20251229T001840Z
LAST-MODIFIED:20260401T123854Z
UID:10007235-1783249200-1783252800@hopechurchfamily.org
SUMMARY:Holy Communion
DESCRIPTION:Join us for a simple service of Holy Communion.
URL:https://hopechurchfamily.org/calendars/holy-communion-13/2026-07-05/
LOCATION:Hook\, Church of the Good Shepherd\, Hook Common\, Worcestershire\, WR8 0JQ\, United Kingdom
CATEGORIES:AdvertiseUpton,All,Hook,Service
ATTACH;FMTTYPE=image/jpeg:https://hopechurchfamily.org/wp-content/uploads/2016/09/communion-400_400.jpg
GEO:52.0632147;-2.2616535
END:VEVENT
BEGIN:VEVENT
DTSTART;TZID=Europe/London:20260705T110000
DTEND;TZID=Europe/London:20260705T120000
DTSTAMP:20260424T010553
CREATED:20260401T120057Z
LAST-MODIFIED:20260401T120057Z
UID:10007913-1783249200-1783252800@hopechurchfamily.org
SUMMARY:Holy Communion
DESCRIPTION:Join us for a simple service of Holy Communion.
URL:https://hopechurchfamily.org/calendars/holy-communion-15/
LOCATION:Hook\, Church of the Good Shepherd\, Hook Common\, Worcestershire\, WR8 0JQ\, United Kingdom
CATEGORIES:AdvertiseUpton,All,Easter,EasterSunday,Hook,Service
ATTACH;FMTTYPE=image/jpeg:https://hopechurchfamily.org/wp-content/uploads/2018/02/easter400_400.jpg
GEO:52.0632147;-2.2616535
END:VEVENT
BEGIN:VEVENT
DTSTART;TZID=Europe/London:20260709T100000
DTEND;TZID=Europe/London:20260709T104500
DTSTAMP:20260424T010553
CREATED:20230614T090617Z
LAST-MODIFIED:20230614T090617Z
UID:10002884-1783591200-1783593900@hopechurchfamily.org
SUMMARY:Holy Communion
DESCRIPTION:A simple\, said\, Common Worship service of Holy Communion.
URL:https://hopechurchfamily.org/calendars/holy-communion-2/2026-07-09/
LOCATION:Hanley Swan\, St Gabriel’s\, Hanley Swan\, Worcestershire\, wr8 0dy\, United Kingdom
CATEGORIES:AdvertiseCroomes,AdvertiseHanleysWelland,AdvertiseRipple,AdvertiseUpton,Hanley Swan,Service
ATTACH;FMTTYPE=image/jpeg:https://hopechurchfamily.org/wp-content/uploads/2016/09/communion-400_400.jpg
GEO:52.0833913;-2.2766275
END:VEVENT
BEGIN:VEVENT
DTSTART;VALUE=DATE:20260712
DTEND;VALUE=DATE:20260713
DTSTAMP:20260424T010553
CREATED:20240130T103651Z
LAST-MODIFIED:20240130T103651Z
UID:10005012-1783814400-1783900799@hopechurchfamily.org
SUMMARY:Online Service
DESCRIPTION:Join us online for a simple weekly service\, all day\, every Sunday. \nClick here to go to our online service page.
URL:https://hopechurchfamily.org/calendars/online-service/2026-07-12/
LOCATION:Worcestershire
CATEGORIES:AdvertiseCroomes,AdvertiseHanleysWelland,AdvertiseRipple,AdvertiseUpton,Service
ATTACH;FMTTYPE=image/jpeg:https://hopechurchfamily.org/wp-content/uploads/2020/03/sunday-service-online-400_400.jpg
END:VEVENT
BEGIN:VEVENT
DTSTART;TZID=Europe/London:20260712T093000
DTEND;TZID=Europe/London:20260712T103000
DTSTAMP:20260424T010553
CREATED:20220706T090642Z
LAST-MODIFIED:20260401T123648Z
UID:10004059-1783848600-1783852200@hopechurchfamily.org
SUMMARY:Holy Communion
DESCRIPTION:Join us for a service of Holy Communion\, featuring the Upton Choir. \nRefreshments afterwards.
URL:https://hopechurchfamily.org/calendars/holy-communion-3/2026-07-12/
LOCATION:Upton\, St Peter and St Paul\, Old Street\, Upton Upon Severn\, Worcestershire\, WR8 0JQ
CATEGORIES:AdvertiseUpton,Service,Upton
ATTACH;FMTTYPE=image/jpeg:https://hopechurchfamily.org/wp-content/uploads/2016/09/communion-400_400.jpg
GEO:52.0613513;-2.2183986
X-APPLE-STRUCTURED-LOCATION;VALUE=URI;X-ADDRESS=Upton St Peter and St Paul Old Street Upton Upon Severn Worcestershire WR8 0JQ;X-APPLE-RADIUS=500;X-TITLE=Old Street:geo:-2.2183986,52.0613513
END:VEVENT
BEGIN:VEVENT
DTSTART;VALUE=DATE:20260719
DTEND;VALUE=DATE:20260720
DTSTAMP:20260424T010553
CREATED:20240130T103651Z
LAST-MODIFIED:20240130T103651Z
UID:10005013-1784419200-1784505599@hopechurchfamily.org
SUMMARY:Online Service
DESCRIPTION:Join us online for a simple weekly service\, all day\, every Sunday. \nClick here to go to our online service page.
URL:https://hopechurchfamily.org/calendars/online-service/2026-07-19/
LOCATION:Worcestershire
CATEGORIES:AdvertiseCroomes,AdvertiseHanleysWelland,AdvertiseRipple,AdvertiseUpton,Service
ATTACH;FMTTYPE=image/jpeg:https://hopechurchfamily.org/wp-content/uploads/2020/03/sunday-service-online-400_400.jpg
END:VEVENT
BEGIN:VEVENT
DTSTART;TZID=Europe/London:20260719T093000
DTEND;TZID=Europe/London:20260719T103000
DTSTAMP:20260424T010553
CREATED:20230315T174949Z
LAST-MODIFIED:20251014T163330Z
UID:10002943-1784453400-1784457000@hopechurchfamily.org
SUMMARY:Morning Worship
DESCRIPTION:Join us for a simple service of morning worship\, featuring a warm welcome\, hymns\, readings\, prayers and a sermon.
URL:https://hopechurchfamily.org/calendars/morning-worship-3/2026-07-19/
LOCATION:Hook\, Church of the Good Shepherd\, Hook Common\, Worcestershire\, WR8 0JQ\, United Kingdom
CATEGORIES:AdvertiseUpton,Hook,Service
ATTACH;FMTTYPE=image/jpeg:https://hopechurchfamily.org/wp-content/uploads/2016/10/morning-worship-400_400.jpg
GEO:52.0632147;-2.2616535
END:VEVENT
BEGIN:VEVENT
DTSTART;TZID=Europe/London:20260719T180000
DTEND;TZID=Europe/London:20260719T190000
DTSTAMP:20260424T010553
CREATED:20230214T180001Z
LAST-MODIFIED:20251014T132914Z
UID:10002303-1784484000-1784487600@hopechurchfamily.org
SUMMARY:Choral Evensong
DESCRIPTION:Join us for a traditional choral evensong service\, with music from the Upton Choir.
URL:https://hopechurchfamily.org/calendars/choral-evensong-2/2026-07-19/
LOCATION:Upton\, St Peter and St Paul\, Old Street\, Upton Upon Severn\, Worcestershire\, WR8 0JQ
CATEGORIES:AdvertiseCroomes,AdvertiseHanleysWelland,AdvertiseRipple,AdvertiseUpton,concert,Service,Upton
ATTACH;FMTTYPE=image/jpeg:https://hopechurchfamily.org/wp-content/uploads/2017/01/choral-evensong-400_400.jpg
GEO:52.0613513;-2.2183986
X-APPLE-STRUCTURED-LOCATION;VALUE=URI;X-ADDRESS=Upton St Peter and St Paul Old Street Upton Upon Severn Worcestershire WR8 0JQ;X-APPLE-RADIUS=500;X-TITLE=Old Street:geo:-2.2183986,52.0613513
END:VEVENT
BEGIN:VEVENT
DTSTART;VALUE=DATE:20260726
DTEND;VALUE=DATE:20260727
DTSTAMP:20260424T010553
CREATED:20240130T103651Z
LAST-MODIFIED:20240130T103651Z
UID:10005014-1785024000-1785110399@hopechurchfamily.org
SUMMARY:Online Service
DESCRIPTION:Join us online for a simple weekly service\, all day\, every Sunday. \nClick here to go to our online service page.
URL:https://hopechurchfamily.org/calendars/online-service/2026-07-26/
LOCATION:Worcestershire
CATEGORIES:AdvertiseCroomes,AdvertiseHanleysWelland,AdvertiseRipple,AdvertiseUpton,Service
ATTACH;FMTTYPE=image/jpeg:https://hopechurchfamily.org/wp-content/uploads/2020/03/sunday-service-online-400_400.jpg
END:VEVENT
BEGIN:VEVENT
DTSTART;TZID=Europe/London:20260726T093000
DTEND;TZID=Europe/London:20260726T103000
DTSTAMP:20260424T010553
CREATED:20201201T090755Z
LAST-MODIFIED:20251014T133608Z
UID:10004853-1785058200-1785061800@hopechurchfamily.org
SUMMARY:Morning Worship
DESCRIPTION:Join us for a simple Morning service\, with readings\, prayers\, hymns and a sermon.
URL:https://hopechurchfamily.org/calendars/a-service-of-readings-and-carols-2021-01-17-2021-01-24/2026-07-26/
LOCATION:Upton\, St Peter and St Paul\, Old Street\, Upton Upon Severn\, Worcestershire\, WR8 0JQ
CATEGORIES:AdvertiseUpton,Hook,Upton
ATTACH;FMTTYPE=image/jpeg:https://hopechurchfamily.org/wp-content/uploads/2016/11/morning-worship-2-400_400.jpg
GEO:52.0613513;-2.2183986
X-APPLE-STRUCTURED-LOCATION;VALUE=URI;X-ADDRESS=Upton St Peter and St Paul Old Street Upton Upon Severn Worcestershire WR8 0JQ;X-APPLE-RADIUS=500;X-TITLE=Old Street:geo:-2.2183986,52.0613513
END:VEVENT
BEGIN:VEVENT
DTSTART;VALUE=DATE:20260802
DTEND;VALUE=DATE:20260803
DTSTAMP:20260424T010553
CREATED:20240130T103651Z
LAST-MODIFIED:20240130T103651Z
UID:10005015-1785628800-1785715199@hopechurchfamily.org
SUMMARY:Online Service
DESCRIPTION:Join us online for a simple weekly service\, all day\, every Sunday. \nClick here to go to our online service page.
URL:https://hopechurchfamily.org/calendars/online-service/2026-08-02/
LOCATION:Worcestershire
CATEGORIES:AdvertiseCroomes,AdvertiseHanleysWelland,AdvertiseRipple,AdvertiseUpton,Service
ATTACH;FMTTYPE=image/jpeg:https://hopechurchfamily.org/wp-content/uploads/2020/03/sunday-service-online-400_400.jpg
END:VEVENT
BEGIN:VEVENT
DTSTART;TZID=Europe/London:20260802T110000
DTEND;TZID=Europe/London:20260802T120000
DTSTAMP:20260424T010553
CREATED:20251229T001840Z
LAST-MODIFIED:20260401T123854Z
UID:10007236-1785668400-1785672000@hopechurchfamily.org
SUMMARY:Holy Communion
DESCRIPTION:Join us for a simple service of Holy Communion.
URL:https://hopechurchfamily.org/calendars/holy-communion-13/2026-08-02/
LOCATION:Hook\, Church of the Good Shepherd\, Hook Common\, Worcestershire\, WR8 0JQ\, United Kingdom
CATEGORIES:AdvertiseUpton,All,Hook,Service
ATTACH;FMTTYPE=image/jpeg:https://hopechurchfamily.org/wp-content/uploads/2016/09/communion-400_400.jpg
GEO:52.0632147;-2.2616535
END:VEVENT
BEGIN:VEVENT
DTSTART;TZID=Europe/London:20260802T110000
DTEND;TZID=Europe/London:20260802T120000
DTSTAMP:20260424T010553
CREATED:20260401T120057Z
LAST-MODIFIED:20260401T120057Z
UID:10007914-1785668400-1785672000@hopechurchfamily.org
SUMMARY:Holy Communion
DESCRIPTION:Join us for a simple service of Holy Communion.
URL:https://hopechurchfamily.org/calendars/holy-communion-15/
LOCATION:Hook\, Church of the Good Shepherd\, Hook Common\, Worcestershire\, WR8 0JQ\, United Kingdom
CATEGORIES:AdvertiseUpton,All,Easter,EasterSunday,Hook,Service
ATTACH;FMTTYPE=image/jpeg:https://hopechurchfamily.org/wp-content/uploads/2018/02/easter400_400.jpg
GEO:52.0632147;-2.2616535
END:VEVENT
END:VCALENDAR