BEGIN:VCALENDAR
VERSION:2.0
PRODID:-//The Hope Church Family - ECPv6.15.20//NONSGML v1.0//EN
CALSCALE:GREGORIAN
METHOD:PUBLISH
X-WR-CALNAME:The Hope Church Family
X-ORIGINAL-URL:https://hopechurchfamily.org
X-WR-CALDESC:Events for The Hope Church Family
REFRESH-INTERVAL;VALUE=DURATION:PT1H
X-Robots-Tag:noindex
X-PUBLISHED-TTL:PT1H
BEGIN:VTIMEZONE
TZID:Europe/London
BEGIN:DAYLIGHT
TZOFFSETFROM:+0000
TZOFFSETTO:+0100
TZNAME:BST
DTSTART:20250330T010000
END:DAYLIGHT
BEGIN:STANDARD
TZOFFSETFROM:+0100
TZOFFSETTO:+0000
TZNAME:GMT
DTSTART:20251026T010000
END:STANDARD
BEGIN:DAYLIGHT
TZOFFSETFROM:+0000
TZOFFSETTO:+0100
TZNAME:BST
DTSTART:20260329T010000
END:DAYLIGHT
BEGIN:STANDARD
TZOFFSETFROM:+0100
TZOFFSETTO:+0000
TZNAME:GMT
DTSTART:20261025T010000
END:STANDARD
BEGIN:DAYLIGHT
TZOFFSETFROM:+0000
TZOFFSETTO:+0100
TZNAME:BST
DTSTART:20270328T010000
END:DAYLIGHT
BEGIN:STANDARD
TZOFFSETFROM:+0100
TZOFFSETTO:+0000
TZNAME:GMT
DTSTART:20271031T010000
END:STANDARD
END:VTIMEZONE
BEGIN:VEVENT
DTSTART;TZID=Europe/London:20260628T093000
DTEND;TZID=Europe/London:20260628T103000
DTSTAMP:20260424T010613
CREATED:20201201T090755Z
LAST-MODIFIED:20251014T133608Z
UID:10004852-1782639000-1782642600@hopechurchfamily.org
SUMMARY:Morning Worship
DESCRIPTION:Join us for a simple Morning service\, with readings\, prayers\, hymns and a sermon.
URL:https://hopechurchfamily.org/calendars/a-service-of-readings-and-carols-2021-01-17-2021-01-24/2026-06-28/
LOCATION:Upton\, St Peter and St Paul\, Old Street\, Upton Upon Severn\, Worcestershire\, WR8 0JQ
CATEGORIES:AdvertiseUpton,Hook,Upton
ATTACH;FMTTYPE=image/jpeg:https://hopechurchfamily.org/wp-content/uploads/2016/11/morning-worship-2-400_400.jpg
GEO:52.0613513;-2.2183986
X-APPLE-STRUCTURED-LOCATION;VALUE=URI;X-ADDRESS=Upton St Peter and St Paul Old Street Upton Upon Severn Worcestershire WR8 0JQ;X-APPLE-RADIUS=500;X-TITLE=Old Street:geo:-2.2183986,52.0613513
END:VEVENT
BEGIN:VEVENT
DTSTART;VALUE=DATE:20260705
DTEND;VALUE=DATE:20260706
DTSTAMP:20260424T010613
CREATED:20240130T103651Z
LAST-MODIFIED:20240130T103651Z
UID:10005011-1783209600-1783295999@hopechurchfamily.org
SUMMARY:Online Service
DESCRIPTION:Join us online for a simple weekly service\, all day\, every Sunday. \nClick here to go to our online service page.
URL:https://hopechurchfamily.org/calendars/online-service/2026-07-05/
LOCATION:Worcestershire
CATEGORIES:AdvertiseCroomes,AdvertiseHanleysWelland,AdvertiseRipple,AdvertiseUpton,Service
ATTACH;FMTTYPE=image/jpeg:https://hopechurchfamily.org/wp-content/uploads/2020/03/sunday-service-online-400_400.jpg
END:VEVENT
BEGIN:VEVENT
DTSTART;TZID=Europe/London:20260705T110000
DTEND;TZID=Europe/London:20260705T120000
DTSTAMP:20260424T010613
CREATED:20251229T001840Z
LAST-MODIFIED:20260401T123854Z
UID:10007235-1783249200-1783252800@hopechurchfamily.org
SUMMARY:Holy Communion
DESCRIPTION:Join us for a simple service of Holy Communion.
URL:https://hopechurchfamily.org/calendars/holy-communion-13/2026-07-05/
LOCATION:Hook\, Church of the Good Shepherd\, Hook Common\, Worcestershire\, WR8 0JQ\, United Kingdom
CATEGORIES:AdvertiseUpton,All,Hook,Service
ATTACH;FMTTYPE=image/jpeg:https://hopechurchfamily.org/wp-content/uploads/2016/09/communion-400_400.jpg
GEO:52.0632147;-2.2616535
END:VEVENT
BEGIN:VEVENT
DTSTART;TZID=Europe/London:20260705T110000
DTEND;TZID=Europe/London:20260705T120000
DTSTAMP:20260424T010613
CREATED:20260401T120057Z
LAST-MODIFIED:20260401T120057Z
UID:10007913-1783249200-1783252800@hopechurchfamily.org
SUMMARY:Holy Communion
DESCRIPTION:Join us for a simple service of Holy Communion.
URL:https://hopechurchfamily.org/calendars/holy-communion-15/
LOCATION:Hook\, Church of the Good Shepherd\, Hook Common\, Worcestershire\, WR8 0JQ\, United Kingdom
CATEGORIES:AdvertiseUpton,All,Easter,EasterSunday,Hook,Service
ATTACH;FMTTYPE=image/jpeg:https://hopechurchfamily.org/wp-content/uploads/2018/02/easter400_400.jpg
GEO:52.0632147;-2.2616535
END:VEVENT
BEGIN:VEVENT
DTSTART;TZID=Europe/London:20260709T100000
DTEND;TZID=Europe/London:20260709T104500
DTSTAMP:20260424T010613
CREATED:20230614T090617Z
LAST-MODIFIED:20230614T090617Z
UID:10002884-1783591200-1783593900@hopechurchfamily.org
SUMMARY:Holy Communion
DESCRIPTION:A simple\, said\, Common Worship service of Holy Communion.
URL:https://hopechurchfamily.org/calendars/holy-communion-2/2026-07-09/
LOCATION:Hanley Swan\, St Gabriel’s\, Hanley Swan\, Worcestershire\, wr8 0dy\, United Kingdom
CATEGORIES:AdvertiseCroomes,AdvertiseHanleysWelland,AdvertiseRipple,AdvertiseUpton,Hanley Swan,Service
ATTACH;FMTTYPE=image/jpeg:https://hopechurchfamily.org/wp-content/uploads/2016/09/communion-400_400.jpg
GEO:52.0833913;-2.2766275
END:VEVENT
BEGIN:VEVENT
DTSTART;VALUE=DATE:20260712
DTEND;VALUE=DATE:20260713
DTSTAMP:20260424T010613
CREATED:20240130T103651Z
LAST-MODIFIED:20240130T103651Z
UID:10005012-1783814400-1783900799@hopechurchfamily.org
SUMMARY:Online Service
DESCRIPTION:Join us online for a simple weekly service\, all day\, every Sunday. \nClick here to go to our online service page.
URL:https://hopechurchfamily.org/calendars/online-service/2026-07-12/
LOCATION:Worcestershire
CATEGORIES:AdvertiseCroomes,AdvertiseHanleysWelland,AdvertiseRipple,AdvertiseUpton,Service
ATTACH;FMTTYPE=image/jpeg:https://hopechurchfamily.org/wp-content/uploads/2020/03/sunday-service-online-400_400.jpg
END:VEVENT
BEGIN:VEVENT
DTSTART;TZID=Europe/London:20260712T093000
DTEND;TZID=Europe/London:20260712T103000
DTSTAMP:20260424T010613
CREATED:20220706T090642Z
LAST-MODIFIED:20260401T123648Z
UID:10004059-1783848600-1783852200@hopechurchfamily.org
SUMMARY:Holy Communion
DESCRIPTION:Join us for a service of Holy Communion\, featuring the Upton Choir. \nRefreshments afterwards.
URL:https://hopechurchfamily.org/calendars/holy-communion-3/2026-07-12/
LOCATION:Upton\, St Peter and St Paul\, Old Street\, Upton Upon Severn\, Worcestershire\, WR8 0JQ
CATEGORIES:AdvertiseUpton,Service,Upton
ATTACH;FMTTYPE=image/jpeg:https://hopechurchfamily.org/wp-content/uploads/2016/09/communion-400_400.jpg
GEO:52.0613513;-2.2183986
X-APPLE-STRUCTURED-LOCATION;VALUE=URI;X-ADDRESS=Upton St Peter and St Paul Old Street Upton Upon Severn Worcestershire WR8 0JQ;X-APPLE-RADIUS=500;X-TITLE=Old Street:geo:-2.2183986,52.0613513
END:VEVENT
BEGIN:VEVENT
DTSTART;VALUE=DATE:20260719
DTEND;VALUE=DATE:20260720
DTSTAMP:20260424T010613
CREATED:20240130T103651Z
LAST-MODIFIED:20240130T103651Z
UID:10005013-1784419200-1784505599@hopechurchfamily.org
SUMMARY:Online Service
DESCRIPTION:Join us online for a simple weekly service\, all day\, every Sunday. \nClick here to go to our online service page.
URL:https://hopechurchfamily.org/calendars/online-service/2026-07-19/
LOCATION:Worcestershire
CATEGORIES:AdvertiseCroomes,AdvertiseHanleysWelland,AdvertiseRipple,AdvertiseUpton,Service
ATTACH;FMTTYPE=image/jpeg:https://hopechurchfamily.org/wp-content/uploads/2020/03/sunday-service-online-400_400.jpg
END:VEVENT
BEGIN:VEVENT
DTSTART;TZID=Europe/London:20260719T093000
DTEND;TZID=Europe/London:20260719T103000
DTSTAMP:20260424T010613
CREATED:20230315T174949Z
LAST-MODIFIED:20251014T163330Z
UID:10002943-1784453400-1784457000@hopechurchfamily.org
SUMMARY:Morning Worship
DESCRIPTION:Join us for a simple service of morning worship\, featuring a warm welcome\, hymns\, readings\, prayers and a sermon.
URL:https://hopechurchfamily.org/calendars/morning-worship-3/2026-07-19/
LOCATION:Hook\, Church of the Good Shepherd\, Hook Common\, Worcestershire\, WR8 0JQ\, United Kingdom
CATEGORIES:AdvertiseUpton,Hook,Service
ATTACH;FMTTYPE=image/jpeg:https://hopechurchfamily.org/wp-content/uploads/2016/10/morning-worship-400_400.jpg
GEO:52.0632147;-2.2616535
END:VEVENT
BEGIN:VEVENT
DTSTART;TZID=Europe/London:20260719T180000
DTEND;TZID=Europe/London:20260719T190000
DTSTAMP:20260424T010613
CREATED:20230214T180001Z
LAST-MODIFIED:20251014T132914Z
UID:10002303-1784484000-1784487600@hopechurchfamily.org
SUMMARY:Choral Evensong
DESCRIPTION:Join us for a traditional choral evensong service\, with music from the Upton Choir.
URL:https://hopechurchfamily.org/calendars/choral-evensong-2/2026-07-19/
LOCATION:Upton\, St Peter and St Paul\, Old Street\, Upton Upon Severn\, Worcestershire\, WR8 0JQ
CATEGORIES:AdvertiseCroomes,AdvertiseHanleysWelland,AdvertiseRipple,AdvertiseUpton,concert,Service,Upton
ATTACH;FMTTYPE=image/jpeg:https://hopechurchfamily.org/wp-content/uploads/2017/01/choral-evensong-400_400.jpg
GEO:52.0613513;-2.2183986
X-APPLE-STRUCTURED-LOCATION;VALUE=URI;X-ADDRESS=Upton St Peter and St Paul Old Street Upton Upon Severn Worcestershire WR8 0JQ;X-APPLE-RADIUS=500;X-TITLE=Old Street:geo:-2.2183986,52.0613513
END:VEVENT
BEGIN:VEVENT
DTSTART;VALUE=DATE:20260726
DTEND;VALUE=DATE:20260727
DTSTAMP:20260424T010613
CREATED:20240130T103651Z
LAST-MODIFIED:20240130T103651Z
UID:10005014-1785024000-1785110399@hopechurchfamily.org
SUMMARY:Online Service
DESCRIPTION:Join us online for a simple weekly service\, all day\, every Sunday. \nClick here to go to our online service page.
URL:https://hopechurchfamily.org/calendars/online-service/2026-07-26/
LOCATION:Worcestershire
CATEGORIES:AdvertiseCroomes,AdvertiseHanleysWelland,AdvertiseRipple,AdvertiseUpton,Service
ATTACH;FMTTYPE=image/jpeg:https://hopechurchfamily.org/wp-content/uploads/2020/03/sunday-service-online-400_400.jpg
END:VEVENT
BEGIN:VEVENT
DTSTART;TZID=Europe/London:20260726T093000
DTEND;TZID=Europe/London:20260726T103000
DTSTAMP:20260424T010613
CREATED:20201201T090755Z
LAST-MODIFIED:20251014T133608Z
UID:10004853-1785058200-1785061800@hopechurchfamily.org
SUMMARY:Morning Worship
DESCRIPTION:Join us for a simple Morning service\, with readings\, prayers\, hymns and a sermon.
URL:https://hopechurchfamily.org/calendars/a-service-of-readings-and-carols-2021-01-17-2021-01-24/2026-07-26/
LOCATION:Upton\, St Peter and St Paul\, Old Street\, Upton Upon Severn\, Worcestershire\, WR8 0JQ
CATEGORIES:AdvertiseUpton,Hook,Upton
ATTACH;FMTTYPE=image/jpeg:https://hopechurchfamily.org/wp-content/uploads/2016/11/morning-worship-2-400_400.jpg
GEO:52.0613513;-2.2183986
X-APPLE-STRUCTURED-LOCATION;VALUE=URI;X-ADDRESS=Upton St Peter and St Paul Old Street Upton Upon Severn Worcestershire WR8 0JQ;X-APPLE-RADIUS=500;X-TITLE=Old Street:geo:-2.2183986,52.0613513
END:VEVENT
BEGIN:VEVENT
DTSTART;VALUE=DATE:20260802
DTEND;VALUE=DATE:20260803
DTSTAMP:20260424T010613
CREATED:20240130T103651Z
LAST-MODIFIED:20240130T103651Z
UID:10005015-1785628800-1785715199@hopechurchfamily.org
SUMMARY:Online Service
DESCRIPTION:Join us online for a simple weekly service\, all day\, every Sunday. \nClick here to go to our online service page.
URL:https://hopechurchfamily.org/calendars/online-service/2026-08-02/
LOCATION:Worcestershire
CATEGORIES:AdvertiseCroomes,AdvertiseHanleysWelland,AdvertiseRipple,AdvertiseUpton,Service
ATTACH;FMTTYPE=image/jpeg:https://hopechurchfamily.org/wp-content/uploads/2020/03/sunday-service-online-400_400.jpg
END:VEVENT
BEGIN:VEVENT
DTSTART;TZID=Europe/London:20260802T110000
DTEND;TZID=Europe/London:20260802T120000
DTSTAMP:20260424T010613
CREATED:20251229T001840Z
LAST-MODIFIED:20260401T123854Z
UID:10007236-1785668400-1785672000@hopechurchfamily.org
SUMMARY:Holy Communion
DESCRIPTION:Join us for a simple service of Holy Communion.
URL:https://hopechurchfamily.org/calendars/holy-communion-13/2026-08-02/
LOCATION:Hook\, Church of the Good Shepherd\, Hook Common\, Worcestershire\, WR8 0JQ\, United Kingdom
CATEGORIES:AdvertiseUpton,All,Hook,Service
ATTACH;FMTTYPE=image/jpeg:https://hopechurchfamily.org/wp-content/uploads/2016/09/communion-400_400.jpg
GEO:52.0632147;-2.2616535
END:VEVENT
BEGIN:VEVENT
DTSTART;TZID=Europe/London:20260802T110000
DTEND;TZID=Europe/London:20260802T120000
DTSTAMP:20260424T010613
CREATED:20260401T120057Z
LAST-MODIFIED:20260401T120057Z
UID:10007914-1785668400-1785672000@hopechurchfamily.org
SUMMARY:Holy Communion
DESCRIPTION:Join us for a simple service of Holy Communion.
URL:https://hopechurchfamily.org/calendars/holy-communion-15/
LOCATION:Hook\, Church of the Good Shepherd\, Hook Common\, Worcestershire\, WR8 0JQ\, United Kingdom
CATEGORIES:AdvertiseUpton,All,Easter,EasterSunday,Hook,Service
ATTACH;FMTTYPE=image/jpeg:https://hopechurchfamily.org/wp-content/uploads/2018/02/easter400_400.jpg
GEO:52.0632147;-2.2616535
END:VEVENT
BEGIN:VEVENT
DTSTART;VALUE=DATE:20260809
DTEND;VALUE=DATE:20260810
DTSTAMP:20260424T010613
CREATED:20240130T103651Z
LAST-MODIFIED:20240130T103651Z
UID:10005016-1786233600-1786319999@hopechurchfamily.org
SUMMARY:Online Service
DESCRIPTION:Join us online for a simple weekly service\, all day\, every Sunday. \nClick here to go to our online service page.
URL:https://hopechurchfamily.org/calendars/online-service/2026-08-09/
LOCATION:Worcestershire
CATEGORIES:AdvertiseCroomes,AdvertiseHanleysWelland,AdvertiseRipple,AdvertiseUpton,Service
ATTACH;FMTTYPE=image/jpeg:https://hopechurchfamily.org/wp-content/uploads/2020/03/sunday-service-online-400_400.jpg
END:VEVENT
BEGIN:VEVENT
DTSTART;TZID=Europe/London:20260809T093000
DTEND;TZID=Europe/London:20260809T103000
DTSTAMP:20260424T010613
CREATED:20220706T090642Z
LAST-MODIFIED:20260401T123648Z
UID:10004060-1786267800-1786271400@hopechurchfamily.org
SUMMARY:Holy Communion
DESCRIPTION:Join us for a service of Holy Communion\, featuring the Upton Choir. \nRefreshments afterwards.
URL:https://hopechurchfamily.org/calendars/holy-communion-3/2026-08-09/
LOCATION:Upton\, St Peter and St Paul\, Old Street\, Upton Upon Severn\, Worcestershire\, WR8 0JQ
CATEGORIES:AdvertiseUpton,Service,Upton
ATTACH;FMTTYPE=image/jpeg:https://hopechurchfamily.org/wp-content/uploads/2016/09/communion-400_400.jpg
GEO:52.0613513;-2.2183986
X-APPLE-STRUCTURED-LOCATION;VALUE=URI;X-ADDRESS=Upton St Peter and St Paul Old Street Upton Upon Severn Worcestershire WR8 0JQ;X-APPLE-RADIUS=500;X-TITLE=Old Street:geo:-2.2183986,52.0613513
END:VEVENT
BEGIN:VEVENT
DTSTART;TZID=Europe/London:20260813T100000
DTEND;TZID=Europe/London:20260813T104500
DTSTAMP:20260424T010613
CREATED:20230614T090617Z
LAST-MODIFIED:20230614T090617Z
UID:10002885-1786615200-1786617900@hopechurchfamily.org
SUMMARY:Holy Communion
DESCRIPTION:A simple\, said\, Common Worship service of Holy Communion.
URL:https://hopechurchfamily.org/calendars/holy-communion-2/2026-08-13/
LOCATION:Hanley Swan\, St Gabriel’s\, Hanley Swan\, Worcestershire\, wr8 0dy\, United Kingdom
CATEGORIES:AdvertiseCroomes,AdvertiseHanleysWelland,AdvertiseRipple,AdvertiseUpton,Hanley Swan,Service
ATTACH;FMTTYPE=image/jpeg:https://hopechurchfamily.org/wp-content/uploads/2016/09/communion-400_400.jpg
GEO:52.0833913;-2.2766275
END:VEVENT
BEGIN:VEVENT
DTSTART;VALUE=DATE:20260816
DTEND;VALUE=DATE:20260817
DTSTAMP:20260424T010613
CREATED:20240130T103651Z
LAST-MODIFIED:20240130T103651Z
UID:10005017-1786838400-1786924799@hopechurchfamily.org
SUMMARY:Online Service
DESCRIPTION:Join us online for a simple weekly service\, all day\, every Sunday. \nClick here to go to our online service page.
URL:https://hopechurchfamily.org/calendars/online-service/2026-08-16/
LOCATION:Worcestershire
CATEGORIES:AdvertiseCroomes,AdvertiseHanleysWelland,AdvertiseRipple,AdvertiseUpton,Service
ATTACH;FMTTYPE=image/jpeg:https://hopechurchfamily.org/wp-content/uploads/2020/03/sunday-service-online-400_400.jpg
END:VEVENT
BEGIN:VEVENT
DTSTART;TZID=Europe/London:20260816T093000
DTEND;TZID=Europe/London:20260816T103000
DTSTAMP:20260424T010613
CREATED:20230315T174949Z
LAST-MODIFIED:20251014T163330Z
UID:10002944-1786872600-1786876200@hopechurchfamily.org
SUMMARY:Morning Worship
DESCRIPTION:Join us for a simple service of morning worship\, featuring a warm welcome\, hymns\, readings\, prayers and a sermon.
URL:https://hopechurchfamily.org/calendars/morning-worship-3/2026-08-16/
LOCATION:Hook\, Church of the Good Shepherd\, Hook Common\, Worcestershire\, WR8 0JQ\, United Kingdom
CATEGORIES:AdvertiseUpton,Hook,Service
ATTACH;FMTTYPE=image/jpeg:https://hopechurchfamily.org/wp-content/uploads/2016/10/morning-worship-400_400.jpg
GEO:52.0632147;-2.2616535
END:VEVENT
BEGIN:VEVENT
DTSTART;TZID=Europe/London:20260816T180000
DTEND;TZID=Europe/London:20260816T190000
DTSTAMP:20260424T010613
CREATED:20230214T180001Z
LAST-MODIFIED:20251014T132914Z
UID:10002304-1786903200-1786906800@hopechurchfamily.org
SUMMARY:Choral Evensong
DESCRIPTION:Join us for a traditional choral evensong service\, with music from the Upton Choir.
URL:https://hopechurchfamily.org/calendars/choral-evensong-2/2026-08-16/
LOCATION:Upton\, St Peter and St Paul\, Old Street\, Upton Upon Severn\, Worcestershire\, WR8 0JQ
CATEGORIES:AdvertiseCroomes,AdvertiseHanleysWelland,AdvertiseRipple,AdvertiseUpton,concert,Service,Upton
ATTACH;FMTTYPE=image/jpeg:https://hopechurchfamily.org/wp-content/uploads/2017/01/choral-evensong-400_400.jpg
GEO:52.0613513;-2.2183986
X-APPLE-STRUCTURED-LOCATION;VALUE=URI;X-ADDRESS=Upton St Peter and St Paul Old Street Upton Upon Severn Worcestershire WR8 0JQ;X-APPLE-RADIUS=500;X-TITLE=Old Street:geo:-2.2183986,52.0613513
END:VEVENT
BEGIN:VEVENT
DTSTART;VALUE=DATE:20260823
DTEND;VALUE=DATE:20260824
DTSTAMP:20260424T010613
CREATED:20240130T103651Z
LAST-MODIFIED:20240130T103651Z
UID:10005018-1787443200-1787529599@hopechurchfamily.org
SUMMARY:Online Service
DESCRIPTION:Join us online for a simple weekly service\, all day\, every Sunday. \nClick here to go to our online service page.
URL:https://hopechurchfamily.org/calendars/online-service/2026-08-23/
LOCATION:Worcestershire
CATEGORIES:AdvertiseCroomes,AdvertiseHanleysWelland,AdvertiseRipple,AdvertiseUpton,Service
ATTACH;FMTTYPE=image/jpeg:https://hopechurchfamily.org/wp-content/uploads/2020/03/sunday-service-online-400_400.jpg
END:VEVENT
BEGIN:VEVENT
DTSTART;TZID=Europe/London:20260823T093000
DTEND;TZID=Europe/London:20260823T103000
DTSTAMP:20260424T010613
CREATED:20201201T090755Z
LAST-MODIFIED:20251014T133608Z
UID:10004854-1787477400-1787481000@hopechurchfamily.org
SUMMARY:Morning Worship
DESCRIPTION:Join us for a simple Morning service\, with readings\, prayers\, hymns and a sermon.
URL:https://hopechurchfamily.org/calendars/a-service-of-readings-and-carols-2021-01-17-2021-01-24/2026-08-23/
LOCATION:Upton\, St Peter and St Paul\, Old Street\, Upton Upon Severn\, Worcestershire\, WR8 0JQ
CATEGORIES:AdvertiseUpton,Hook,Upton
ATTACH;FMTTYPE=image/jpeg:https://hopechurchfamily.org/wp-content/uploads/2016/11/morning-worship-2-400_400.jpg
GEO:52.0613513;-2.2183986
X-APPLE-STRUCTURED-LOCATION;VALUE=URI;X-ADDRESS=Upton St Peter and St Paul Old Street Upton Upon Severn Worcestershire WR8 0JQ;X-APPLE-RADIUS=500;X-TITLE=Old Street:geo:-2.2183986,52.0613513
END:VEVENT
BEGIN:VEVENT
DTSTART;VALUE=DATE:20260830
DTEND;VALUE=DATE:20260831
DTSTAMP:20260424T010613
CREATED:20240130T103651Z
LAST-MODIFIED:20240130T103651Z
UID:10005019-1788048000-1788134399@hopechurchfamily.org
SUMMARY:Online Service
DESCRIPTION:Join us online for a simple weekly service\, all day\, every Sunday. \nClick here to go to our online service page.
URL:https://hopechurchfamily.org/calendars/online-service/2026-08-30/
LOCATION:Worcestershire
CATEGORIES:AdvertiseCroomes,AdvertiseHanleysWelland,AdvertiseRipple,AdvertiseUpton,Service
ATTACH;FMTTYPE=image/jpeg:https://hopechurchfamily.org/wp-content/uploads/2020/03/sunday-service-online-400_400.jpg
END:VEVENT
BEGIN:VEVENT
DTSTART;VALUE=DATE:20260906
DTEND;VALUE=DATE:20260907
DTSTAMP:20260424T010613
CREATED:20240130T103651Z
LAST-MODIFIED:20240130T103651Z
UID:10005020-1788652800-1788739199@hopechurchfamily.org
SUMMARY:Online Service
DESCRIPTION:Join us online for a simple weekly service\, all day\, every Sunday. \nClick here to go to our online service page.
URL:https://hopechurchfamily.org/calendars/online-service/2026-09-06/
LOCATION:Worcestershire
CATEGORIES:AdvertiseCroomes,AdvertiseHanleysWelland,AdvertiseRipple,AdvertiseUpton,Service
ATTACH;FMTTYPE=image/jpeg:https://hopechurchfamily.org/wp-content/uploads/2020/03/sunday-service-online-400_400.jpg
END:VEVENT
BEGIN:VEVENT
DTSTART;TZID=Europe/London:20260906T110000
DTEND;TZID=Europe/London:20260906T120000
DTSTAMP:20260424T010613
CREATED:20251229T001840Z
LAST-MODIFIED:20260401T123854Z
UID:10007237-1788692400-1788696000@hopechurchfamily.org
SUMMARY:Holy Communion
DESCRIPTION:Join us for a simple service of Holy Communion.
URL:https://hopechurchfamily.org/calendars/holy-communion-13/2026-09-06/
LOCATION:Hook\, Church of the Good Shepherd\, Hook Common\, Worcestershire\, WR8 0JQ\, United Kingdom
CATEGORIES:AdvertiseUpton,All,Hook,Service
ATTACH;FMTTYPE=image/jpeg:https://hopechurchfamily.org/wp-content/uploads/2016/09/communion-400_400.jpg
GEO:52.0632147;-2.2616535
END:VEVENT
BEGIN:VEVENT
DTSTART;TZID=Europe/London:20260906T110000
DTEND;TZID=Europe/London:20260906T120000
DTSTAMP:20260424T010613
CREATED:20260401T120057Z
LAST-MODIFIED:20260401T120057Z
UID:10007915-1788692400-1788696000@hopechurchfamily.org
SUMMARY:Holy Communion
DESCRIPTION:Join us for a simple service of Holy Communion.
URL:https://hopechurchfamily.org/calendars/holy-communion-15/
LOCATION:Hook\, Church of the Good Shepherd\, Hook Common\, Worcestershire\, WR8 0JQ\, United Kingdom
CATEGORIES:AdvertiseUpton,All,Easter,EasterSunday,Hook,Service
ATTACH;FMTTYPE=image/jpeg:https://hopechurchfamily.org/wp-content/uploads/2018/02/easter400_400.jpg
GEO:52.0632147;-2.2616535
END:VEVENT
BEGIN:VEVENT
DTSTART;TZID=Europe/London:20260910T100000
DTEND;TZID=Europe/London:20260910T104500
DTSTAMP:20260424T010613
CREATED:20230614T090617Z
LAST-MODIFIED:20230614T090617Z
UID:10002886-1789034400-1789037100@hopechurchfamily.org
SUMMARY:Holy Communion
DESCRIPTION:A simple\, said\, Common Worship service of Holy Communion.
URL:https://hopechurchfamily.org/calendars/holy-communion-2/2026-09-10/
LOCATION:Hanley Swan\, St Gabriel’s\, Hanley Swan\, Worcestershire\, wr8 0dy\, United Kingdom
CATEGORIES:AdvertiseCroomes,AdvertiseHanleysWelland,AdvertiseRipple,AdvertiseUpton,Hanley Swan,Service
ATTACH;FMTTYPE=image/jpeg:https://hopechurchfamily.org/wp-content/uploads/2016/09/communion-400_400.jpg
GEO:52.0833913;-2.2766275
END:VEVENT
BEGIN:VEVENT
DTSTART;VALUE=DATE:20260913
DTEND;VALUE=DATE:20260914
DTSTAMP:20260424T010613
CREATED:20240130T103651Z
LAST-MODIFIED:20240130T103651Z
UID:10005021-1789257600-1789343999@hopechurchfamily.org
SUMMARY:Online Service
DESCRIPTION:Join us online for a simple weekly service\, all day\, every Sunday. \nClick here to go to our online service page.
URL:https://hopechurchfamily.org/calendars/online-service/2026-09-13/
LOCATION:Worcestershire
CATEGORIES:AdvertiseCroomes,AdvertiseHanleysWelland,AdvertiseRipple,AdvertiseUpton,Service
ATTACH;FMTTYPE=image/jpeg:https://hopechurchfamily.org/wp-content/uploads/2020/03/sunday-service-online-400_400.jpg
END:VEVENT
BEGIN:VEVENT
DTSTART;TZID=Europe/London:20260913T093000
DTEND;TZID=Europe/London:20260913T103000
DTSTAMP:20260424T010613
CREATED:20220706T090642Z
LAST-MODIFIED:20260401T123648Z
UID:10004061-1789291800-1789295400@hopechurchfamily.org
SUMMARY:Holy Communion
DESCRIPTION:Join us for a service of Holy Communion\, featuring the Upton Choir. \nRefreshments afterwards.
URL:https://hopechurchfamily.org/calendars/holy-communion-3/2026-09-13/
LOCATION:Upton\, St Peter and St Paul\, Old Street\, Upton Upon Severn\, Worcestershire\, WR8 0JQ
CATEGORIES:AdvertiseUpton,Service,Upton
ATTACH;FMTTYPE=image/jpeg:https://hopechurchfamily.org/wp-content/uploads/2016/09/communion-400_400.jpg
GEO:52.0613513;-2.2183986
X-APPLE-STRUCTURED-LOCATION;VALUE=URI;X-ADDRESS=Upton St Peter and St Paul Old Street Upton Upon Severn Worcestershire WR8 0JQ;X-APPLE-RADIUS=500;X-TITLE=Old Street:geo:-2.2183986,52.0613513
END:VEVENT
END:VCALENDAR