BEGIN:VCALENDAR
VERSION:2.0
PRODID:-//The Hope Church Family - ECPv6.15.20//NONSGML v1.0//EN
CALSCALE:GREGORIAN
METHOD:PUBLISH
X-WR-CALNAME:The Hope Church Family
X-ORIGINAL-URL:https://hopechurchfamily.org
X-WR-CALDESC:Events for The Hope Church Family
REFRESH-INTERVAL;VALUE=DURATION:PT1H
X-Robots-Tag:noindex
X-PUBLISHED-TTL:PT1H
BEGIN:VTIMEZONE
TZID:Europe/London
BEGIN:DAYLIGHT
TZOFFSETFROM:+0000
TZOFFSETTO:+0100
TZNAME:BST
DTSTART:20250330T010000
END:DAYLIGHT
BEGIN:STANDARD
TZOFFSETFROM:+0100
TZOFFSETTO:+0000
TZNAME:GMT
DTSTART:20251026T010000
END:STANDARD
BEGIN:DAYLIGHT
TZOFFSETFROM:+0000
TZOFFSETTO:+0100
TZNAME:BST
DTSTART:20260329T010000
END:DAYLIGHT
BEGIN:STANDARD
TZOFFSETFROM:+0100
TZOFFSETTO:+0000
TZNAME:GMT
DTSTART:20261025T010000
END:STANDARD
BEGIN:DAYLIGHT
TZOFFSETFROM:+0000
TZOFFSETTO:+0100
TZNAME:BST
DTSTART:20270328T010000
END:DAYLIGHT
BEGIN:STANDARD
TZOFFSETFROM:+0100
TZOFFSETTO:+0000
TZNAME:GMT
DTSTART:20271031T010000
END:STANDARD
END:VTIMEZONE
BEGIN:VEVENT
DTSTART;TZID=Europe/London:20260303T110000
DTEND;TZID=Europe/London:20260303T140000
DTSTAMP:20260425T162118
CREATED:20230614T084423Z
LAST-MODIFIED:20231130T233608Z
UID:10002467-1772535600-1772546400@hopechurchfamily.org
SUMMARY:Cafe Tuesdays
DESCRIPTION:A friendly drop-in cafe with free soup\, drinks\, wifi. Everyone welcome.
URL:https://hopechurchfamily.org/calendars/cafe-tuesdays/2026-03-03/
LOCATION:Hanley Swan Village Hall\, Welland Road\, Hanley Swan\, Worcestershire\, WR8 0EQ\, United Kingdom
CATEGORIES:AdvertiseHanleysWelland,Hanley Swan,Meal
ATTACH;FMTTYPE=image/jpeg:https://hopechurchfamily.org/wp-content/uploads/2023/06/cafe-tuesday-1.jpg
GEO:52.079635;-2.276444
X-APPLE-STRUCTURED-LOCATION;VALUE=URI;X-ADDRESS=Hanley Swan Village Hall Welland Road Hanley Swan Worcestershire WR8 0EQ United Kingdom;X-APPLE-RADIUS=500;X-TITLE=Welland Road:geo:-2.276444,52.079635
END:VEVENT
BEGIN:VEVENT
DTSTART;TZID=Europe/London:20260306T120000
DTEND;TZID=Europe/London:20260306T133000
DTSTAMP:20260425T162118
CREATED:20260202T173009Z
LAST-MODIFIED:20260202T173009Z
UID:10007710-1772798400-1772803800@hopechurchfamily.org
SUMMARY:Lent Lunches
DESCRIPTION:Come and enjoy a tasty soup lunch on Fridays during Lent\, organised by Churches Together in Upton. Proceeds go to the charity\, “Friends of the Holy Land.” \nGenerally we’re in the Church Rooms\, in Upton\, but on Fri 20th Feb and Fri 27 March\, it takes place at Upton Baptist Church.
URL:https://hopechurchfamily.org/calendars/lent-lunches/2026-03-06/
LOCATION:Upton Parish Hall\, Old Street\, Upton upon Severn\, Worcestershire\, WR8 0JQ\, United Kingdom
CATEGORIES:AdvertiseCroomes,AdvertiseHanleysWelland,AdvertiseRipple,AdvertiseUpton,Meal,Upton
ATTACH;FMTTYPE=image/jpeg:https://hopechurchfamily.org/wp-content/uploads/2020/02/lent-lunch-400_400.jpg
GEO:52.0602394;-2.2186411
X-APPLE-STRUCTURED-LOCATION;VALUE=URI;X-ADDRESS=Upton Parish Hall Old Street Upton upon Severn Worcestershire WR8 0JQ United Kingdom;X-APPLE-RADIUS=500;X-TITLE=Old Street:geo:-2.2186411,52.0602394
END:VEVENT
END:VCALENDAR