BEGIN:VCALENDAR
VERSION:2.0
PRODID:-//The Hope Church Family - ECPv6.15.20//NONSGML v1.0//EN
CALSCALE:GREGORIAN
METHOD:PUBLISH
X-WR-CALNAME:The Hope Church Family
X-ORIGINAL-URL:https://hopechurchfamily.org
X-WR-CALDESC:Events for The Hope Church Family
REFRESH-INTERVAL;VALUE=DURATION:PT1H
X-Robots-Tag:noindex
X-PUBLISHED-TTL:PT1H
BEGIN:VTIMEZONE
TZID:Europe/London
BEGIN:DAYLIGHT
TZOFFSETFROM:+0000
TZOFFSETTO:+0100
TZNAME:BST
DTSTART:20250330T010000
END:DAYLIGHT
BEGIN:STANDARD
TZOFFSETFROM:+0100
TZOFFSETTO:+0000
TZNAME:GMT
DTSTART:20251026T010000
END:STANDARD
BEGIN:DAYLIGHT
TZOFFSETFROM:+0000
TZOFFSETTO:+0100
TZNAME:BST
DTSTART:20260329T010000
END:DAYLIGHT
BEGIN:STANDARD
TZOFFSETFROM:+0100
TZOFFSETTO:+0000
TZNAME:GMT
DTSTART:20261025T010000
END:STANDARD
BEGIN:DAYLIGHT
TZOFFSETFROM:+0000
TZOFFSETTO:+0100
TZNAME:BST
DTSTART:20270328T010000
END:DAYLIGHT
BEGIN:STANDARD
TZOFFSETFROM:+0100
TZOFFSETTO:+0000
TZNAME:GMT
DTSTART:20271031T010000
END:STANDARD
END:VTIMEZONE
BEGIN:VEVENT
DTSTART;TZID=Europe/London:20261224T233000
DTEND;TZID=Europe/London:20261225T003000
DTSTAMP:20260420T055916
CREATED:20231130T234644Z
LAST-MODIFIED:20231130T234644Z
UID:10003820-1798155000-1798158600@hopechurchfamily.org
SUMMARY:Holy Communion
DESCRIPTION:Join us for a special Christmas Eve service of Holy Communion.
URL:https://hopechurchfamily.org/calendars/holy-communion-7/2026-12-24/
LOCATION:Upton\, St Peter and St Paul\, Old Street\, Upton Upon Severn\, Worcestershire\, WR8 0JQ
CATEGORIES:AdvertiseUpton,Christmas,ChristmasUpton,Service,Upton
ATTACH;FMTTYPE=image/jpeg:https://hopechurchfamily.org/wp-content/uploads/2016/09/communion-400_400.jpg
GEO:52.0613513;-2.2183986
X-APPLE-STRUCTURED-LOCATION;VALUE=URI;X-ADDRESS=Upton St Peter and St Paul Old Street Upton Upon Severn Worcestershire WR8 0JQ;X-APPLE-RADIUS=500;X-TITLE=Old Street:geo:-2.2183986,52.0613513
END:VEVENT
BEGIN:VEVENT
DTSTART;TZID=Europe/London:20261225T093000
DTEND;TZID=Europe/London:20261225T103000
DTSTAMP:20260420T055916
CREATED:20231130T234912Z
LAST-MODIFIED:20231130T235608Z
UID:10003830-1798191000-1798194600@hopechurchfamily.org
SUMMARY:Family Service with Holy Communion
DESCRIPTION:Celebrate Christmas Day with an accessible family event with carols\, a reflection and a short communion service.
URL:https://hopechurchfamily.org/calendars/family-service-with-holy-communion/2026-12-25/
LOCATION:Hanley Castle\, St Mary\, Hanley Castle\, Worcestershire\, WR8 0BL
CATEGORIES:AdvertiseHanleysWelland,Christmas,ChristmasHanleyCastle,Hanley Castle,Service
ATTACH;FMTTYPE=image/jpeg:https://hopechurchfamily.org/wp-content/uploads/2016/09/communion-400_400.jpg
END:VEVENT
BEGIN:VEVENT
DTSTART;TZID=Europe/London:20261225T093000
DTEND;TZID=Europe/London:20261225T103000
DTSTAMP:20260420T055916
CREATED:20231130T235104Z
LAST-MODIFIED:20231130T235640Z
UID:10003840-1798191000-1798194600@hopechurchfamily.org
SUMMARY:Holy Communion
DESCRIPTION:Join us for a service of Holy Communion.
URL:https://hopechurchfamily.org/calendars/holy-communion-8/2026-12-25/
LOCATION:Hook\, Church of the Good Shepherd\, Hook Common\, Worcestershire\, WR8 0JQ\, United Kingdom
CATEGORIES:AdvertiseUpton,Christmas,ChristmasHook,Hook,Service
ATTACH;FMTTYPE=image/jpeg:https://hopechurchfamily.org/wp-content/uploads/2016/09/communion-400_400.jpg
GEO:52.0632147;-2.2616535
END:VEVENT
BEGIN:VEVENT
DTSTART;TZID=Europe/London:20261225T110000
DTEND;TZID=Europe/London:20261225T120000
DTSTAMP:20260420T055916
CREATED:20231130T235225Z
LAST-MODIFIED:20231130T235225Z
UID:10003850-1798196400-1798200000@hopechurchfamily.org
SUMMARY:Combined Parish Christmas Service of Holy Communion
DESCRIPTION:Join us for a service of Holy Communion.
URL:https://hopechurchfamily.org/calendars/combined-parish-christmas-service-of-holy-communion/2026-12-25/
LOCATION:Earls Croome\, St Nicholas’ Church\, Church Lane\,\, Earls Croome\,\, Worcestershire\, wr8 9de\, United Kingdom
CATEGORIES:AdvertiseCroomes,Christmas,ChristmasEarlsCroome,ChristmasHillCroome,Earls Croome,Service
ATTACH;FMTTYPE=image/jpeg:https://hopechurchfamily.org/wp-content/uploads/2016/09/communion-400_400.jpg
GEO:52.0753008;-2.1913477
X-APPLE-STRUCTURED-LOCATION;VALUE=URI;X-ADDRESS=Earls Croome St Nicholas’ Church Church Lane Earls Croome Worcestershire wr8 9de United Kingdom;X-APPLE-RADIUS=500;X-TITLE=Church Lane\,:geo:-2.1913477,52.0753008
END:VEVENT
END:VCALENDAR