BEGIN:VCALENDAR
VERSION:2.0
PRODID:-//The Hope Church Family - ECPv6.15.20//NONSGML v1.0//EN
CALSCALE:GREGORIAN
METHOD:PUBLISH
X-WR-CALNAME:The Hope Church Family
X-ORIGINAL-URL:https://hopechurchfamily.org
X-WR-CALDESC:Events for The Hope Church Family
REFRESH-INTERVAL;VALUE=DURATION:PT1H
X-Robots-Tag:noindex
X-PUBLISHED-TTL:PT1H
BEGIN:VTIMEZONE
TZID:Europe/London
BEGIN:DAYLIGHT
TZOFFSETFROM:+0000
TZOFFSETTO:+0100
TZNAME:BST
DTSTART:20270328T010000
END:DAYLIGHT
BEGIN:STANDARD
TZOFFSETFROM:+0100
TZOFFSETTO:+0000
TZNAME:GMT
DTSTART:20271031T010000
END:STANDARD
BEGIN:DAYLIGHT
TZOFFSETFROM:+0000
TZOFFSETTO:+0100
TZNAME:BST
DTSTART:20280326T010000
END:DAYLIGHT
BEGIN:STANDARD
TZOFFSETFROM:+0100
TZOFFSETTO:+0000
TZNAME:GMT
DTSTART:20281029T010000
END:STANDARD
BEGIN:DAYLIGHT
TZOFFSETFROM:+0000
TZOFFSETTO:+0100
TZNAME:BST
DTSTART:20290325T010000
END:DAYLIGHT
BEGIN:STANDARD
TZOFFSETFROM:+0100
TZOFFSETTO:+0000
TZNAME:GMT
DTSTART:20291028T010000
END:STANDARD
END:VTIMEZONE
BEGIN:VEVENT
DTSTART;TZID=Europe/London:20281220T190000
DTEND;TZID=Europe/London:20281220T200000
DTSTAMP:20260426T021953
CREATED:20231130T233351Z
LAST-MODIFIED:20231130T233351Z
UID:10005359-1860951600-1860955200@hopechurchfamily.org
SUMMARY:Carols by Candlelight
DESCRIPTION:Join us for the town carol service\, with involvement from all of Upton’s churches and Upton School. \nReadings\, carols\, a seasonal message and refreshments afterwards.
URL:https://hopechurchfamily.org/calendars/carols-by-candlelight/2028-12-20/
LOCATION:Upton\, St Peter and St Paul\, Old Street\, Upton Upon Severn\, Worcestershire\, WR8 0JQ
CATEGORIES:AdvertiseUpton,Christmas,ChristmasUpton,Service,Upton
ATTACH;FMTTYPE=image/jpeg:https://hopechurchfamily.org/wp-content/uploads/2017/09/carol-service.jpg
GEO:52.0613513;-2.2183986
X-APPLE-STRUCTURED-LOCATION;VALUE=URI;X-ADDRESS=Upton St Peter and St Paul Old Street Upton Upon Severn Worcestershire WR8 0JQ;X-APPLE-RADIUS=500;X-TITLE=Old Street:geo:-2.2183986,52.0613513
END:VEVENT
BEGIN:VEVENT
DTSTART;TZID=Europe/London:20281220T193000
DTEND;TZID=Europe/London:20281220T203000
DTSTAMP:20260426T021953
CREATED:20231130T233447Z
LAST-MODIFIED:20231130T233447Z
UID:10005360-1860953400-1860957000@hopechurchfamily.org
SUMMARY:Carols by Candlelight
DESCRIPTION:Join us for our annual carol service. With readings and carols.
URL:https://hopechurchfamily.org/calendars/carols-by-candlelight-2/2028-12-20/
LOCATION:Welland\, St James Church\, Drake Street\, Welland\, Worcestershire\, WR13 6LP\, United Kingdom
CATEGORIES:AdvertiseHanleysWelland,Christmas,ChristmasWelland,Service,Welland
ATTACH;FMTTYPE=image/jpeg:https://hopechurchfamily.org/wp-content/uploads/2017/09/carol-service.jpg
GEO:52.0573708;-2.2942158
X-APPLE-STRUCTURED-LOCATION;VALUE=URI;X-ADDRESS=Welland St James Church Drake Street Welland Worcestershire WR13 6LP United Kingdom;X-APPLE-RADIUS=500;X-TITLE=Drake Street:geo:-2.2942158,52.0573708
END:VEVENT
BEGIN:VEVENT
DTSTART;VALUE=DATE:20281224
DTEND;VALUE=DATE:20281225
DTSTAMP:20260426T021953
CREATED:20240130T103651Z
LAST-MODIFIED:20240130T103651Z
UID:10005140-1861228800-1861315199@hopechurchfamily.org
SUMMARY:Online Service
DESCRIPTION:Join us online for a simple weekly service\, all day\, every Sunday. \nClick here to go to our online service page.
URL:https://hopechurchfamily.org/calendars/online-service/2028-12-24/
CATEGORIES:AdvertiseCroomes,AdvertiseHanleysWelland,AdvertiseRipple,AdvertiseUpton,Service
ATTACH;FMTTYPE=image/jpeg:https://hopechurchfamily.org/wp-content/uploads/2020/03/sunday-service-online-400_400.jpg
END:VEVENT
BEGIN:VEVENT
DTSTART;TZID=Europe/London:20281224T093000
DTEND;TZID=Europe/London:20281224T103000
DTSTAMP:20260426T021953
CREATED:20211101T134817Z
LAST-MODIFIED:20251014T133622Z
UID:10004385-1861263000-1861266600@hopechurchfamily.org
SUMMARY:Morning Praise
DESCRIPTION:Join us for a simple\, lay-led\, service of morning praise. \nWith hymns\, prayers and a short reflection let by the team from St Gabriel’s Church.
URL:https://hopechurchfamily.org/calendars/morning-praise/2028-12-24/
LOCATION:Hanley Swan\, St Gabriel’s\, Hanley Swan\, Worcestershire\, wr8 0dy\, United Kingdom
CATEGORIES:AdvertiseHanleysWelland,Hanley Castle,Hanley Swan,Service,Welland
ATTACH;FMTTYPE=image/jpeg:https://hopechurchfamily.org/wp-content/uploads/2021/11/morning-praise-400_400.jpg
GEO:52.0833913;-2.2766275
END:VEVENT
BEGIN:VEVENT
DTSTART;TZID=Europe/London:20281224T110000
DTEND;TZID=Europe/London:20281224T120000
DTSTAMP:20260426T021953
CREATED:20200815T223511Z
LAST-MODIFIED:20260320T180918Z
UID:10004444-1861268400-1861272000@hopechurchfamily.org
SUMMARY:Holy Communion
DESCRIPTION:Join us for a simple service of Holy Communion.
URL:https://hopechurchfamily.org/calendars/holy-communion-4-2020-09-13-2021-01-17-2021-01-24/2028-12-24/
LOCATION:Welland\, St James Church\, Drake Street\, Welland\, Worcestershire\, WR13 6LP\, United Kingdom
CATEGORIES:AdvertiseHanleysWelland,Service,Welland
ATTACH;FMTTYPE=image/jpeg:https://hopechurchfamily.org/wp-content/uploads/2016/09/communion-400_400.jpg
GEO:52.0573708;-2.2942158
X-APPLE-STRUCTURED-LOCATION;VALUE=URI;X-ADDRESS=Welland St James Church Drake Street Welland Worcestershire WR13 6LP United Kingdom;X-APPLE-RADIUS=500;X-TITLE=Drake Street:geo:-2.2942158,52.0573708
END:VEVENT
BEGIN:VEVENT
DTSTART;TZID=Europe/London:20281224T110000
DTEND;TZID=Europe/London:20281224T120000
DTSTAMP:20260426T021953
CREATED:20251014T115701Z
LAST-MODIFIED:20251014T133703Z
UID:10006540-1861268400-1861272000@hopechurchfamily.org
SUMMARY:Holy Communion
DESCRIPTION:Join us for a simple service of Holy Communion.
URL:https://hopechurchfamily.org/calendars/holy-communion-10/2028-12-24/
LOCATION:Ripple\, St Mary’s\, The Cross\, Ripple\, GL20 6HA
CATEGORIES:AdvertiseRipple,Ripple,Service
ATTACH;FMTTYPE=image/jpeg:https://hopechurchfamily.org/wp-content/uploads/2016/09/communion-400_400.jpg
GEO:52.0381259;-2.1838752
X-APPLE-STRUCTURED-LOCATION;VALUE=URI;X-ADDRESS=Ripple St Mary’s The Cross Ripple GL20 6HA;X-APPLE-RADIUS=500;X-TITLE=The Cross:geo:-2.1838752,52.0381259
END:VEVENT
BEGIN:VEVENT
DTSTART;TZID=Europe/London:20281224T160000
DTEND;TZID=Europe/London:20281224T170000
DTSTAMP:20260426T021953
CREATED:20241127T202701Z
LAST-MODIFIED:20241127T202728Z
UID:10005701-1861286400-1861290000@hopechurchfamily.org
SUMMARY:Crib Service
DESCRIPTION:Join us for our annual Christmas Eve Crib service\, carols\, nativity and a lot of fun.
URL:https://hopechurchfamily.org/calendars/crib-service/2028-12-24/
LOCATION:Hanley Swan\, St Gabriel’s\, Hanley Swan\, Worcestershire\, wr8 0dy\, United Kingdom
CATEGORIES:AdvertiseHanleysWelland,Christmas,ChristmasHanleySwan,Service
ATTACH;FMTTYPE=image/jpeg:https://hopechurchfamily.org/wp-content/uploads/2016/11/crib-service-400_400.jpg
GEO:52.0833913;-2.2766275
END:VEVENT
BEGIN:VEVENT
DTSTART;TZID=Europe/London:20281224T160000
DTEND;TZID=Europe/London:20281224T170000
DTSTAMP:20260426T021953
CREATED:20241127T202848Z
LAST-MODIFIED:20241127T203207Z
UID:10005706-1861286400-1861290000@hopechurchfamily.org
SUMMARY:Christingle and Crib Service
DESCRIPTION:Join us for our annual Christingle and Crib Service\, carols\, nativity and lots of fun.
URL:https://hopechurchfamily.org/calendars/christingle-and-crib-service/2028-12-24/
LOCATION:Welland\, St James Church\, Drake Street\, Welland\, Worcestershire\, WR13 6LP\, United Kingdom
CATEGORIES:AdvertiseHanleysWelland,ChristmasWelland,Service,Welland
ATTACH;FMTTYPE=image/jpeg:https://hopechurchfamily.org/wp-content/uploads/2016/11/crib-service-400_400.jpg
GEO:52.0573708;-2.2942158
X-APPLE-STRUCTURED-LOCATION;VALUE=URI;X-ADDRESS=Welland St James Church Drake Street Welland Worcestershire WR13 6LP United Kingdom;X-APPLE-RADIUS=500;X-TITLE=Drake Street:geo:-2.2942158,52.0573708
END:VEVENT
BEGIN:VEVENT
DTSTART;TZID=Europe/London:20281224T160000
DTEND;TZID=Europe/London:20281224T170000
DTSTAMP:20260426T021953
CREATED:20241127T203006Z
LAST-MODIFIED:20241127T203232Z
UID:10005711-1861286400-1861290000@hopechurchfamily.org
SUMMARY:Crib Service
DESCRIPTION:Join us for our annual Christmas Eve crib service\, with carols\, readings\, nativity and Jesus’ birthday cake!
URL:https://hopechurchfamily.org/calendars/crib-service-2/2028-12-24/
LOCATION:Ripple\, St Mary’s\, The Cross\, Ripple\, GL20 6HA
CATEGORIES:AdvertiseRipple,ChristmasRipple,Ripple,Service
ATTACH;FMTTYPE=image/jpeg:https://hopechurchfamily.org/wp-content/uploads/2016/11/crib-service-400_400.jpg
GEO:52.0381259;-2.1838752
X-APPLE-STRUCTURED-LOCATION;VALUE=URI;X-ADDRESS=Ripple St Mary’s The Cross Ripple GL20 6HA;X-APPLE-RADIUS=500;X-TITLE=The Cross:geo:-2.1838752,52.0381259
END:VEVENT
BEGIN:VEVENT
DTSTART;TZID=Europe/London:20281224T200000
DTEND;TZID=Europe/London:20281224T210000
DTSTAMP:20260426T021953
CREATED:20231201T000504Z
LAST-MODIFIED:20231201T000504Z
UID:10005363-1861300800-1861304400@hopechurchfamily.org
SUMMARY:Holy Communion
DESCRIPTION:Join us for a service of Holy Communion.
URL:https://hopechurchfamily.org/calendars/holy-communion-9/2028-12-24/
LOCATION:Welland\, St James Church\, Drake Street\, Welland\, Worcestershire\, WR13 6LP\, United Kingdom
CATEGORIES:AdvertiseHanleysWelland,Christmas,ChristmasWelland,Service,Welland
ATTACH;FMTTYPE=image/jpeg:https://hopechurchfamily.org/wp-content/uploads/2016/09/communion-400_400.jpg
GEO:52.0573708;-2.2942158
X-APPLE-STRUCTURED-LOCATION;VALUE=URI;X-ADDRESS=Welland St James Church Drake Street Welland Worcestershire WR13 6LP United Kingdom;X-APPLE-RADIUS=500;X-TITLE=Drake Street:geo:-2.2942158,52.0573708
END:VEVENT
BEGIN:VEVENT
DTSTART;TZID=Europe/London:20281224T230000
DTEND;TZID=Europe/London:20281224T235900
DTSTAMP:20260426T021953
CREATED:20231130T234507Z
LAST-MODIFIED:20231130T234723Z
UID:10005364-1861311600-1861315140@hopechurchfamily.org
SUMMARY:Holy Communion
DESCRIPTION:Join us for a service of Holy Communion.
URL:https://hopechurchfamily.org/calendars/holy-communion-5/2028-12-24/
LOCATION:Hanley Swan\, St Gabriel’s\, Hanley Swan\, Worcestershire\, wr8 0dy\, United Kingdom
CATEGORIES:AdvertiseHanleysWelland,Christmas,ChristmasHanleySwan,Hanley Swan,Service
ATTACH;FMTTYPE=image/jpeg:https://hopechurchfamily.org/wp-content/uploads/2016/09/communion-400_400.jpg
GEO:52.0833913;-2.2766275
END:VEVENT
BEGIN:VEVENT
DTSTART;TZID=Europe/London:20281224T233000
DTEND;TZID=Europe/London:20281225T003000
DTSTAMP:20260426T021953
CREATED:20231130T234644Z
LAST-MODIFIED:20231130T234644Z
UID:10005365-1861313400-1861317000@hopechurchfamily.org
SUMMARY:Holy Communion
DESCRIPTION:Join us for a special Christmas Eve service of Holy Communion.
URL:https://hopechurchfamily.org/calendars/holy-communion-7/2028-12-24/
LOCATION:Upton\, St Peter and St Paul\, Old Street\, Upton Upon Severn\, Worcestershire\, WR8 0JQ
CATEGORIES:AdvertiseUpton,Christmas,ChristmasUpton,Service,Upton
ATTACH;FMTTYPE=image/jpeg:https://hopechurchfamily.org/wp-content/uploads/2016/09/communion-400_400.jpg
GEO:52.0613513;-2.2183986
X-APPLE-STRUCTURED-LOCATION;VALUE=URI;X-ADDRESS=Upton St Peter and St Paul Old Street Upton Upon Severn Worcestershire WR8 0JQ;X-APPLE-RADIUS=500;X-TITLE=Old Street:geo:-2.2183986,52.0613513
END:VEVENT
END:VCALENDAR