BEGIN:VCALENDAR
VERSION:2.0
PRODID:-//The Hope Church Family - ECPv6.15.20//NONSGML v1.0//EN
CALSCALE:GREGORIAN
METHOD:PUBLISH
X-WR-CALNAME:The Hope Church Family
X-ORIGINAL-URL:https://hopechurchfamily.org
X-WR-CALDESC:Events for The Hope Church Family
REFRESH-INTERVAL;VALUE=DURATION:PT1H
X-Robots-Tag:noindex
X-PUBLISHED-TTL:PT1H
BEGIN:VTIMEZONE
TZID:Europe/London
BEGIN:DAYLIGHT
TZOFFSETFROM:+0000
TZOFFSETTO:+0100
TZNAME:BST
DTSTART:20250330T010000
END:DAYLIGHT
BEGIN:STANDARD
TZOFFSETFROM:+0100
TZOFFSETTO:+0000
TZNAME:GMT
DTSTART:20251026T010000
END:STANDARD
BEGIN:DAYLIGHT
TZOFFSETFROM:+0000
TZOFFSETTO:+0100
TZNAME:BST
DTSTART:20260329T010000
END:DAYLIGHT
BEGIN:STANDARD
TZOFFSETFROM:+0100
TZOFFSETTO:+0000
TZNAME:GMT
DTSTART:20261025T010000
END:STANDARD
BEGIN:DAYLIGHT
TZOFFSETFROM:+0000
TZOFFSETTO:+0100
TZNAME:BST
DTSTART:20270328T010000
END:DAYLIGHT
BEGIN:STANDARD
TZOFFSETFROM:+0100
TZOFFSETTO:+0000
TZNAME:GMT
DTSTART:20271031T010000
END:STANDARD
END:VTIMEZONE
BEGIN:VEVENT
DTSTART;TZID=Europe/London:20260503T183000
DTEND;TZID=Europe/London:20260503T193000
DTSTAMP:20260421T151209
CREATED:20230920T092608Z
LAST-MODIFIED:20260401T120453Z
UID:10003554-1777833000-1777836600@hopechurchfamily.org
SUMMARY:Evensong
DESCRIPTION:Join us for a simple evensong service\, with hymns\, readings\, a short reflection and a warm welcome.
URL:https://hopechurchfamily.org/calendars/evensong/2026-05-03/
LOCATION:Hanley Castle\, St Mary\, Hanley Castle\, Worcestershire\, WR8 0BL
CATEGORIES:AdvertiseHanleysWelland,Hanley Castle,Service
ATTACH;FMTTYPE=image/jpeg:https://hopechurchfamily.org/wp-content/uploads/2016/11/prayer-book-evensong-400_400.jpg
END:VEVENT
BEGIN:VEVENT
DTSTART;TZID=Europe/London:20260503T183000
DTEND;TZID=Europe/London:20260503T193000
DTSTAMP:20260421T151209
CREATED:20260401T120335Z
LAST-MODIFIED:20260401T120335Z
UID:10007976-1777833000-1777836600@hopechurchfamily.org
SUMMARY:Evensong
DESCRIPTION:Join us for a simple evensong service\, with hymns\, readings\, a short reflection and a warm welcome.
URL:https://hopechurchfamily.org/calendars/evensong-2/
LOCATION:Hanley Castle\, St Mary\, Hanley Castle\, Worcestershire\, WR8 0BL
CATEGORIES:AdvertiseHanleysWelland,Easter,EasterSunday,Hanley Castle,Service
ATTACH;FMTTYPE=image/jpeg:https://hopechurchfamily.org/wp-content/uploads/2018/02/easter400_400.jpg
END:VEVENT
BEGIN:VEVENT
DTSTART;TZID=Europe/London:20260510T080000
DTEND;TZID=Europe/London:20260510T090000
DTSTAMP:20260421T151209
CREATED:20200815T224025Z
LAST-MODIFIED:20260401T115320Z
UID:10003997-1778400000-1778403600@hopechurchfamily.org
SUMMARY:Holy Communion
DESCRIPTION:Join us for a simple service of Holy Communion. \n 
URL:https://hopechurchfamily.org/calendars/holy-communion-5-2020-09-13-2021-05-09-2022-01-09-2022-01-23-2022-05-08/2026-05-10/
LOCATION:Hanley Castle\, St Mary\, Hanley Castle\, Worcestershire\, WR8 0BL
CATEGORIES:AdvertiseHanleysWelland,All,Hanley Castle,Service
ATTACH;FMTTYPE=image/jpeg:https://hopechurchfamily.org/wp-content/uploads/2016/09/communion-400_400.jpg
END:VEVENT
BEGIN:VEVENT
DTSTART;TZID=Europe/London:20260517T110000
DTEND;TZID=Europe/London:20260517T120000
DTSTAMP:20260421T151209
CREATED:20230315T180103Z
LAST-MODIFIED:20251021T130510Z
UID:10003071-1779015600-1779019200@hopechurchfamily.org
SUMMARY:Stir-Up Church - All-Age Service
DESCRIPTION:A regular service for people of all ages\, taking place every 3rd Sunday of the month. \nThis is a new approach to worship\, designed to stir us up to be involved in worship through our interests and gifts. \nSometimes led by young people who will stir up our thoughts and challenge us all with what matters to them. \nSometimes using traditional forms of worship\, but in new ways\, to stir up all that is best in us. \nConstantly stirred up by the Holy Spirit\, who will lead us into new ways. \nContact Sue Adeney for more information.
URL:https://hopechurchfamily.org/calendars/stir-up-church-all-age-service-2/2026-05-17/
LOCATION:Hanley Castle\, St Mary\, Hanley Castle\, Worcestershire\, WR8 0BL
CATEGORIES:AdvertiseHanleysWelland,children,Hanley Castle,Hanley Swan,Kidfriendly,kids,Service,Welland,youth
ATTACH;FMTTYPE=image/jpeg:https://hopechurchfamily.org/wp-content/uploads/2021/11/all-age-400_400.jpg
END:VEVENT
BEGIN:VEVENT
DTSTART;TZID=Europe/London:20260607T183000
DTEND;TZID=Europe/London:20260607T193000
DTSTAMP:20260421T151209
CREATED:20230920T092608Z
LAST-MODIFIED:20260401T120453Z
UID:10003555-1780857000-1780860600@hopechurchfamily.org
SUMMARY:Evensong
DESCRIPTION:Join us for a simple evensong service\, with hymns\, readings\, a short reflection and a warm welcome.
URL:https://hopechurchfamily.org/calendars/evensong/2026-06-07/
LOCATION:Hanley Castle\, St Mary\, Hanley Castle\, Worcestershire\, WR8 0BL
CATEGORIES:AdvertiseHanleysWelland,Hanley Castle,Service
ATTACH;FMTTYPE=image/jpeg:https://hopechurchfamily.org/wp-content/uploads/2016/11/prayer-book-evensong-400_400.jpg
END:VEVENT
BEGIN:VEVENT
DTSTART;TZID=Europe/London:20260607T183000
DTEND;TZID=Europe/London:20260607T193000
DTSTAMP:20260421T151209
CREATED:20260401T120335Z
LAST-MODIFIED:20260401T120335Z
UID:10007977-1780857000-1780860600@hopechurchfamily.org
SUMMARY:Evensong
DESCRIPTION:Join us for a simple evensong service\, with hymns\, readings\, a short reflection and a warm welcome.
URL:https://hopechurchfamily.org/calendars/evensong-2/
LOCATION:Hanley Castle\, St Mary\, Hanley Castle\, Worcestershire\, WR8 0BL
CATEGORIES:AdvertiseHanleysWelland,Easter,EasterSunday,Hanley Castle,Service
ATTACH;FMTTYPE=image/jpeg:https://hopechurchfamily.org/wp-content/uploads/2018/02/easter400_400.jpg
END:VEVENT
BEGIN:VEVENT
DTSTART;TZID=Europe/London:20260614T080000
DTEND;TZID=Europe/London:20260614T090000
DTSTAMP:20260421T151209
CREATED:20200815T224025Z
LAST-MODIFIED:20260401T115320Z
UID:10003998-1781424000-1781427600@hopechurchfamily.org
SUMMARY:Holy Communion
DESCRIPTION:Join us for a simple service of Holy Communion. \n 
URL:https://hopechurchfamily.org/calendars/holy-communion-5-2020-09-13-2021-05-09-2022-01-09-2022-01-23-2022-05-08/2026-06-14/
LOCATION:Hanley Castle\, St Mary\, Hanley Castle\, Worcestershire\, WR8 0BL
CATEGORIES:AdvertiseHanleysWelland,All,Hanley Castle,Service
ATTACH;FMTTYPE=image/jpeg:https://hopechurchfamily.org/wp-content/uploads/2016/09/communion-400_400.jpg
END:VEVENT
BEGIN:VEVENT
DTSTART;TZID=Europe/London:20260621T110000
DTEND;TZID=Europe/London:20260621T120000
DTSTAMP:20260421T151209
CREATED:20230315T180103Z
LAST-MODIFIED:20251021T130510Z
UID:10003072-1782039600-1782043200@hopechurchfamily.org
SUMMARY:Stir-Up Church - All-Age Service
DESCRIPTION:A regular service for people of all ages\, taking place every 3rd Sunday of the month. \nThis is a new approach to worship\, designed to stir us up to be involved in worship through our interests and gifts. \nSometimes led by young people who will stir up our thoughts and challenge us all with what matters to them. \nSometimes using traditional forms of worship\, but in new ways\, to stir up all that is best in us. \nConstantly stirred up by the Holy Spirit\, who will lead us into new ways. \nContact Sue Adeney for more information.
URL:https://hopechurchfamily.org/calendars/stir-up-church-all-age-service-2/2026-06-21/
LOCATION:Hanley Castle\, St Mary\, Hanley Castle\, Worcestershire\, WR8 0BL
CATEGORIES:AdvertiseHanleysWelland,children,Hanley Castle,Hanley Swan,Kidfriendly,kids,Service,Welland,youth
ATTACH;FMTTYPE=image/jpeg:https://hopechurchfamily.org/wp-content/uploads/2021/11/all-age-400_400.jpg
END:VEVENT
BEGIN:VEVENT
DTSTART;TZID=Europe/London:20260705T183000
DTEND;TZID=Europe/London:20260705T193000
DTSTAMP:20260421T151209
CREATED:20230920T092608Z
LAST-MODIFIED:20260401T120453Z
UID:10003556-1783276200-1783279800@hopechurchfamily.org
SUMMARY:Evensong
DESCRIPTION:Join us for a simple evensong service\, with hymns\, readings\, a short reflection and a warm welcome.
URL:https://hopechurchfamily.org/calendars/evensong/2026-07-05/
LOCATION:Hanley Castle\, St Mary\, Hanley Castle\, Worcestershire\, WR8 0BL
CATEGORIES:AdvertiseHanleysWelland,Hanley Castle,Service
ATTACH;FMTTYPE=image/jpeg:https://hopechurchfamily.org/wp-content/uploads/2016/11/prayer-book-evensong-400_400.jpg
END:VEVENT
BEGIN:VEVENT
DTSTART;TZID=Europe/London:20260705T183000
DTEND;TZID=Europe/London:20260705T193000
DTSTAMP:20260421T151209
CREATED:20260401T120335Z
LAST-MODIFIED:20260401T120335Z
UID:10007978-1783276200-1783279800@hopechurchfamily.org
SUMMARY:Evensong
DESCRIPTION:Join us for a simple evensong service\, with hymns\, readings\, a short reflection and a warm welcome.
URL:https://hopechurchfamily.org/calendars/evensong-2/
LOCATION:Hanley Castle\, St Mary\, Hanley Castle\, Worcestershire\, WR8 0BL
CATEGORIES:AdvertiseHanleysWelland,Easter,EasterSunday,Hanley Castle,Service
ATTACH;FMTTYPE=image/jpeg:https://hopechurchfamily.org/wp-content/uploads/2018/02/easter400_400.jpg
END:VEVENT
BEGIN:VEVENT
DTSTART;TZID=Europe/London:20260712T080000
DTEND;TZID=Europe/London:20260712T090000
DTSTAMP:20260421T151209
CREATED:20200815T224025Z
LAST-MODIFIED:20260401T115320Z
UID:10003999-1783843200-1783846800@hopechurchfamily.org
SUMMARY:Holy Communion
DESCRIPTION:Join us for a simple service of Holy Communion. \n 
URL:https://hopechurchfamily.org/calendars/holy-communion-5-2020-09-13-2021-05-09-2022-01-09-2022-01-23-2022-05-08/2026-07-12/
LOCATION:Hanley Castle\, St Mary\, Hanley Castle\, Worcestershire\, WR8 0BL
CATEGORIES:AdvertiseHanleysWelland,All,Hanley Castle,Service
ATTACH;FMTTYPE=image/jpeg:https://hopechurchfamily.org/wp-content/uploads/2016/09/communion-400_400.jpg
END:VEVENT
BEGIN:VEVENT
DTSTART;TZID=Europe/London:20260719T110000
DTEND;TZID=Europe/London:20260719T120000
DTSTAMP:20260421T151209
CREATED:20230315T180103Z
LAST-MODIFIED:20251021T130510Z
UID:10003073-1784458800-1784462400@hopechurchfamily.org
SUMMARY:Stir-Up Church - All-Age Service
DESCRIPTION:A regular service for people of all ages\, taking place every 3rd Sunday of the month. \nThis is a new approach to worship\, designed to stir us up to be involved in worship through our interests and gifts. \nSometimes led by young people who will stir up our thoughts and challenge us all with what matters to them. \nSometimes using traditional forms of worship\, but in new ways\, to stir up all that is best in us. \nConstantly stirred up by the Holy Spirit\, who will lead us into new ways. \nContact Sue Adeney for more information.
URL:https://hopechurchfamily.org/calendars/stir-up-church-all-age-service-2/2026-07-19/
LOCATION:Hanley Castle\, St Mary\, Hanley Castle\, Worcestershire\, WR8 0BL
CATEGORIES:AdvertiseHanleysWelland,children,Hanley Castle,Hanley Swan,Kidfriendly,kids,Service,Welland,youth
ATTACH;FMTTYPE=image/jpeg:https://hopechurchfamily.org/wp-content/uploads/2021/11/all-age-400_400.jpg
END:VEVENT
BEGIN:VEVENT
DTSTART;TZID=Europe/London:20260802T183000
DTEND;TZID=Europe/London:20260802T193000
DTSTAMP:20260421T151209
CREATED:20230920T092608Z
LAST-MODIFIED:20260401T120453Z
UID:10003557-1785695400-1785699000@hopechurchfamily.org
SUMMARY:Evensong
DESCRIPTION:Join us for a simple evensong service\, with hymns\, readings\, a short reflection and a warm welcome.
URL:https://hopechurchfamily.org/calendars/evensong/2026-08-02/
LOCATION:Hanley Castle\, St Mary\, Hanley Castle\, Worcestershire\, WR8 0BL
CATEGORIES:AdvertiseHanleysWelland,Hanley Castle,Service
ATTACH;FMTTYPE=image/jpeg:https://hopechurchfamily.org/wp-content/uploads/2016/11/prayer-book-evensong-400_400.jpg
END:VEVENT
BEGIN:VEVENT
DTSTART;TZID=Europe/London:20260802T183000
DTEND;TZID=Europe/London:20260802T193000
DTSTAMP:20260421T151209
CREATED:20260401T120335Z
LAST-MODIFIED:20260401T120335Z
UID:10007979-1785695400-1785699000@hopechurchfamily.org
SUMMARY:Evensong
DESCRIPTION:Join us for a simple evensong service\, with hymns\, readings\, a short reflection and a warm welcome.
URL:https://hopechurchfamily.org/calendars/evensong-2/
LOCATION:Hanley Castle\, St Mary\, Hanley Castle\, Worcestershire\, WR8 0BL
CATEGORIES:AdvertiseHanleysWelland,Easter,EasterSunday,Hanley Castle,Service
ATTACH;FMTTYPE=image/jpeg:https://hopechurchfamily.org/wp-content/uploads/2018/02/easter400_400.jpg
END:VEVENT
BEGIN:VEVENT
DTSTART;TZID=Europe/London:20260809T080000
DTEND;TZID=Europe/London:20260809T090000
DTSTAMP:20260421T151209
CREATED:20200815T224025Z
LAST-MODIFIED:20260401T115320Z
UID:10004000-1786262400-1786266000@hopechurchfamily.org
SUMMARY:Holy Communion
DESCRIPTION:Join us for a simple service of Holy Communion. \n 
URL:https://hopechurchfamily.org/calendars/holy-communion-5-2020-09-13-2021-05-09-2022-01-09-2022-01-23-2022-05-08/2026-08-09/
LOCATION:Hanley Castle\, St Mary\, Hanley Castle\, Worcestershire\, WR8 0BL
CATEGORIES:AdvertiseHanleysWelland,All,Hanley Castle,Service
ATTACH;FMTTYPE=image/jpeg:https://hopechurchfamily.org/wp-content/uploads/2016/09/communion-400_400.jpg
END:VEVENT
BEGIN:VEVENT
DTSTART;TZID=Europe/London:20260816T110000
DTEND;TZID=Europe/London:20260816T120000
DTSTAMP:20260421T151209
CREATED:20230315T180103Z
LAST-MODIFIED:20251021T130510Z
UID:10003074-1786878000-1786881600@hopechurchfamily.org
SUMMARY:Stir-Up Church - All-Age Service
DESCRIPTION:A regular service for people of all ages\, taking place every 3rd Sunday of the month. \nThis is a new approach to worship\, designed to stir us up to be involved in worship through our interests and gifts. \nSometimes led by young people who will stir up our thoughts and challenge us all with what matters to them. \nSometimes using traditional forms of worship\, but in new ways\, to stir up all that is best in us. \nConstantly stirred up by the Holy Spirit\, who will lead us into new ways. \nContact Sue Adeney for more information.
URL:https://hopechurchfamily.org/calendars/stir-up-church-all-age-service-2/2026-08-16/
LOCATION:Hanley Castle\, St Mary\, Hanley Castle\, Worcestershire\, WR8 0BL
CATEGORIES:AdvertiseHanleysWelland,children,Hanley Castle,Hanley Swan,Kidfriendly,kids,Service,Welland,youth
ATTACH;FMTTYPE=image/jpeg:https://hopechurchfamily.org/wp-content/uploads/2021/11/all-age-400_400.jpg
END:VEVENT
BEGIN:VEVENT
DTSTART;TZID=Europe/London:20260906T183000
DTEND;TZID=Europe/London:20260906T193000
DTSTAMP:20260421T151209
CREATED:20230920T092608Z
LAST-MODIFIED:20260401T120453Z
UID:10003558-1788719400-1788723000@hopechurchfamily.org
SUMMARY:Evensong
DESCRIPTION:Join us for a simple evensong service\, with hymns\, readings\, a short reflection and a warm welcome.
URL:https://hopechurchfamily.org/calendars/evensong/2026-09-06/
LOCATION:Hanley Castle\, St Mary\, Hanley Castle\, Worcestershire\, WR8 0BL
CATEGORIES:AdvertiseHanleysWelland,Hanley Castle,Service
ATTACH;FMTTYPE=image/jpeg:https://hopechurchfamily.org/wp-content/uploads/2016/11/prayer-book-evensong-400_400.jpg
END:VEVENT
BEGIN:VEVENT
DTSTART;TZID=Europe/London:20260906T183000
DTEND;TZID=Europe/London:20260906T193000
DTSTAMP:20260421T151209
CREATED:20260401T120335Z
LAST-MODIFIED:20260401T120335Z
UID:10007980-1788719400-1788723000@hopechurchfamily.org
SUMMARY:Evensong
DESCRIPTION:Join us for a simple evensong service\, with hymns\, readings\, a short reflection and a warm welcome.
URL:https://hopechurchfamily.org/calendars/evensong-2/
LOCATION:Hanley Castle\, St Mary\, Hanley Castle\, Worcestershire\, WR8 0BL
CATEGORIES:AdvertiseHanleysWelland,Easter,EasterSunday,Hanley Castle,Service
ATTACH;FMTTYPE=image/jpeg:https://hopechurchfamily.org/wp-content/uploads/2018/02/easter400_400.jpg
END:VEVENT
BEGIN:VEVENT
DTSTART;TZID=Europe/London:20260913T080000
DTEND;TZID=Europe/London:20260913T090000
DTSTAMP:20260421T151209
CREATED:20200815T224025Z
LAST-MODIFIED:20260401T115320Z
UID:10004001-1789286400-1789290000@hopechurchfamily.org
SUMMARY:Holy Communion
DESCRIPTION:Join us for a simple service of Holy Communion. \n 
URL:https://hopechurchfamily.org/calendars/holy-communion-5-2020-09-13-2021-05-09-2022-01-09-2022-01-23-2022-05-08/2026-09-13/
LOCATION:Hanley Castle\, St Mary\, Hanley Castle\, Worcestershire\, WR8 0BL
CATEGORIES:AdvertiseHanleysWelland,All,Hanley Castle,Service
ATTACH;FMTTYPE=image/jpeg:https://hopechurchfamily.org/wp-content/uploads/2016/09/communion-400_400.jpg
END:VEVENT
BEGIN:VEVENT
DTSTART;TZID=Europe/London:20260920T110000
DTEND;TZID=Europe/London:20260920T120000
DTSTAMP:20260421T151209
CREATED:20230315T180103Z
LAST-MODIFIED:20251021T130510Z
UID:10003075-1789902000-1789905600@hopechurchfamily.org
SUMMARY:Stir-Up Church - All-Age Service
DESCRIPTION:A regular service for people of all ages\, taking place every 3rd Sunday of the month. \nThis is a new approach to worship\, designed to stir us up to be involved in worship through our interests and gifts. \nSometimes led by young people who will stir up our thoughts and challenge us all with what matters to them. \nSometimes using traditional forms of worship\, but in new ways\, to stir up all that is best in us. \nConstantly stirred up by the Holy Spirit\, who will lead us into new ways. \nContact Sue Adeney for more information.
URL:https://hopechurchfamily.org/calendars/stir-up-church-all-age-service-2/2026-09-20/
LOCATION:Hanley Castle\, St Mary\, Hanley Castle\, Worcestershire\, WR8 0BL
CATEGORIES:AdvertiseHanleysWelland,children,Hanley Castle,Hanley Swan,Kidfriendly,kids,Service,Welland,youth
ATTACH;FMTTYPE=image/jpeg:https://hopechurchfamily.org/wp-content/uploads/2021/11/all-age-400_400.jpg
END:VEVENT
BEGIN:VEVENT
DTSTART;TZID=Europe/London:20261004T183000
DTEND;TZID=Europe/London:20261004T193000
DTSTAMP:20260421T151209
CREATED:20230920T092608Z
LAST-MODIFIED:20260401T120453Z
UID:10003559-1791138600-1791142200@hopechurchfamily.org
SUMMARY:Evensong
DESCRIPTION:Join us for a simple evensong service\, with hymns\, readings\, a short reflection and a warm welcome.
URL:https://hopechurchfamily.org/calendars/evensong/2026-10-04/
LOCATION:Hanley Castle\, St Mary\, Hanley Castle\, Worcestershire\, WR8 0BL
CATEGORIES:AdvertiseHanleysWelland,Hanley Castle,Service
ATTACH;FMTTYPE=image/jpeg:https://hopechurchfamily.org/wp-content/uploads/2016/11/prayer-book-evensong-400_400.jpg
END:VEVENT
BEGIN:VEVENT
DTSTART;TZID=Europe/London:20261004T183000
DTEND;TZID=Europe/London:20261004T193000
DTSTAMP:20260421T151209
CREATED:20260401T120335Z
LAST-MODIFIED:20260401T120335Z
UID:10007981-1791138600-1791142200@hopechurchfamily.org
SUMMARY:Evensong
DESCRIPTION:Join us for a simple evensong service\, with hymns\, readings\, a short reflection and a warm welcome.
URL:https://hopechurchfamily.org/calendars/evensong-2/
LOCATION:Hanley Castle\, St Mary\, Hanley Castle\, Worcestershire\, WR8 0BL
CATEGORIES:AdvertiseHanleysWelland,Easter,EasterSunday,Hanley Castle,Service
ATTACH;FMTTYPE=image/jpeg:https://hopechurchfamily.org/wp-content/uploads/2018/02/easter400_400.jpg
END:VEVENT
BEGIN:VEVENT
DTSTART;TZID=Europe/London:20261011T080000
DTEND;TZID=Europe/London:20261011T090000
DTSTAMP:20260421T151209
CREATED:20200815T224025Z
LAST-MODIFIED:20260401T115320Z
UID:10004002-1791705600-1791709200@hopechurchfamily.org
SUMMARY:Holy Communion
DESCRIPTION:Join us for a simple service of Holy Communion. \n 
URL:https://hopechurchfamily.org/calendars/holy-communion-5-2020-09-13-2021-05-09-2022-01-09-2022-01-23-2022-05-08/2026-10-11/
LOCATION:Hanley Castle\, St Mary\, Hanley Castle\, Worcestershire\, WR8 0BL
CATEGORIES:AdvertiseHanleysWelland,All,Hanley Castle,Service
ATTACH;FMTTYPE=image/jpeg:https://hopechurchfamily.org/wp-content/uploads/2016/09/communion-400_400.jpg
END:VEVENT
BEGIN:VEVENT
DTSTART;TZID=Europe/London:20261018T110000
DTEND;TZID=Europe/London:20261018T120000
DTSTAMP:20260421T151209
CREATED:20230315T180103Z
LAST-MODIFIED:20251021T130510Z
UID:10003076-1792321200-1792324800@hopechurchfamily.org
SUMMARY:Stir-Up Church - All-Age Service
DESCRIPTION:A regular service for people of all ages\, taking place every 3rd Sunday of the month. \nThis is a new approach to worship\, designed to stir us up to be involved in worship through our interests and gifts. \nSometimes led by young people who will stir up our thoughts and challenge us all with what matters to them. \nSometimes using traditional forms of worship\, but in new ways\, to stir up all that is best in us. \nConstantly stirred up by the Holy Spirit\, who will lead us into new ways. \nContact Sue Adeney for more information.
URL:https://hopechurchfamily.org/calendars/stir-up-church-all-age-service-2/2026-10-18/
LOCATION:Hanley Castle\, St Mary\, Hanley Castle\, Worcestershire\, WR8 0BL
CATEGORIES:AdvertiseHanleysWelland,children,Hanley Castle,Hanley Swan,Kidfriendly,kids,Service,Welland,youth
ATTACH;FMTTYPE=image/jpeg:https://hopechurchfamily.org/wp-content/uploads/2021/11/all-age-400_400.jpg
END:VEVENT
BEGIN:VEVENT
DTSTART;TZID=Europe/London:20261101T183000
DTEND;TZID=Europe/London:20261101T193000
DTSTAMP:20260421T151209
CREATED:20230920T092608Z
LAST-MODIFIED:20260401T120453Z
UID:10003560-1793557800-1793561400@hopechurchfamily.org
SUMMARY:Evensong
DESCRIPTION:Join us for a simple evensong service\, with hymns\, readings\, a short reflection and a warm welcome.
URL:https://hopechurchfamily.org/calendars/evensong/2026-11-01/
LOCATION:Hanley Castle\, St Mary\, Hanley Castle\, Worcestershire\, WR8 0BL
CATEGORIES:AdvertiseHanleysWelland,Hanley Castle,Service
ATTACH;FMTTYPE=image/jpeg:https://hopechurchfamily.org/wp-content/uploads/2016/11/prayer-book-evensong-400_400.jpg
END:VEVENT
BEGIN:VEVENT
DTSTART;TZID=Europe/London:20261101T183000
DTEND;TZID=Europe/London:20261101T193000
DTSTAMP:20260421T151209
CREATED:20260401T120335Z
LAST-MODIFIED:20260401T120335Z
UID:10007982-1793557800-1793561400@hopechurchfamily.org
SUMMARY:Evensong
DESCRIPTION:Join us for a simple evensong service\, with hymns\, readings\, a short reflection and a warm welcome.
URL:https://hopechurchfamily.org/calendars/evensong-2/
LOCATION:Hanley Castle\, St Mary\, Hanley Castle\, Worcestershire\, WR8 0BL
CATEGORIES:AdvertiseHanleysWelland,Easter,EasterSunday,Hanley Castle,Service
ATTACH;FMTTYPE=image/jpeg:https://hopechurchfamily.org/wp-content/uploads/2018/02/easter400_400.jpg
END:VEVENT
BEGIN:VEVENT
DTSTART;TZID=Europe/London:20261108T080000
DTEND;TZID=Europe/London:20261108T090000
DTSTAMP:20260421T151209
CREATED:20200815T224025Z
LAST-MODIFIED:20260401T115320Z
UID:10004003-1794124800-1794128400@hopechurchfamily.org
SUMMARY:Holy Communion
DESCRIPTION:Join us for a simple service of Holy Communion. \n 
URL:https://hopechurchfamily.org/calendars/holy-communion-5-2020-09-13-2021-05-09-2022-01-09-2022-01-23-2022-05-08/2026-11-08/
LOCATION:Hanley Castle\, St Mary\, Hanley Castle\, Worcestershire\, WR8 0BL
CATEGORIES:AdvertiseHanleysWelland,All,Hanley Castle,Service
ATTACH;FMTTYPE=image/jpeg:https://hopechurchfamily.org/wp-content/uploads/2016/09/communion-400_400.jpg
END:VEVENT
BEGIN:VEVENT
DTSTART;TZID=Europe/London:20261115T110000
DTEND;TZID=Europe/London:20261115T120000
DTSTAMP:20260421T151209
CREATED:20230315T180103Z
LAST-MODIFIED:20251021T130510Z
UID:10003077-1794740400-1794744000@hopechurchfamily.org
SUMMARY:Stir-Up Church - All-Age Service
DESCRIPTION:A regular service for people of all ages\, taking place every 3rd Sunday of the month. \nThis is a new approach to worship\, designed to stir us up to be involved in worship through our interests and gifts. \nSometimes led by young people who will stir up our thoughts and challenge us all with what matters to them. \nSometimes using traditional forms of worship\, but in new ways\, to stir up all that is best in us. \nConstantly stirred up by the Holy Spirit\, who will lead us into new ways. \nContact Sue Adeney for more information.
URL:https://hopechurchfamily.org/calendars/stir-up-church-all-age-service-2/2026-11-15/
LOCATION:Hanley Castle\, St Mary\, Hanley Castle\, Worcestershire\, WR8 0BL
CATEGORIES:AdvertiseHanleysWelland,children,Hanley Castle,Hanley Swan,Kidfriendly,kids,Service,Welland,youth
ATTACH;FMTTYPE=image/jpeg:https://hopechurchfamily.org/wp-content/uploads/2021/11/all-age-400_400.jpg
END:VEVENT
BEGIN:VEVENT
DTSTART;TZID=Europe/London:20261206T183000
DTEND;TZID=Europe/London:20261206T193000
DTSTAMP:20260421T151209
CREATED:20230920T092608Z
LAST-MODIFIED:20260401T120453Z
UID:10003561-1796581800-1796585400@hopechurchfamily.org
SUMMARY:Evensong
DESCRIPTION:Join us for a simple evensong service\, with hymns\, readings\, a short reflection and a warm welcome.
URL:https://hopechurchfamily.org/calendars/evensong/2026-12-06/
LOCATION:Hanley Castle\, St Mary\, Hanley Castle\, Worcestershire\, WR8 0BL
CATEGORIES:AdvertiseHanleysWelland,Hanley Castle,Service
ATTACH;FMTTYPE=image/jpeg:https://hopechurchfamily.org/wp-content/uploads/2016/11/prayer-book-evensong-400_400.jpg
END:VEVENT
BEGIN:VEVENT
DTSTART;TZID=Europe/London:20261206T183000
DTEND;TZID=Europe/London:20261206T193000
DTSTAMP:20260421T151209
CREATED:20260401T120335Z
LAST-MODIFIED:20260401T120335Z
UID:10007983-1796581800-1796585400@hopechurchfamily.org
SUMMARY:Evensong
DESCRIPTION:Join us for a simple evensong service\, with hymns\, readings\, a short reflection and a warm welcome.
URL:https://hopechurchfamily.org/calendars/evensong-2/
LOCATION:Hanley Castle\, St Mary\, Hanley Castle\, Worcestershire\, WR8 0BL
CATEGORIES:AdvertiseHanleysWelland,Easter,EasterSunday,Hanley Castle,Service
ATTACH;FMTTYPE=image/jpeg:https://hopechurchfamily.org/wp-content/uploads/2018/02/easter400_400.jpg
END:VEVENT
END:VCALENDAR