BEGIN:VCALENDAR
VERSION:2.0
PRODID:-//The Hope Church Family - ECPv6.15.20//NONSGML v1.0//EN
CALSCALE:GREGORIAN
METHOD:PUBLISH
X-ORIGINAL-URL:https://hopechurchfamily.org
X-WR-CALDESC:Events for The Hope Church Family
REFRESH-INTERVAL;VALUE=DURATION:PT1H
X-Robots-Tag:noindex
X-PUBLISHED-TTL:PT1H
BEGIN:VTIMEZONE
TZID:Europe/London
BEGIN:DAYLIGHT
TZOFFSETFROM:+0000
TZOFFSETTO:+0100
TZNAME:BST
DTSTART:20270328T010000
END:DAYLIGHT
BEGIN:STANDARD
TZOFFSETFROM:+0100
TZOFFSETTO:+0000
TZNAME:GMT
DTSTART:20271031T010000
END:STANDARD
BEGIN:DAYLIGHT
TZOFFSETFROM:+0000
TZOFFSETTO:+0100
TZNAME:BST
DTSTART:20280326T010000
END:DAYLIGHT
BEGIN:STANDARD
TZOFFSETFROM:+0100
TZOFFSETTO:+0000
TZNAME:GMT
DTSTART:20281029T010000
END:STANDARD
BEGIN:DAYLIGHT
TZOFFSETFROM:+0000
TZOFFSETTO:+0100
TZNAME:BST
DTSTART:20290325T010000
END:DAYLIGHT
BEGIN:STANDARD
TZOFFSETFROM:+0100
TZOFFSETTO:+0000
TZNAME:GMT
DTSTART:20291028T010000
END:STANDARD
BEGIN:DAYLIGHT
TZOFFSETFROM:+0000
TZOFFSETTO:+0100
TZNAME:BST
DTSTART:20300331T010000
END:DAYLIGHT
BEGIN:STANDARD
TZOFFSETFROM:+0100
TZOFFSETTO:+0000
TZNAME:GMT
DTSTART:20301027T010000
END:STANDARD
END:VTIMEZONE
BEGIN:VEVENT
DTSTART;TZID=Europe/London:20281224T160000
DTEND;TZID=Europe/London:20281224T170000
DTSTAMP:20260424T054738
CREATED:20241127T202701Z
LAST-MODIFIED:20241127T202728Z
UID:10005701-1861286400-1861290000@hopechurchfamily.org
SUMMARY:Crib Service
DESCRIPTION:Join us for our annual Christmas Eve Crib service\, carols\, nativity and a lot of fun.
URL:https://hopechurchfamily.org/calendars/crib-service/2028-12-24/
LOCATION:Hanley Swan\, St Gabriel’s\, Hanley Swan\, Worcestershire\, wr8 0dy\, United Kingdom
CATEGORIES:AdvertiseHanleysWelland,Christmas,ChristmasHanleySwan,Service
ATTACH;FMTTYPE=image/jpeg:https://hopechurchfamily.org/wp-content/uploads/2016/11/crib-service-400_400.jpg
GEO:52.0833913;-2.2766275
END:VEVENT
BEGIN:VEVENT
DTSTART;TZID=Europe/London:20281224T230000
DTEND;TZID=Europe/London:20281224T235900
DTSTAMP:20260424T054738
CREATED:20231130T234507Z
LAST-MODIFIED:20231130T234723Z
UID:10005364-1861311600-1861315140@hopechurchfamily.org
SUMMARY:Holy Communion
DESCRIPTION:Join us for a service of Holy Communion.
URL:https://hopechurchfamily.org/calendars/holy-communion-5/2028-12-24/
LOCATION:Hanley Swan\, St Gabriel’s\, Hanley Swan\, Worcestershire\, wr8 0dy\, United Kingdom
CATEGORIES:AdvertiseHanleysWelland,Christmas,ChristmasHanleySwan,Hanley Swan,Service
ATTACH;FMTTYPE=image/jpeg:https://hopechurchfamily.org/wp-content/uploads/2016/09/communion-400_400.jpg
GEO:52.0833913;-2.2766275
END:VEVENT
BEGIN:VEVENT
DTSTART;TZID=Europe/London:20290104T190000
DTEND;TZID=Europe/London:20290104T200000
DTSTAMP:20260424T054738
CREATED:20250612T212344Z
LAST-MODIFIED:20260401T114529Z
UID:10006354-1862247600-1862251200@hopechurchfamily.org
SUMMARY:Thursday Evening Reflection
DESCRIPTION:On the first Thursday evening of each month\, we meet for a contemplative service of prayer\, Bible readings and beautiful music. It’s a time to find a place of stillness in the middle of our busy lives\, and make space for God. All are welcome.
URL:https://hopechurchfamily.org/calendars/thursday-evening-reflection/2029-01-04/
LOCATION:Hanley Swan\, St Gabriel’s\, Hanley Swan\, Worcestershire\, wr8 0dy\, United Kingdom
CATEGORIES:AdvertiseHanleysWelland,Hanley Swan,Service
ATTACH;FMTTYPE=image/jpeg:https://hopechurchfamily.org/wp-content/uploads/2025/06/thursday-evening-reflection-400_400.jpg
GEO:52.0833913;-2.2766275
END:VEVENT
BEGIN:VEVENT
DTSTART;TZID=Europe/London:20290107T093000
DTEND;TZID=Europe/London:20290107T103000
DTSTAMP:20260424T054738
CREATED:20251229T001712Z
LAST-MODIFIED:20260401T115835Z
UID:10007147-1862472600-1862476200@hopechurchfamily.org
SUMMARY:Holy Communion
DESCRIPTION:Join us for a simple service of Holy Communion.
URL:https://hopechurchfamily.org/calendars/holy-communion-11/2029-01-07/
LOCATION:Hanley Swan\, St Gabriel’s\, Hanley Swan\, Worcestershire\, wr8 0dy\, United Kingdom
CATEGORIES:AdvertiseHanleysWelland,All,Hanley Swan,Service
ATTACH;FMTTYPE=image/jpeg:https://hopechurchfamily.org/wp-content/uploads/2016/09/communion-400_400.jpg
GEO:52.0833913;-2.2766275
END:VEVENT
BEGIN:VEVENT
DTSTART;TZID=Europe/London:20290111T100000
DTEND;TZID=Europe/London:20290111T104500
DTSTAMP:20260424T054738
CREATED:20230614T090617Z
LAST-MODIFIED:20230614T090617Z
UID:10003883-1862820000-1862822700@hopechurchfamily.org
SUMMARY:Holy Communion
DESCRIPTION:A simple\, said\, Common Worship service of Holy Communion.
URL:https://hopechurchfamily.org/calendars/holy-communion-2/2029-01-11/
LOCATION:Hanley Swan\, St Gabriel’s\, Hanley Swan\, Worcestershire\, wr8 0dy\, United Kingdom
CATEGORIES:AdvertiseCroomes,AdvertiseHanleysWelland,AdvertiseRipple,AdvertiseUpton,Hanley Swan,Service
ATTACH;FMTTYPE=image/jpeg:https://hopechurchfamily.org/wp-content/uploads/2016/09/communion-400_400.jpg
GEO:52.0833913;-2.2766275
END:VEVENT
BEGIN:VEVENT
DTSTART;TZID=Europe/London:20290121T093000
DTEND;TZID=Europe/London:20290121T103000
DTSTAMP:20260424T054738
CREATED:20230920T090206Z
LAST-MODIFIED:20250401T142701Z
UID:10003895-1863682200-1863685800@hopechurchfamily.org
SUMMARY:Holy Communion
DESCRIPTION:Join us for a simple service of Holy Communion.
URL:https://hopechurchfamily.org/calendars/holy-communion/2029-01-21/
LOCATION:Hanley Swan\, St Gabriel’s\, Hanley Swan\, Worcestershire\, wr8 0dy\, United Kingdom
CATEGORIES:AdvertiseHanleysWelland,All,Hanley Swan,Service
ATTACH;FMTTYPE=image/jpeg:https://hopechurchfamily.org/wp-content/uploads/2016/09/communion-400_400.jpg
GEO:52.0833913;-2.2766275
END:VEVENT
BEGIN:VEVENT
DTSTART;TZID=Europe/London:20290128T093000
DTEND;TZID=Europe/London:20290128T103000
DTSTAMP:20260424T054738
CREATED:20211101T134817Z
LAST-MODIFIED:20251014T133622Z
UID:10004386-1864287000-1864290600@hopechurchfamily.org
SUMMARY:Morning Praise
DESCRIPTION:Join us for a simple\, lay-led\, service of morning praise. \nWith hymns\, prayers and a short reflection let by the team from St Gabriel’s Church.
URL:https://hopechurchfamily.org/calendars/morning-praise/2029-01-28/
LOCATION:Hanley Swan\, St Gabriel’s\, Hanley Swan\, Worcestershire\, wr8 0dy\, United Kingdom
CATEGORIES:AdvertiseHanleysWelland,Hanley Castle,Hanley Swan,Service,Welland
ATTACH;FMTTYPE=image/jpeg:https://hopechurchfamily.org/wp-content/uploads/2021/11/morning-praise-400_400.jpg
GEO:52.0833913;-2.2766275
END:VEVENT
BEGIN:VEVENT
DTSTART;TZID=Europe/London:20290201T190000
DTEND;TZID=Europe/London:20290201T200000
DTSTAMP:20260424T054738
CREATED:20250612T212344Z
LAST-MODIFIED:20260401T114529Z
UID:10006355-1864666800-1864670400@hopechurchfamily.org
SUMMARY:Thursday Evening Reflection
DESCRIPTION:On the first Thursday evening of each month\, we meet for a contemplative service of prayer\, Bible readings and beautiful music. It’s a time to find a place of stillness in the middle of our busy lives\, and make space for God. All are welcome.
URL:https://hopechurchfamily.org/calendars/thursday-evening-reflection/2029-02-01/
LOCATION:Hanley Swan\, St Gabriel’s\, Hanley Swan\, Worcestershire\, wr8 0dy\, United Kingdom
CATEGORIES:AdvertiseHanleysWelland,Hanley Swan,Service
ATTACH;FMTTYPE=image/jpeg:https://hopechurchfamily.org/wp-content/uploads/2025/06/thursday-evening-reflection-400_400.jpg
GEO:52.0833913;-2.2766275
END:VEVENT
BEGIN:VEVENT
DTSTART;TZID=Europe/London:20290204T093000
DTEND;TZID=Europe/London:20290204T103000
DTSTAMP:20260424T054738
CREATED:20251229T001712Z
LAST-MODIFIED:20260401T115835Z
UID:10007148-1864891800-1864895400@hopechurchfamily.org
SUMMARY:Holy Communion
DESCRIPTION:Join us for a simple service of Holy Communion.
URL:https://hopechurchfamily.org/calendars/holy-communion-11/2029-02-04/
LOCATION:Hanley Swan\, St Gabriel’s\, Hanley Swan\, Worcestershire\, wr8 0dy\, United Kingdom
CATEGORIES:AdvertiseHanleysWelland,All,Hanley Swan,Service
ATTACH;FMTTYPE=image/jpeg:https://hopechurchfamily.org/wp-content/uploads/2016/09/communion-400_400.jpg
GEO:52.0833913;-2.2766275
END:VEVENT
BEGIN:VEVENT
DTSTART;TZID=Europe/London:20290208T100000
DTEND;TZID=Europe/London:20290208T104500
DTSTAMP:20260424T054738
CREATED:20230614T090617Z
LAST-MODIFIED:20230614T090617Z
UID:10005178-1865239200-1865241900@hopechurchfamily.org
SUMMARY:Holy Communion
DESCRIPTION:A simple\, said\, Common Worship service of Holy Communion.
URL:https://hopechurchfamily.org/calendars/holy-communion-2/2029-02-08/
LOCATION:Hanley Swan\, St Gabriel’s\, Hanley Swan\, Worcestershire\, wr8 0dy\, United Kingdom
CATEGORIES:AdvertiseCroomes,AdvertiseHanleysWelland,AdvertiseRipple,AdvertiseUpton,Hanley Swan,Service
ATTACH;FMTTYPE=image/jpeg:https://hopechurchfamily.org/wp-content/uploads/2016/09/communion-400_400.jpg
GEO:52.0833913;-2.2766275
END:VEVENT
BEGIN:VEVENT
DTSTART;TZID=Europe/London:20290218T093000
DTEND;TZID=Europe/London:20290218T103000
DTSTAMP:20260424T054738
CREATED:20230920T090206Z
LAST-MODIFIED:20250401T142701Z
UID:10005188-1866101400-1866105000@hopechurchfamily.org
SUMMARY:Holy Communion
DESCRIPTION:Join us for a simple service of Holy Communion.
URL:https://hopechurchfamily.org/calendars/holy-communion/2029-02-18/
LOCATION:Hanley Swan\, St Gabriel’s\, Hanley Swan\, Worcestershire\, wr8 0dy\, United Kingdom
CATEGORIES:AdvertiseHanleysWelland,All,Hanley Swan,Service
ATTACH;FMTTYPE=image/jpeg:https://hopechurchfamily.org/wp-content/uploads/2016/09/communion-400_400.jpg
GEO:52.0833913;-2.2766275
END:VEVENT
BEGIN:VEVENT
DTSTART;TZID=Europe/London:20290225T093000
DTEND;TZID=Europe/London:20290225T103000
DTSTAMP:20260424T054738
CREATED:20211101T134817Z
LAST-MODIFIED:20251014T133622Z
UID:10005195-1866706200-1866709800@hopechurchfamily.org
SUMMARY:Morning Praise
DESCRIPTION:Join us for a simple\, lay-led\, service of morning praise. \nWith hymns\, prayers and a short reflection let by the team from St Gabriel’s Church.
URL:https://hopechurchfamily.org/calendars/morning-praise/2029-02-25/
LOCATION:Hanley Swan\, St Gabriel’s\, Hanley Swan\, Worcestershire\, wr8 0dy\, United Kingdom
CATEGORIES:AdvertiseHanleysWelland,Hanley Castle,Hanley Swan,Service,Welland
ATTACH;FMTTYPE=image/jpeg:https://hopechurchfamily.org/wp-content/uploads/2021/11/morning-praise-400_400.jpg
GEO:52.0833913;-2.2766275
END:VEVENT
BEGIN:VEVENT
DTSTART;TZID=Europe/London:20290301T190000
DTEND;TZID=Europe/London:20290301T200000
DTSTAMP:20260424T054738
CREATED:20250612T212344Z
LAST-MODIFIED:20260401T114529Z
UID:10006356-1867086000-1867089600@hopechurchfamily.org
SUMMARY:Thursday Evening Reflection
DESCRIPTION:On the first Thursday evening of each month\, we meet for a contemplative service of prayer\, Bible readings and beautiful music. It’s a time to find a place of stillness in the middle of our busy lives\, and make space for God. All are welcome.
URL:https://hopechurchfamily.org/calendars/thursday-evening-reflection/2029-03-01/
LOCATION:Hanley Swan\, St Gabriel’s\, Hanley Swan\, Worcestershire\, wr8 0dy\, United Kingdom
CATEGORIES:AdvertiseHanleysWelland,Hanley Swan,Service
ATTACH;FMTTYPE=image/jpeg:https://hopechurchfamily.org/wp-content/uploads/2025/06/thursday-evening-reflection-400_400.jpg
GEO:52.0833913;-2.2766275
END:VEVENT
BEGIN:VEVENT
DTSTART;TZID=Europe/London:20290304T093000
DTEND;TZID=Europe/London:20290304T103000
DTSTAMP:20260424T054738
CREATED:20251229T001712Z
LAST-MODIFIED:20260401T115835Z
UID:10007149-1867311000-1867314600@hopechurchfamily.org
SUMMARY:Holy Communion
DESCRIPTION:Join us for a simple service of Holy Communion.
URL:https://hopechurchfamily.org/calendars/holy-communion-11/2029-03-04/
LOCATION:Hanley Swan\, St Gabriel’s\, Hanley Swan\, Worcestershire\, wr8 0dy\, United Kingdom
CATEGORIES:AdvertiseHanleysWelland,All,Hanley Swan,Service
ATTACH;FMTTYPE=image/jpeg:https://hopechurchfamily.org/wp-content/uploads/2016/09/communion-400_400.jpg
GEO:52.0833913;-2.2766275
END:VEVENT
BEGIN:VEVENT
DTSTART;TZID=Europe/London:20290308T100000
DTEND;TZID=Europe/London:20290308T104500
DTSTAMP:20260424T054738
CREATED:20230614T090617Z
LAST-MODIFIED:20230614T090617Z
UID:10005350-1867658400-1867661100@hopechurchfamily.org
SUMMARY:Holy Communion
DESCRIPTION:A simple\, said\, Common Worship service of Holy Communion.
URL:https://hopechurchfamily.org/calendars/holy-communion-2/2029-03-08/
LOCATION:Hanley Swan\, St Gabriel’s\, Hanley Swan\, Worcestershire\, wr8 0dy\, United Kingdom
CATEGORIES:AdvertiseCroomes,AdvertiseHanleysWelland,AdvertiseRipple,AdvertiseUpton,Hanley Swan,Service
ATTACH;FMTTYPE=image/jpeg:https://hopechurchfamily.org/wp-content/uploads/2016/09/communion-400_400.jpg
GEO:52.0833913;-2.2766275
END:VEVENT
BEGIN:VEVENT
DTSTART;TZID=Europe/London:20290318T093000
DTEND;TZID=Europe/London:20290318T103000
DTSTAMP:20260424T054738
CREATED:20230920T090206Z
LAST-MODIFIED:20250401T142701Z
UID:10005352-1868520600-1868524200@hopechurchfamily.org
SUMMARY:Holy Communion
DESCRIPTION:Join us for a simple service of Holy Communion.
URL:https://hopechurchfamily.org/calendars/holy-communion/2029-03-18/
LOCATION:Hanley Swan\, St Gabriel’s\, Hanley Swan\, Worcestershire\, wr8 0dy\, United Kingdom
CATEGORIES:AdvertiseHanleysWelland,All,Hanley Swan,Service
ATTACH;FMTTYPE=image/jpeg:https://hopechurchfamily.org/wp-content/uploads/2016/09/communion-400_400.jpg
GEO:52.0833913;-2.2766275
END:VEVENT
BEGIN:VEVENT
DTSTART;TZID=Europe/London:20290325T093000
DTEND;TZID=Europe/London:20290325T103000
DTSTAMP:20260424T054738
CREATED:20211101T134817Z
LAST-MODIFIED:20251014T133622Z
UID:10005406-1869125400-1869129000@hopechurchfamily.org
SUMMARY:Morning Praise
DESCRIPTION:Join us for a simple\, lay-led\, service of morning praise. \nWith hymns\, prayers and a short reflection let by the team from St Gabriel’s Church.
URL:https://hopechurchfamily.org/calendars/morning-praise/2029-03-25/
LOCATION:Hanley Swan\, St Gabriel’s\, Hanley Swan\, Worcestershire\, wr8 0dy\, United Kingdom
CATEGORIES:AdvertiseHanleysWelland,Hanley Castle,Hanley Swan,Service,Welland
ATTACH;FMTTYPE=image/jpeg:https://hopechurchfamily.org/wp-content/uploads/2021/11/morning-praise-400_400.jpg
GEO:52.0833913;-2.2766275
END:VEVENT
BEGIN:VEVENT
DTSTART;TZID=Europe/London:20290401T093000
DTEND;TZID=Europe/London:20290401T103000
DTSTAMP:20260424T054738
CREATED:20251229T001712Z
LAST-MODIFIED:20260401T115835Z
UID:10007150-1869730200-1869733800@hopechurchfamily.org
SUMMARY:Holy Communion
DESCRIPTION:Join us for a simple service of Holy Communion.
URL:https://hopechurchfamily.org/calendars/holy-communion-11/2029-04-01/
LOCATION:Hanley Swan\, St Gabriel’s\, Hanley Swan\, Worcestershire\, wr8 0dy\, United Kingdom
CATEGORIES:AdvertiseHanleysWelland,All,Hanley Swan,Service
ATTACH;FMTTYPE=image/jpeg:https://hopechurchfamily.org/wp-content/uploads/2016/09/communion-400_400.jpg
GEO:52.0833913;-2.2766275
END:VEVENT
BEGIN:VEVENT
DTSTART;TZID=Europe/London:20290405T190000
DTEND;TZID=Europe/London:20290405T200000
DTSTAMP:20260424T054738
CREATED:20250612T212344Z
LAST-MODIFIED:20260401T114529Z
UID:10006357-1870110000-1870113600@hopechurchfamily.org
SUMMARY:Thursday Evening Reflection
DESCRIPTION:On the first Thursday evening of each month\, we meet for a contemplative service of prayer\, Bible readings and beautiful music. It’s a time to find a place of stillness in the middle of our busy lives\, and make space for God. All are welcome.
URL:https://hopechurchfamily.org/calendars/thursday-evening-reflection/2029-04-05/
LOCATION:Hanley Swan\, St Gabriel’s\, Hanley Swan\, Worcestershire\, wr8 0dy\, United Kingdom
CATEGORIES:AdvertiseHanleysWelland,Hanley Swan,Service
ATTACH;FMTTYPE=image/jpeg:https://hopechurchfamily.org/wp-content/uploads/2025/06/thursday-evening-reflection-400_400.jpg
GEO:52.0833913;-2.2766275
END:VEVENT
BEGIN:VEVENT
DTSTART;TZID=Europe/London:20290412T100000
DTEND;TZID=Europe/London:20290412T104500
DTSTAMP:20260424T054738
CREATED:20230614T090617Z
LAST-MODIFIED:20230614T090617Z
UID:10005378-1870682400-1870685100@hopechurchfamily.org
SUMMARY:Holy Communion
DESCRIPTION:A simple\, said\, Common Worship service of Holy Communion.
URL:https://hopechurchfamily.org/calendars/holy-communion-2/2029-04-12/
LOCATION:Hanley Swan\, St Gabriel’s\, Hanley Swan\, Worcestershire\, wr8 0dy\, United Kingdom
CATEGORIES:AdvertiseCroomes,AdvertiseHanleysWelland,AdvertiseRipple,AdvertiseUpton,Hanley Swan,Service
ATTACH;FMTTYPE=image/jpeg:https://hopechurchfamily.org/wp-content/uploads/2016/09/communion-400_400.jpg
GEO:52.0833913;-2.2766275
END:VEVENT
BEGIN:VEVENT
DTSTART;TZID=Europe/London:20290415T093000
DTEND;TZID=Europe/London:20290415T103000
DTSTAMP:20260424T054738
CREATED:20230920T090206Z
LAST-MODIFIED:20250401T142701Z
UID:10005393-1870939800-1870943400@hopechurchfamily.org
SUMMARY:Holy Communion
DESCRIPTION:Join us for a simple service of Holy Communion.
URL:https://hopechurchfamily.org/calendars/holy-communion/2029-04-15/
LOCATION:Hanley Swan\, St Gabriel’s\, Hanley Swan\, Worcestershire\, wr8 0dy\, United Kingdom
CATEGORIES:AdvertiseHanleysWelland,All,Hanley Swan,Service
ATTACH;FMTTYPE=image/jpeg:https://hopechurchfamily.org/wp-content/uploads/2016/09/communion-400_400.jpg
GEO:52.0833913;-2.2766275
END:VEVENT
BEGIN:VEVENT
DTSTART;TZID=Europe/London:20290422T093000
DTEND;TZID=Europe/London:20290422T103000
DTSTAMP:20260424T054738
CREATED:20211101T134817Z
LAST-MODIFIED:20251014T133622Z
UID:10005407-1871544600-1871548200@hopechurchfamily.org
SUMMARY:Morning Praise
DESCRIPTION:Join us for a simple\, lay-led\, service of morning praise. \nWith hymns\, prayers and a short reflection let by the team from St Gabriel’s Church.
URL:https://hopechurchfamily.org/calendars/morning-praise/2029-04-22/
LOCATION:Hanley Swan\, St Gabriel’s\, Hanley Swan\, Worcestershire\, wr8 0dy\, United Kingdom
CATEGORIES:AdvertiseHanleysWelland,Hanley Castle,Hanley Swan,Service,Welland
ATTACH;FMTTYPE=image/jpeg:https://hopechurchfamily.org/wp-content/uploads/2021/11/morning-praise-400_400.jpg
GEO:52.0833913;-2.2766275
END:VEVENT
BEGIN:VEVENT
DTSTART;TZID=Europe/London:20290503T190000
DTEND;TZID=Europe/London:20290503T200000
DTSTAMP:20260424T054738
CREATED:20250612T212344Z
LAST-MODIFIED:20260401T114529Z
UID:10006358-1872529200-1872532800@hopechurchfamily.org
SUMMARY:Thursday Evening Reflection
DESCRIPTION:On the first Thursday evening of each month\, we meet for a contemplative service of prayer\, Bible readings and beautiful music. It’s a time to find a place of stillness in the middle of our busy lives\, and make space for God. All are welcome.
URL:https://hopechurchfamily.org/calendars/thursday-evening-reflection/2029-05-03/
LOCATION:Hanley Swan\, St Gabriel’s\, Hanley Swan\, Worcestershire\, wr8 0dy\, United Kingdom
CATEGORIES:AdvertiseHanleysWelland,Hanley Swan,Service
ATTACH;FMTTYPE=image/jpeg:https://hopechurchfamily.org/wp-content/uploads/2025/06/thursday-evening-reflection-400_400.jpg
GEO:52.0833913;-2.2766275
END:VEVENT
BEGIN:VEVENT
DTSTART;TZID=Europe/London:20290506T093000
DTEND;TZID=Europe/London:20290506T103000
DTSTAMP:20260424T054738
CREATED:20251229T001712Z
LAST-MODIFIED:20260401T115835Z
UID:10007151-1872754200-1872757800@hopechurchfamily.org
SUMMARY:Holy Communion
DESCRIPTION:Join us for a simple service of Holy Communion.
URL:https://hopechurchfamily.org/calendars/holy-communion-11/2029-05-06/
LOCATION:Hanley Swan\, St Gabriel’s\, Hanley Swan\, Worcestershire\, wr8 0dy\, United Kingdom
CATEGORIES:AdvertiseHanleysWelland,All,Hanley Swan,Service
ATTACH;FMTTYPE=image/jpeg:https://hopechurchfamily.org/wp-content/uploads/2016/09/communion-400_400.jpg
GEO:52.0833913;-2.2766275
END:VEVENT
BEGIN:VEVENT
DTSTART;TZID=Europe/London:20290510T100000
DTEND;TZID=Europe/London:20290510T104500
DTSTAMP:20260424T054738
CREATED:20230614T090617Z
LAST-MODIFIED:20230614T090617Z
UID:10005463-1873101600-1873104300@hopechurchfamily.org
SUMMARY:Holy Communion
DESCRIPTION:A simple\, said\, Common Worship service of Holy Communion.
URL:https://hopechurchfamily.org/calendars/holy-communion-2/2029-05-10/
LOCATION:Hanley Swan\, St Gabriel’s\, Hanley Swan\, Worcestershire\, wr8 0dy\, United Kingdom
CATEGORIES:AdvertiseCroomes,AdvertiseHanleysWelland,AdvertiseRipple,AdvertiseUpton,Hanley Swan,Service
ATTACH;FMTTYPE=image/jpeg:https://hopechurchfamily.org/wp-content/uploads/2016/09/communion-400_400.jpg
GEO:52.0833913;-2.2766275
END:VEVENT
BEGIN:VEVENT
DTSTART;TZID=Europe/London:20290520T093000
DTEND;TZID=Europe/London:20290520T103000
DTSTAMP:20260424T054738
CREATED:20230920T090206Z
LAST-MODIFIED:20250401T142701Z
UID:10005469-1873963800-1873967400@hopechurchfamily.org
SUMMARY:Holy Communion
DESCRIPTION:Join us for a simple service of Holy Communion.
URL:https://hopechurchfamily.org/calendars/holy-communion/2029-05-20/
LOCATION:Hanley Swan\, St Gabriel’s\, Hanley Swan\, Worcestershire\, wr8 0dy\, United Kingdom
CATEGORIES:AdvertiseHanleysWelland,All,Hanley Swan,Service
ATTACH;FMTTYPE=image/jpeg:https://hopechurchfamily.org/wp-content/uploads/2016/09/communion-400_400.jpg
GEO:52.0833913;-2.2766275
END:VEVENT
BEGIN:VEVENT
DTSTART;TZID=Europe/London:20290527T093000
DTEND;TZID=Europe/London:20290527T103000
DTSTAMP:20260424T054738
CREATED:20211101T134817Z
LAST-MODIFIED:20251014T133622Z
UID:10005548-1874568600-1874572200@hopechurchfamily.org
SUMMARY:Morning Praise
DESCRIPTION:Join us for a simple\, lay-led\, service of morning praise. \nWith hymns\, prayers and a short reflection let by the team from St Gabriel’s Church.
URL:https://hopechurchfamily.org/calendars/morning-praise/2029-05-27/
LOCATION:Hanley Swan\, St Gabriel’s\, Hanley Swan\, Worcestershire\, wr8 0dy\, United Kingdom
CATEGORIES:AdvertiseHanleysWelland,Hanley Castle,Hanley Swan,Service,Welland
ATTACH;FMTTYPE=image/jpeg:https://hopechurchfamily.org/wp-content/uploads/2021/11/morning-praise-400_400.jpg
GEO:52.0833913;-2.2766275
END:VEVENT
BEGIN:VEVENT
DTSTART;TZID=Europe/London:20290603T093000
DTEND;TZID=Europe/London:20290603T103000
DTSTAMP:20260424T054738
CREATED:20251229T001712Z
LAST-MODIFIED:20260401T115835Z
UID:10007152-1875173400-1875177000@hopechurchfamily.org
SUMMARY:Holy Communion
DESCRIPTION:Join us for a simple service of Holy Communion.
URL:https://hopechurchfamily.org/calendars/holy-communion-11/2029-06-03/
LOCATION:Hanley Swan\, St Gabriel’s\, Hanley Swan\, Worcestershire\, wr8 0dy\, United Kingdom
CATEGORIES:AdvertiseHanleysWelland,All,Hanley Swan,Service
ATTACH;FMTTYPE=image/jpeg:https://hopechurchfamily.org/wp-content/uploads/2016/09/communion-400_400.jpg
GEO:52.0833913;-2.2766275
END:VEVENT
BEGIN:VEVENT
DTSTART;TZID=Europe/London:20290607T190000
DTEND;TZID=Europe/London:20290607T200000
DTSTAMP:20260424T054738
CREATED:20250612T212344Z
LAST-MODIFIED:20260401T114529Z
UID:10006359-1875553200-1875556800@hopechurchfamily.org
SUMMARY:Thursday Evening Reflection
DESCRIPTION:On the first Thursday evening of each month\, we meet for a contemplative service of prayer\, Bible readings and beautiful music. It’s a time to find a place of stillness in the middle of our busy lives\, and make space for God. All are welcome.
URL:https://hopechurchfamily.org/calendars/thursday-evening-reflection/2029-06-07/
LOCATION:Hanley Swan\, St Gabriel’s\, Hanley Swan\, Worcestershire\, wr8 0dy\, United Kingdom
CATEGORIES:AdvertiseHanleysWelland,Hanley Swan,Service
ATTACH;FMTTYPE=image/jpeg:https://hopechurchfamily.org/wp-content/uploads/2025/06/thursday-evening-reflection-400_400.jpg
GEO:52.0833913;-2.2766275
END:VEVENT
BEGIN:VEVENT
DTSTART;TZID=Europe/London:20290614T100000
DTEND;TZID=Europe/London:20290614T104500
DTSTAMP:20260424T054738
CREATED:20230614T090617Z
LAST-MODIFIED:20230614T090617Z
UID:10005464-1876125600-1876128300@hopechurchfamily.org
SUMMARY:Holy Communion
DESCRIPTION:A simple\, said\, Common Worship service of Holy Communion.
URL:https://hopechurchfamily.org/calendars/holy-communion-2/2029-06-14/
LOCATION:Hanley Swan\, St Gabriel’s\, Hanley Swan\, Worcestershire\, wr8 0dy\, United Kingdom
CATEGORIES:AdvertiseCroomes,AdvertiseHanleysWelland,AdvertiseRipple,AdvertiseUpton,Hanley Swan,Service
ATTACH;FMTTYPE=image/jpeg:https://hopechurchfamily.org/wp-content/uploads/2016/09/communion-400_400.jpg
GEO:52.0833913;-2.2766275
END:VEVENT
END:VCALENDAR