BEGIN:VCALENDAR
VERSION:2.0
PRODID:-//The Hope Church Family - ECPv6.15.20//NONSGML v1.0//EN
CALSCALE:GREGORIAN
METHOD:PUBLISH
X-ORIGINAL-URL:https://hopechurchfamily.org
X-WR-CALDESC:Events for The Hope Church Family
REFRESH-INTERVAL;VALUE=DURATION:PT1H
X-Robots-Tag:noindex
X-PUBLISHED-TTL:PT1H
BEGIN:VTIMEZONE
TZID:Europe/London
BEGIN:DAYLIGHT
TZOFFSETFROM:+0000
TZOFFSETTO:+0100
TZNAME:BST
DTSTART:20250330T010000
END:DAYLIGHT
BEGIN:STANDARD
TZOFFSETFROM:+0100
TZOFFSETTO:+0000
TZNAME:GMT
DTSTART:20251026T010000
END:STANDARD
BEGIN:DAYLIGHT
TZOFFSETFROM:+0000
TZOFFSETTO:+0100
TZNAME:BST
DTSTART:20260329T010000
END:DAYLIGHT
BEGIN:STANDARD
TZOFFSETFROM:+0100
TZOFFSETTO:+0000
TZNAME:GMT
DTSTART:20261025T010000
END:STANDARD
BEGIN:DAYLIGHT
TZOFFSETFROM:+0000
TZOFFSETTO:+0100
TZNAME:BST
DTSTART:20270328T010000
END:DAYLIGHT
BEGIN:STANDARD
TZOFFSETFROM:+0100
TZOFFSETTO:+0000
TZNAME:GMT
DTSTART:20271031T010000
END:STANDARD
BEGIN:DAYLIGHT
TZOFFSETFROM:+0000
TZOFFSETTO:+0100
TZNAME:BST
DTSTART:20280326T010000
END:DAYLIGHT
BEGIN:STANDARD
TZOFFSETFROM:+0100
TZOFFSETTO:+0000
TZNAME:GMT
DTSTART:20281029T010000
END:STANDARD
END:VTIMEZONE
BEGIN:VEVENT
DTSTART;TZID=Europe/London:20260726T093000
DTEND;TZID=Europe/London:20260726T103000
DTSTAMP:20260421T015746
CREATED:20211101T134817Z
LAST-MODIFIED:20251014T133622Z
UID:10004356-1785058200-1785061800@hopechurchfamily.org
SUMMARY:Morning Praise
DESCRIPTION:Join us for a simple\, lay-led\, service of morning praise. \nWith hymns\, prayers and a short reflection let by the team from St Gabriel’s Church.
URL:https://hopechurchfamily.org/calendars/morning-praise/2026-07-26/
LOCATION:Hanley Swan\, St Gabriel’s\, Hanley Swan\, Worcestershire\, wr8 0dy\, United Kingdom
CATEGORIES:AdvertiseHanleysWelland,Hanley Castle,Hanley Swan,Service,Welland
ATTACH;FMTTYPE=image/jpeg:https://hopechurchfamily.org/wp-content/uploads/2021/11/morning-praise-400_400.jpg
GEO:52.0833913;-2.2766275
END:VEVENT
BEGIN:VEVENT
DTSTART;TZID=Europe/London:20260802T093000
DTEND;TZID=Europe/London:20260802T103000
DTSTAMP:20260421T015746
CREATED:20251229T001712Z
LAST-MODIFIED:20260401T115835Z
UID:10007118-1785663000-1785666600@hopechurchfamily.org
SUMMARY:Holy Communion
DESCRIPTION:Join us for a simple service of Holy Communion.
URL:https://hopechurchfamily.org/calendars/holy-communion-11/2026-08-02/
LOCATION:Hanley Swan\, St Gabriel’s\, Hanley Swan\, Worcestershire\, wr8 0dy\, United Kingdom
CATEGORIES:AdvertiseHanleysWelland,All,Hanley Swan,Service
ATTACH;FMTTYPE=image/jpeg:https://hopechurchfamily.org/wp-content/uploads/2016/09/communion-400_400.jpg
GEO:52.0833913;-2.2766275
END:VEVENT
BEGIN:VEVENT
DTSTART;TZID=Europe/London:20260806T190000
DTEND;TZID=Europe/London:20260806T200000
DTSTAMP:20260421T015746
CREATED:20250612T212344Z
LAST-MODIFIED:20260401T114529Z
UID:10006325-1786042800-1786046400@hopechurchfamily.org
SUMMARY:Thursday Evening Reflection
DESCRIPTION:On the first Thursday evening of each month\, we meet for a contemplative service of prayer\, Bible readings and beautiful music. It’s a time to find a place of stillness in the middle of our busy lives\, and make space for God. All are welcome.
URL:https://hopechurchfamily.org/calendars/thursday-evening-reflection/2026-08-06/
LOCATION:Hanley Swan\, St Gabriel’s\, Hanley Swan\, Worcestershire\, wr8 0dy\, United Kingdom
CATEGORIES:AdvertiseHanleysWelland,Hanley Swan,Service
ATTACH;FMTTYPE=image/jpeg:https://hopechurchfamily.org/wp-content/uploads/2025/06/thursday-evening-reflection-400_400.jpg
GEO:52.0833913;-2.2766275
END:VEVENT
BEGIN:VEVENT
DTSTART;TZID=Europe/London:20260813T100000
DTEND;TZID=Europe/London:20260813T104500
DTSTAMP:20260421T015746
CREATED:20230614T090617Z
LAST-MODIFIED:20230614T090617Z
UID:10002885-1786615200-1786617900@hopechurchfamily.org
SUMMARY:Holy Communion
DESCRIPTION:A simple\, said\, Common Worship service of Holy Communion.
URL:https://hopechurchfamily.org/calendars/holy-communion-2/2026-08-13/
LOCATION:Hanley Swan\, St Gabriel’s\, Hanley Swan\, Worcestershire\, wr8 0dy\, United Kingdom
CATEGORIES:AdvertiseCroomes,AdvertiseHanleysWelland,AdvertiseRipple,AdvertiseUpton,Hanley Swan,Service
ATTACH;FMTTYPE=image/jpeg:https://hopechurchfamily.org/wp-content/uploads/2016/09/communion-400_400.jpg
GEO:52.0833913;-2.2766275
END:VEVENT
BEGIN:VEVENT
DTSTART;TZID=Europe/London:20260816T093000
DTEND;TZID=Europe/London:20260816T103000
DTSTAMP:20260421T015746
CREATED:20230920T090206Z
LAST-MODIFIED:20250401T142701Z
UID:10003494-1786872600-1786876200@hopechurchfamily.org
SUMMARY:Holy Communion
DESCRIPTION:Join us for a simple service of Holy Communion.
URL:https://hopechurchfamily.org/calendars/holy-communion/2026-08-16/
LOCATION:Hanley Swan\, St Gabriel’s\, Hanley Swan\, Worcestershire\, wr8 0dy\, United Kingdom
CATEGORIES:AdvertiseHanleysWelland,All,Hanley Swan,Service
ATTACH;FMTTYPE=image/jpeg:https://hopechurchfamily.org/wp-content/uploads/2016/09/communion-400_400.jpg
GEO:52.0833913;-2.2766275
END:VEVENT
BEGIN:VEVENT
DTSTART;TZID=Europe/London:20260823T093000
DTEND;TZID=Europe/London:20260823T103000
DTSTAMP:20260421T015746
CREATED:20211101T134817Z
LAST-MODIFIED:20251014T133622Z
UID:10004357-1787477400-1787481000@hopechurchfamily.org
SUMMARY:Morning Praise
DESCRIPTION:Join us for a simple\, lay-led\, service of morning praise. \nWith hymns\, prayers and a short reflection let by the team from St Gabriel’s Church.
URL:https://hopechurchfamily.org/calendars/morning-praise/2026-08-23/
LOCATION:Hanley Swan\, St Gabriel’s\, Hanley Swan\, Worcestershire\, wr8 0dy\, United Kingdom
CATEGORIES:AdvertiseHanleysWelland,Hanley Castle,Hanley Swan,Service,Welland
ATTACH;FMTTYPE=image/jpeg:https://hopechurchfamily.org/wp-content/uploads/2021/11/morning-praise-400_400.jpg
GEO:52.0833913;-2.2766275
END:VEVENT
BEGIN:VEVENT
DTSTART;TZID=Europe/London:20260903T190000
DTEND;TZID=Europe/London:20260903T200000
DTSTAMP:20260421T015746
CREATED:20250612T212344Z
LAST-MODIFIED:20260401T114529Z
UID:10006326-1788462000-1788465600@hopechurchfamily.org
SUMMARY:Thursday Evening Reflection
DESCRIPTION:On the first Thursday evening of each month\, we meet for a contemplative service of prayer\, Bible readings and beautiful music. It’s a time to find a place of stillness in the middle of our busy lives\, and make space for God. All are welcome.
URL:https://hopechurchfamily.org/calendars/thursday-evening-reflection/2026-09-03/
LOCATION:Hanley Swan\, St Gabriel’s\, Hanley Swan\, Worcestershire\, wr8 0dy\, United Kingdom
CATEGORIES:AdvertiseHanleysWelland,Hanley Swan,Service
ATTACH;FMTTYPE=image/jpeg:https://hopechurchfamily.org/wp-content/uploads/2025/06/thursday-evening-reflection-400_400.jpg
GEO:52.0833913;-2.2766275
END:VEVENT
BEGIN:VEVENT
DTSTART;TZID=Europe/London:20260906T093000
DTEND;TZID=Europe/London:20260906T103000
DTSTAMP:20260421T015746
CREATED:20251229T001712Z
LAST-MODIFIED:20260401T115835Z
UID:10007119-1788687000-1788690600@hopechurchfamily.org
SUMMARY:Holy Communion
DESCRIPTION:Join us for a simple service of Holy Communion.
URL:https://hopechurchfamily.org/calendars/holy-communion-11/2026-09-06/
LOCATION:Hanley Swan\, St Gabriel’s\, Hanley Swan\, Worcestershire\, wr8 0dy\, United Kingdom
CATEGORIES:AdvertiseHanleysWelland,All,Hanley Swan,Service
ATTACH;FMTTYPE=image/jpeg:https://hopechurchfamily.org/wp-content/uploads/2016/09/communion-400_400.jpg
GEO:52.0833913;-2.2766275
END:VEVENT
BEGIN:VEVENT
DTSTART;TZID=Europe/London:20260910T100000
DTEND;TZID=Europe/London:20260910T104500
DTSTAMP:20260421T015746
CREATED:20230614T090617Z
LAST-MODIFIED:20230614T090617Z
UID:10002886-1789034400-1789037100@hopechurchfamily.org
SUMMARY:Holy Communion
DESCRIPTION:A simple\, said\, Common Worship service of Holy Communion.
URL:https://hopechurchfamily.org/calendars/holy-communion-2/2026-09-10/
LOCATION:Hanley Swan\, St Gabriel’s\, Hanley Swan\, Worcestershire\, wr8 0dy\, United Kingdom
CATEGORIES:AdvertiseCroomes,AdvertiseHanleysWelland,AdvertiseRipple,AdvertiseUpton,Hanley Swan,Service
ATTACH;FMTTYPE=image/jpeg:https://hopechurchfamily.org/wp-content/uploads/2016/09/communion-400_400.jpg
GEO:52.0833913;-2.2766275
END:VEVENT
BEGIN:VEVENT
DTSTART;TZID=Europe/London:20260920T093000
DTEND;TZID=Europe/London:20260920T103000
DTSTAMP:20260421T015746
CREATED:20230920T090206Z
LAST-MODIFIED:20250401T142701Z
UID:10003495-1789896600-1789900200@hopechurchfamily.org
SUMMARY:Holy Communion
DESCRIPTION:Join us for a simple service of Holy Communion.
URL:https://hopechurchfamily.org/calendars/holy-communion/2026-09-20/
LOCATION:Hanley Swan\, St Gabriel’s\, Hanley Swan\, Worcestershire\, wr8 0dy\, United Kingdom
CATEGORIES:AdvertiseHanleysWelland,All,Hanley Swan,Service
ATTACH;FMTTYPE=image/jpeg:https://hopechurchfamily.org/wp-content/uploads/2016/09/communion-400_400.jpg
GEO:52.0833913;-2.2766275
END:VEVENT
BEGIN:VEVENT
DTSTART;TZID=Europe/London:20260927T093000
DTEND;TZID=Europe/London:20260927T103000
DTSTAMP:20260421T015746
CREATED:20211101T134817Z
LAST-MODIFIED:20251014T133622Z
UID:10004358-1790501400-1790505000@hopechurchfamily.org
SUMMARY:Morning Praise
DESCRIPTION:Join us for a simple\, lay-led\, service of morning praise. \nWith hymns\, prayers and a short reflection let by the team from St Gabriel’s Church.
URL:https://hopechurchfamily.org/calendars/morning-praise/2026-09-27/
LOCATION:Hanley Swan\, St Gabriel’s\, Hanley Swan\, Worcestershire\, wr8 0dy\, United Kingdom
CATEGORIES:AdvertiseHanleysWelland,Hanley Castle,Hanley Swan,Service,Welland
ATTACH;FMTTYPE=image/jpeg:https://hopechurchfamily.org/wp-content/uploads/2021/11/morning-praise-400_400.jpg
GEO:52.0833913;-2.2766275
END:VEVENT
BEGIN:VEVENT
DTSTART;TZID=Europe/London:20261001T190000
DTEND;TZID=Europe/London:20261001T200000
DTSTAMP:20260421T015746
CREATED:20250612T212344Z
LAST-MODIFIED:20260401T114529Z
UID:10006327-1790881200-1790884800@hopechurchfamily.org
SUMMARY:Thursday Evening Reflection
DESCRIPTION:On the first Thursday evening of each month\, we meet for a contemplative service of prayer\, Bible readings and beautiful music. It’s a time to find a place of stillness in the middle of our busy lives\, and make space for God. All are welcome.
URL:https://hopechurchfamily.org/calendars/thursday-evening-reflection/2026-10-01/
LOCATION:Hanley Swan\, St Gabriel’s\, Hanley Swan\, Worcestershire\, wr8 0dy\, United Kingdom
CATEGORIES:AdvertiseHanleysWelland,Hanley Swan,Service
ATTACH;FMTTYPE=image/jpeg:https://hopechurchfamily.org/wp-content/uploads/2025/06/thursday-evening-reflection-400_400.jpg
GEO:52.0833913;-2.2766275
END:VEVENT
BEGIN:VEVENT
DTSTART;TZID=Europe/London:20261004T093000
DTEND;TZID=Europe/London:20261004T103000
DTSTAMP:20260421T015746
CREATED:20251229T001712Z
LAST-MODIFIED:20260401T115835Z
UID:10007120-1791106200-1791109800@hopechurchfamily.org
SUMMARY:Holy Communion
DESCRIPTION:Join us for a simple service of Holy Communion.
URL:https://hopechurchfamily.org/calendars/holy-communion-11/2026-10-04/
LOCATION:Hanley Swan\, St Gabriel’s\, Hanley Swan\, Worcestershire\, wr8 0dy\, United Kingdom
CATEGORIES:AdvertiseHanleysWelland,All,Hanley Swan,Service
ATTACH;FMTTYPE=image/jpeg:https://hopechurchfamily.org/wp-content/uploads/2016/09/communion-400_400.jpg
GEO:52.0833913;-2.2766275
END:VEVENT
BEGIN:VEVENT
DTSTART;TZID=Europe/London:20261008T100000
DTEND;TZID=Europe/London:20261008T104500
DTSTAMP:20260421T015746
CREATED:20230614T090617Z
LAST-MODIFIED:20230614T090617Z
UID:10002887-1791453600-1791456300@hopechurchfamily.org
SUMMARY:Holy Communion
DESCRIPTION:A simple\, said\, Common Worship service of Holy Communion.
URL:https://hopechurchfamily.org/calendars/holy-communion-2/2026-10-08/
LOCATION:Hanley Swan\, St Gabriel’s\, Hanley Swan\, Worcestershire\, wr8 0dy\, United Kingdom
CATEGORIES:AdvertiseCroomes,AdvertiseHanleysWelland,AdvertiseRipple,AdvertiseUpton,Hanley Swan,Service
ATTACH;FMTTYPE=image/jpeg:https://hopechurchfamily.org/wp-content/uploads/2016/09/communion-400_400.jpg
GEO:52.0833913;-2.2766275
END:VEVENT
BEGIN:VEVENT
DTSTART;TZID=Europe/London:20261018T093000
DTEND;TZID=Europe/London:20261018T103000
DTSTAMP:20260421T015746
CREATED:20230920T090206Z
LAST-MODIFIED:20250401T142701Z
UID:10003496-1792315800-1792319400@hopechurchfamily.org
SUMMARY:Holy Communion
DESCRIPTION:Join us for a simple service of Holy Communion.
URL:https://hopechurchfamily.org/calendars/holy-communion/2026-10-18/
LOCATION:Hanley Swan\, St Gabriel’s\, Hanley Swan\, Worcestershire\, wr8 0dy\, United Kingdom
CATEGORIES:AdvertiseHanleysWelland,All,Hanley Swan,Service
ATTACH;FMTTYPE=image/jpeg:https://hopechurchfamily.org/wp-content/uploads/2016/09/communion-400_400.jpg
GEO:52.0833913;-2.2766275
END:VEVENT
BEGIN:VEVENT
DTSTART;TZID=Europe/London:20261025T093000
DTEND;TZID=Europe/London:20261025T103000
DTSTAMP:20260421T015746
CREATED:20211101T134817Z
LAST-MODIFIED:20251014T133622Z
UID:10004359-1792920600-1792924200@hopechurchfamily.org
SUMMARY:Morning Praise
DESCRIPTION:Join us for a simple\, lay-led\, service of morning praise. \nWith hymns\, prayers and a short reflection let by the team from St Gabriel’s Church.
URL:https://hopechurchfamily.org/calendars/morning-praise/2026-10-25/
LOCATION:Hanley Swan\, St Gabriel’s\, Hanley Swan\, Worcestershire\, wr8 0dy\, United Kingdom
CATEGORIES:AdvertiseHanleysWelland,Hanley Castle,Hanley Swan,Service,Welland
ATTACH;FMTTYPE=image/jpeg:https://hopechurchfamily.org/wp-content/uploads/2021/11/morning-praise-400_400.jpg
GEO:52.0833913;-2.2766275
END:VEVENT
BEGIN:VEVENT
DTSTART;TZID=Europe/London:20261101T093000
DTEND;TZID=Europe/London:20261101T103000
DTSTAMP:20260421T015746
CREATED:20251229T001712Z
LAST-MODIFIED:20260401T115835Z
UID:10007121-1793525400-1793529000@hopechurchfamily.org
SUMMARY:Holy Communion
DESCRIPTION:Join us for a simple service of Holy Communion.
URL:https://hopechurchfamily.org/calendars/holy-communion-11/2026-11-01/
LOCATION:Hanley Swan\, St Gabriel’s\, Hanley Swan\, Worcestershire\, wr8 0dy\, United Kingdom
CATEGORIES:AdvertiseHanleysWelland,All,Hanley Swan,Service
ATTACH;FMTTYPE=image/jpeg:https://hopechurchfamily.org/wp-content/uploads/2016/09/communion-400_400.jpg
GEO:52.0833913;-2.2766275
END:VEVENT
BEGIN:VEVENT
DTSTART;TZID=Europe/London:20261105T190000
DTEND;TZID=Europe/London:20261105T200000
DTSTAMP:20260421T015746
CREATED:20250612T212344Z
LAST-MODIFIED:20260401T114529Z
UID:10006328-1793905200-1793908800@hopechurchfamily.org
SUMMARY:Thursday Evening Reflection
DESCRIPTION:On the first Thursday evening of each month\, we meet for a contemplative service of prayer\, Bible readings and beautiful music. It’s a time to find a place of stillness in the middle of our busy lives\, and make space for God. All are welcome.
URL:https://hopechurchfamily.org/calendars/thursday-evening-reflection/2026-11-05/
LOCATION:Hanley Swan\, St Gabriel’s\, Hanley Swan\, Worcestershire\, wr8 0dy\, United Kingdom
CATEGORIES:AdvertiseHanleysWelland,Hanley Swan,Service
ATTACH;FMTTYPE=image/jpeg:https://hopechurchfamily.org/wp-content/uploads/2025/06/thursday-evening-reflection-400_400.jpg
GEO:52.0833913;-2.2766275
END:VEVENT
BEGIN:VEVENT
DTSTART;TZID=Europe/London:20261112T100000
DTEND;TZID=Europe/London:20261112T104500
DTSTAMP:20260421T015746
CREATED:20230614T090617Z
LAST-MODIFIED:20230614T090617Z
UID:10002888-1794477600-1794480300@hopechurchfamily.org
SUMMARY:Holy Communion
DESCRIPTION:A simple\, said\, Common Worship service of Holy Communion.
URL:https://hopechurchfamily.org/calendars/holy-communion-2/2026-11-12/
LOCATION:Hanley Swan\, St Gabriel’s\, Hanley Swan\, Worcestershire\, wr8 0dy\, United Kingdom
CATEGORIES:AdvertiseCroomes,AdvertiseHanleysWelland,AdvertiseRipple,AdvertiseUpton,Hanley Swan,Service
ATTACH;FMTTYPE=image/jpeg:https://hopechurchfamily.org/wp-content/uploads/2016/09/communion-400_400.jpg
GEO:52.0833913;-2.2766275
END:VEVENT
BEGIN:VEVENT
DTSTART;TZID=Europe/London:20261115T093000
DTEND;TZID=Europe/London:20261115T103000
DTSTAMP:20260421T015746
CREATED:20230920T090206Z
LAST-MODIFIED:20250401T142701Z
UID:10003497-1794735000-1794738600@hopechurchfamily.org
SUMMARY:Holy Communion
DESCRIPTION:Join us for a simple service of Holy Communion.
URL:https://hopechurchfamily.org/calendars/holy-communion/2026-11-15/
LOCATION:Hanley Swan\, St Gabriel’s\, Hanley Swan\, Worcestershire\, wr8 0dy\, United Kingdom
CATEGORIES:AdvertiseHanleysWelland,All,Hanley Swan,Service
ATTACH;FMTTYPE=image/jpeg:https://hopechurchfamily.org/wp-content/uploads/2016/09/communion-400_400.jpg
GEO:52.0833913;-2.2766275
END:VEVENT
BEGIN:VEVENT
DTSTART;TZID=Europe/London:20261122T093000
DTEND;TZID=Europe/London:20261122T103000
DTSTAMP:20260421T015746
CREATED:20211101T134817Z
LAST-MODIFIED:20251014T133622Z
UID:10004360-1795339800-1795343400@hopechurchfamily.org
SUMMARY:Morning Praise
DESCRIPTION:Join us for a simple\, lay-led\, service of morning praise. \nWith hymns\, prayers and a short reflection let by the team from St Gabriel’s Church.
URL:https://hopechurchfamily.org/calendars/morning-praise/2026-11-22/
LOCATION:Hanley Swan\, St Gabriel’s\, Hanley Swan\, Worcestershire\, wr8 0dy\, United Kingdom
CATEGORIES:AdvertiseHanleysWelland,Hanley Castle,Hanley Swan,Service,Welland
ATTACH;FMTTYPE=image/jpeg:https://hopechurchfamily.org/wp-content/uploads/2021/11/morning-praise-400_400.jpg
GEO:52.0833913;-2.2766275
END:VEVENT
BEGIN:VEVENT
DTSTART;TZID=Europe/London:20261203T190000
DTEND;TZID=Europe/London:20261203T200000
DTSTAMP:20260421T015746
CREATED:20250612T212344Z
LAST-MODIFIED:20260401T114529Z
UID:10006329-1796324400-1796328000@hopechurchfamily.org
SUMMARY:Thursday Evening Reflection
DESCRIPTION:On the first Thursday evening of each month\, we meet for a contemplative service of prayer\, Bible readings and beautiful music. It’s a time to find a place of stillness in the middle of our busy lives\, and make space for God. All are welcome.
URL:https://hopechurchfamily.org/calendars/thursday-evening-reflection/2026-12-03/
LOCATION:Hanley Swan\, St Gabriel’s\, Hanley Swan\, Worcestershire\, wr8 0dy\, United Kingdom
CATEGORIES:AdvertiseHanleysWelland,Hanley Swan,Service
ATTACH;FMTTYPE=image/jpeg:https://hopechurchfamily.org/wp-content/uploads/2025/06/thursday-evening-reflection-400_400.jpg
GEO:52.0833913;-2.2766275
END:VEVENT
BEGIN:VEVENT
DTSTART;TZID=Europe/London:20261206T093000
DTEND;TZID=Europe/London:20261206T103000
DTSTAMP:20260421T015746
CREATED:20251229T001712Z
LAST-MODIFIED:20260401T115835Z
UID:10007122-1796549400-1796553000@hopechurchfamily.org
SUMMARY:Holy Communion
DESCRIPTION:Join us for a simple service of Holy Communion.
URL:https://hopechurchfamily.org/calendars/holy-communion-11/2026-12-06/
LOCATION:Hanley Swan\, St Gabriel’s\, Hanley Swan\, Worcestershire\, wr8 0dy\, United Kingdom
CATEGORIES:AdvertiseHanleysWelland,All,Hanley Swan,Service
ATTACH;FMTTYPE=image/jpeg:https://hopechurchfamily.org/wp-content/uploads/2016/09/communion-400_400.jpg
GEO:52.0833913;-2.2766275
END:VEVENT
BEGIN:VEVENT
DTSTART;TZID=Europe/London:20261210T100000
DTEND;TZID=Europe/London:20261210T104500
DTSTAMP:20260421T015746
CREATED:20230614T090617Z
LAST-MODIFIED:20230614T090617Z
UID:10002889-1796896800-1796899500@hopechurchfamily.org
SUMMARY:Holy Communion
DESCRIPTION:A simple\, said\, Common Worship service of Holy Communion.
URL:https://hopechurchfamily.org/calendars/holy-communion-2/2026-12-10/
LOCATION:Hanley Swan\, St Gabriel’s\, Hanley Swan\, Worcestershire\, wr8 0dy\, United Kingdom
CATEGORIES:AdvertiseCroomes,AdvertiseHanleysWelland,AdvertiseRipple,AdvertiseUpton,Hanley Swan,Service
ATTACH;FMTTYPE=image/jpeg:https://hopechurchfamily.org/wp-content/uploads/2016/09/communion-400_400.jpg
GEO:52.0833913;-2.2766275
END:VEVENT
BEGIN:VEVENT
DTSTART;TZID=Europe/London:20261220T093000
DTEND;TZID=Europe/London:20261220T103000
DTSTAMP:20260421T015746
CREATED:20230920T090206Z
LAST-MODIFIED:20250401T142701Z
UID:10003498-1797759000-1797762600@hopechurchfamily.org
SUMMARY:Holy Communion
DESCRIPTION:Join us for a simple service of Holy Communion.
URL:https://hopechurchfamily.org/calendars/holy-communion/2026-12-20/
LOCATION:Hanley Swan\, St Gabriel’s\, Hanley Swan\, Worcestershire\, wr8 0dy\, United Kingdom
CATEGORIES:AdvertiseHanleysWelland,All,Hanley Swan,Service
ATTACH;FMTTYPE=image/jpeg:https://hopechurchfamily.org/wp-content/uploads/2016/09/communion-400_400.jpg
GEO:52.0833913;-2.2766275
END:VEVENT
BEGIN:VEVENT
DTSTART;TZID=Europe/London:20261224T160000
DTEND;TZID=Europe/London:20261224T170000
DTSTAMP:20260421T015746
CREATED:20241127T202701Z
LAST-MODIFIED:20241127T202728Z
UID:10005699-1798128000-1798131600@hopechurchfamily.org
SUMMARY:Crib Service
DESCRIPTION:Join us for our annual Christmas Eve Crib service\, carols\, nativity and a lot of fun.
URL:https://hopechurchfamily.org/calendars/crib-service/2026-12-24/
LOCATION:Hanley Swan\, St Gabriel’s\, Hanley Swan\, Worcestershire\, wr8 0dy\, United Kingdom
CATEGORIES:AdvertiseHanleysWelland,Christmas,ChristmasHanleySwan,Service
ATTACH;FMTTYPE=image/jpeg:https://hopechurchfamily.org/wp-content/uploads/2016/11/crib-service-400_400.jpg
GEO:52.0833913;-2.2766275
END:VEVENT
BEGIN:VEVENT
DTSTART;TZID=Europe/London:20261224T230000
DTEND;TZID=Europe/London:20261224T235900
DTSTAMP:20260421T015746
CREATED:20231130T234507Z
LAST-MODIFIED:20231130T234723Z
UID:10003810-1798153200-1798156740@hopechurchfamily.org
SUMMARY:Holy Communion
DESCRIPTION:Join us for a service of Holy Communion.
URL:https://hopechurchfamily.org/calendars/holy-communion-5/2026-12-24/
LOCATION:Hanley Swan\, St Gabriel’s\, Hanley Swan\, Worcestershire\, wr8 0dy\, United Kingdom
CATEGORIES:AdvertiseHanleysWelland,Christmas,ChristmasHanleySwan,Hanley Swan,Service
ATTACH;FMTTYPE=image/jpeg:https://hopechurchfamily.org/wp-content/uploads/2016/09/communion-400_400.jpg
GEO:52.0833913;-2.2766275
END:VEVENT
BEGIN:VEVENT
DTSTART;TZID=Europe/London:20261227T093000
DTEND;TZID=Europe/London:20261227T103000
DTSTAMP:20260421T015746
CREATED:20211101T134817Z
LAST-MODIFIED:20251014T133622Z
UID:10004361-1798363800-1798367400@hopechurchfamily.org
SUMMARY:Morning Praise
DESCRIPTION:Join us for a simple\, lay-led\, service of morning praise. \nWith hymns\, prayers and a short reflection let by the team from St Gabriel’s Church.
URL:https://hopechurchfamily.org/calendars/morning-praise/2026-12-27/
LOCATION:Hanley Swan\, St Gabriel’s\, Hanley Swan\, Worcestershire\, wr8 0dy\, United Kingdom
CATEGORIES:AdvertiseHanleysWelland,Hanley Castle,Hanley Swan,Service,Welland
ATTACH;FMTTYPE=image/jpeg:https://hopechurchfamily.org/wp-content/uploads/2021/11/morning-praise-400_400.jpg
GEO:52.0833913;-2.2766275
END:VEVENT
BEGIN:VEVENT
DTSTART;TZID=Europe/London:20270103T093000
DTEND;TZID=Europe/London:20270103T103000
DTSTAMP:20260421T015746
CREATED:20251229T001712Z
LAST-MODIFIED:20260401T115835Z
UID:10007123-1798968600-1798972200@hopechurchfamily.org
SUMMARY:Holy Communion
DESCRIPTION:Join us for a simple service of Holy Communion.
URL:https://hopechurchfamily.org/calendars/holy-communion-11/2027-01-03/
LOCATION:Hanley Swan\, St Gabriel’s\, Hanley Swan\, Worcestershire\, wr8 0dy\, United Kingdom
CATEGORIES:AdvertiseHanleysWelland,All,Hanley Swan,Service
ATTACH;FMTTYPE=image/jpeg:https://hopechurchfamily.org/wp-content/uploads/2016/09/communion-400_400.jpg
GEO:52.0833913;-2.2766275
END:VEVENT
BEGIN:VEVENT
DTSTART;TZID=Europe/London:20270107T190000
DTEND;TZID=Europe/London:20270107T200000
DTSTAMP:20260421T015746
CREATED:20250612T212344Z
LAST-MODIFIED:20260401T114529Z
UID:10006330-1799348400-1799352000@hopechurchfamily.org
SUMMARY:Thursday Evening Reflection
DESCRIPTION:On the first Thursday evening of each month\, we meet for a contemplative service of prayer\, Bible readings and beautiful music. It’s a time to find a place of stillness in the middle of our busy lives\, and make space for God. All are welcome.
URL:https://hopechurchfamily.org/calendars/thursday-evening-reflection/2027-01-07/
LOCATION:Hanley Swan\, St Gabriel’s\, Hanley Swan\, Worcestershire\, wr8 0dy\, United Kingdom
CATEGORIES:AdvertiseHanleysWelland,Hanley Swan,Service
ATTACH;FMTTYPE=image/jpeg:https://hopechurchfamily.org/wp-content/uploads/2025/06/thursday-evening-reflection-400_400.jpg
GEO:52.0833913;-2.2766275
END:VEVENT
END:VCALENDAR