BEGIN:VCALENDAR
VERSION:2.0
PRODID:-//The Hope Church Family - ECPv6.15.20//NONSGML v1.0//EN
CALSCALE:GREGORIAN
METHOD:PUBLISH
X-ORIGINAL-URL:https://hopechurchfamily.org
X-WR-CALDESC:Events for The Hope Church Family
REFRESH-INTERVAL;VALUE=DURATION:PT1H
X-Robots-Tag:noindex
X-PUBLISHED-TTL:PT1H
BEGIN:VTIMEZONE
TZID:Europe/London
BEGIN:DAYLIGHT
TZOFFSETFROM:+0000
TZOFFSETTO:+0100
TZNAME:BST
DTSTART:20260329T010000
END:DAYLIGHT
BEGIN:STANDARD
TZOFFSETFROM:+0100
TZOFFSETTO:+0000
TZNAME:GMT
DTSTART:20261025T010000
END:STANDARD
BEGIN:DAYLIGHT
TZOFFSETFROM:+0000
TZOFFSETTO:+0100
TZNAME:BST
DTSTART:20270328T010000
END:DAYLIGHT
BEGIN:STANDARD
TZOFFSETFROM:+0100
TZOFFSETTO:+0000
TZNAME:GMT
DTSTART:20271031T010000
END:STANDARD
BEGIN:DAYLIGHT
TZOFFSETFROM:+0000
TZOFFSETTO:+0100
TZNAME:BST
DTSTART:20280326T010000
END:DAYLIGHT
BEGIN:STANDARD
TZOFFSETFROM:+0100
TZOFFSETTO:+0000
TZNAME:GMT
DTSTART:20281029T010000
END:STANDARD
END:VTIMEZONE
BEGIN:VEVENT
DTSTART;TZID=Europe/London:20270408T100000
DTEND;TZID=Europe/London:20270408T104500
DTSTAMP:20260421T063308
CREATED:20230614T090617Z
LAST-MODIFIED:20230614T090617Z
UID:10002893-1807178400-1807181100@hopechurchfamily.org
SUMMARY:Holy Communion
DESCRIPTION:A simple\, said\, Common Worship service of Holy Communion.
URL:https://hopechurchfamily.org/calendars/holy-communion-2/2027-04-08/
LOCATION:Hanley Swan\, St Gabriel’s\, Hanley Swan\, Worcestershire\, wr8 0dy\, United Kingdom
CATEGORIES:AdvertiseCroomes,AdvertiseHanleysWelland,AdvertiseRipple,AdvertiseUpton,Hanley Swan,Service
ATTACH;FMTTYPE=image/jpeg:https://hopechurchfamily.org/wp-content/uploads/2016/09/communion-400_400.jpg
GEO:52.0833913;-2.2766275
END:VEVENT
BEGIN:VEVENT
DTSTART;TZID=Europe/London:20270418T093000
DTEND;TZID=Europe/London:20270418T103000
DTSTAMP:20260421T063308
CREATED:20230920T090206Z
LAST-MODIFIED:20250401T142701Z
UID:10003502-1808040600-1808044200@hopechurchfamily.org
SUMMARY:Holy Communion
DESCRIPTION:Join us for a simple service of Holy Communion.
URL:https://hopechurchfamily.org/calendars/holy-communion/2027-04-18/
LOCATION:Hanley Swan\, St Gabriel’s\, Hanley Swan\, Worcestershire\, wr8 0dy\, United Kingdom
CATEGORIES:AdvertiseHanleysWelland,All,Hanley Swan,Service
ATTACH;FMTTYPE=image/jpeg:https://hopechurchfamily.org/wp-content/uploads/2016/09/communion-400_400.jpg
GEO:52.0833913;-2.2766275
END:VEVENT
BEGIN:VEVENT
DTSTART;TZID=Europe/London:20270425T093000
DTEND;TZID=Europe/London:20270425T103000
DTSTAMP:20260421T063308
CREATED:20211101T134817Z
LAST-MODIFIED:20251014T133622Z
UID:10004365-1808645400-1808649000@hopechurchfamily.org
SUMMARY:Morning Praise
DESCRIPTION:Join us for a simple\, lay-led\, service of morning praise. \nWith hymns\, prayers and a short reflection let by the team from St Gabriel’s Church.
URL:https://hopechurchfamily.org/calendars/morning-praise/2027-04-25/
LOCATION:Hanley Swan\, St Gabriel’s\, Hanley Swan\, Worcestershire\, wr8 0dy\, United Kingdom
CATEGORIES:AdvertiseHanleysWelland,Hanley Castle,Hanley Swan,Service,Welland
ATTACH;FMTTYPE=image/jpeg:https://hopechurchfamily.org/wp-content/uploads/2021/11/morning-praise-400_400.jpg
GEO:52.0833913;-2.2766275
END:VEVENT
BEGIN:VEVENT
DTSTART;TZID=Europe/London:20270502T093000
DTEND;TZID=Europe/London:20270502T103000
DTSTAMP:20260421T063308
CREATED:20251229T001712Z
LAST-MODIFIED:20260401T115835Z
UID:10007127-1809250200-1809253800@hopechurchfamily.org
SUMMARY:Holy Communion
DESCRIPTION:Join us for a simple service of Holy Communion.
URL:https://hopechurchfamily.org/calendars/holy-communion-11/2027-05-02/
LOCATION:Hanley Swan\, St Gabriel’s\, Hanley Swan\, Worcestershire\, wr8 0dy\, United Kingdom
CATEGORIES:AdvertiseHanleysWelland,All,Hanley Swan,Service
ATTACH;FMTTYPE=image/jpeg:https://hopechurchfamily.org/wp-content/uploads/2016/09/communion-400_400.jpg
GEO:52.0833913;-2.2766275
END:VEVENT
BEGIN:VEVENT
DTSTART;TZID=Europe/London:20270506T190000
DTEND;TZID=Europe/London:20270506T200000
DTSTAMP:20260421T063308
CREATED:20250612T212344Z
LAST-MODIFIED:20260401T114529Z
UID:10006334-1809630000-1809633600@hopechurchfamily.org
SUMMARY:Thursday Evening Reflection
DESCRIPTION:On the first Thursday evening of each month\, we meet for a contemplative service of prayer\, Bible readings and beautiful music. It’s a time to find a place of stillness in the middle of our busy lives\, and make space for God. All are welcome.
URL:https://hopechurchfamily.org/calendars/thursday-evening-reflection/2027-05-06/
LOCATION:Hanley Swan\, St Gabriel’s\, Hanley Swan\, Worcestershire\, wr8 0dy\, United Kingdom
CATEGORIES:AdvertiseHanleysWelland,Hanley Swan,Service
ATTACH;FMTTYPE=image/jpeg:https://hopechurchfamily.org/wp-content/uploads/2025/06/thursday-evening-reflection-400_400.jpg
GEO:52.0833913;-2.2766275
END:VEVENT
BEGIN:VEVENT
DTSTART;TZID=Europe/London:20270513T100000
DTEND;TZID=Europe/London:20270513T104500
DTSTAMP:20260421T063308
CREATED:20230614T090617Z
LAST-MODIFIED:20230614T090617Z
UID:10002894-1810202400-1810205100@hopechurchfamily.org
SUMMARY:Holy Communion
DESCRIPTION:A simple\, said\, Common Worship service of Holy Communion.
URL:https://hopechurchfamily.org/calendars/holy-communion-2/2027-05-13/
LOCATION:Hanley Swan\, St Gabriel’s\, Hanley Swan\, Worcestershire\, wr8 0dy\, United Kingdom
CATEGORIES:AdvertiseCroomes,AdvertiseHanleysWelland,AdvertiseRipple,AdvertiseUpton,Hanley Swan,Service
ATTACH;FMTTYPE=image/jpeg:https://hopechurchfamily.org/wp-content/uploads/2016/09/communion-400_400.jpg
GEO:52.0833913;-2.2766275
END:VEVENT
BEGIN:VEVENT
DTSTART;TZID=Europe/London:20270516T093000
DTEND;TZID=Europe/London:20270516T103000
DTSTAMP:20260421T063308
CREATED:20230920T090206Z
LAST-MODIFIED:20250401T142701Z
UID:10003503-1810459800-1810463400@hopechurchfamily.org
SUMMARY:Holy Communion
DESCRIPTION:Join us for a simple service of Holy Communion.
URL:https://hopechurchfamily.org/calendars/holy-communion/2027-05-16/
LOCATION:Hanley Swan\, St Gabriel’s\, Hanley Swan\, Worcestershire\, wr8 0dy\, United Kingdom
CATEGORIES:AdvertiseHanleysWelland,All,Hanley Swan,Service
ATTACH;FMTTYPE=image/jpeg:https://hopechurchfamily.org/wp-content/uploads/2016/09/communion-400_400.jpg
GEO:52.0833913;-2.2766275
END:VEVENT
BEGIN:VEVENT
DTSTART;TZID=Europe/London:20270523T093000
DTEND;TZID=Europe/London:20270523T103000
DTSTAMP:20260421T063308
CREATED:20211101T134817Z
LAST-MODIFIED:20251014T133622Z
UID:10004366-1811064600-1811068200@hopechurchfamily.org
SUMMARY:Morning Praise
DESCRIPTION:Join us for a simple\, lay-led\, service of morning praise. \nWith hymns\, prayers and a short reflection let by the team from St Gabriel’s Church.
URL:https://hopechurchfamily.org/calendars/morning-praise/2027-05-23/
LOCATION:Hanley Swan\, St Gabriel’s\, Hanley Swan\, Worcestershire\, wr8 0dy\, United Kingdom
CATEGORIES:AdvertiseHanleysWelland,Hanley Castle,Hanley Swan,Service,Welland
ATTACH;FMTTYPE=image/jpeg:https://hopechurchfamily.org/wp-content/uploads/2021/11/morning-praise-400_400.jpg
GEO:52.0833913;-2.2766275
END:VEVENT
BEGIN:VEVENT
DTSTART;TZID=Europe/London:20270603T190000
DTEND;TZID=Europe/London:20270603T200000
DTSTAMP:20260421T063308
CREATED:20250612T212344Z
LAST-MODIFIED:20260401T114529Z
UID:10006335-1812049200-1812052800@hopechurchfamily.org
SUMMARY:Thursday Evening Reflection
DESCRIPTION:On the first Thursday evening of each month\, we meet for a contemplative service of prayer\, Bible readings and beautiful music. It’s a time to find a place of stillness in the middle of our busy lives\, and make space for God. All are welcome.
URL:https://hopechurchfamily.org/calendars/thursday-evening-reflection/2027-06-03/
LOCATION:Hanley Swan\, St Gabriel’s\, Hanley Swan\, Worcestershire\, wr8 0dy\, United Kingdom
CATEGORIES:AdvertiseHanleysWelland,Hanley Swan,Service
ATTACH;FMTTYPE=image/jpeg:https://hopechurchfamily.org/wp-content/uploads/2025/06/thursday-evening-reflection-400_400.jpg
GEO:52.0833913;-2.2766275
END:VEVENT
BEGIN:VEVENT
DTSTART;TZID=Europe/London:20270606T093000
DTEND;TZID=Europe/London:20270606T103000
DTSTAMP:20260421T063308
CREATED:20251229T001712Z
LAST-MODIFIED:20260401T115835Z
UID:10007128-1812274200-1812277800@hopechurchfamily.org
SUMMARY:Holy Communion
DESCRIPTION:Join us for a simple service of Holy Communion.
URL:https://hopechurchfamily.org/calendars/holy-communion-11/2027-06-06/
LOCATION:Hanley Swan\, St Gabriel’s\, Hanley Swan\, Worcestershire\, wr8 0dy\, United Kingdom
CATEGORIES:AdvertiseHanleysWelland,All,Hanley Swan,Service
ATTACH;FMTTYPE=image/jpeg:https://hopechurchfamily.org/wp-content/uploads/2016/09/communion-400_400.jpg
GEO:52.0833913;-2.2766275
END:VEVENT
BEGIN:VEVENT
DTSTART;TZID=Europe/London:20270610T100000
DTEND;TZID=Europe/London:20270610T104500
DTSTAMP:20260421T063308
CREATED:20230614T090617Z
LAST-MODIFIED:20230614T090617Z
UID:10002895-1812621600-1812624300@hopechurchfamily.org
SUMMARY:Holy Communion
DESCRIPTION:A simple\, said\, Common Worship service of Holy Communion.
URL:https://hopechurchfamily.org/calendars/holy-communion-2/2027-06-10/
LOCATION:Hanley Swan\, St Gabriel’s\, Hanley Swan\, Worcestershire\, wr8 0dy\, United Kingdom
CATEGORIES:AdvertiseCroomes,AdvertiseHanleysWelland,AdvertiseRipple,AdvertiseUpton,Hanley Swan,Service
ATTACH;FMTTYPE=image/jpeg:https://hopechurchfamily.org/wp-content/uploads/2016/09/communion-400_400.jpg
GEO:52.0833913;-2.2766275
END:VEVENT
BEGIN:VEVENT
DTSTART;TZID=Europe/London:20270620T093000
DTEND;TZID=Europe/London:20270620T103000
DTSTAMP:20260421T063308
CREATED:20230920T090206Z
LAST-MODIFIED:20250401T142701Z
UID:10003504-1813483800-1813487400@hopechurchfamily.org
SUMMARY:Holy Communion
DESCRIPTION:Join us for a simple service of Holy Communion.
URL:https://hopechurchfamily.org/calendars/holy-communion/2027-06-20/
LOCATION:Hanley Swan\, St Gabriel’s\, Hanley Swan\, Worcestershire\, wr8 0dy\, United Kingdom
CATEGORIES:AdvertiseHanleysWelland,All,Hanley Swan,Service
ATTACH;FMTTYPE=image/jpeg:https://hopechurchfamily.org/wp-content/uploads/2016/09/communion-400_400.jpg
GEO:52.0833913;-2.2766275
END:VEVENT
BEGIN:VEVENT
DTSTART;TZID=Europe/London:20270627T093000
DTEND;TZID=Europe/London:20270627T103000
DTSTAMP:20260421T063308
CREATED:20211101T134817Z
LAST-MODIFIED:20251014T133622Z
UID:10004367-1814088600-1814092200@hopechurchfamily.org
SUMMARY:Morning Praise
DESCRIPTION:Join us for a simple\, lay-led\, service of morning praise. \nWith hymns\, prayers and a short reflection let by the team from St Gabriel’s Church.
URL:https://hopechurchfamily.org/calendars/morning-praise/2027-06-27/
LOCATION:Hanley Swan\, St Gabriel’s\, Hanley Swan\, Worcestershire\, wr8 0dy\, United Kingdom
CATEGORIES:AdvertiseHanleysWelland,Hanley Castle,Hanley Swan,Service,Welland
ATTACH;FMTTYPE=image/jpeg:https://hopechurchfamily.org/wp-content/uploads/2021/11/morning-praise-400_400.jpg
GEO:52.0833913;-2.2766275
END:VEVENT
BEGIN:VEVENT
DTSTART;TZID=Europe/London:20270701T190000
DTEND;TZID=Europe/London:20270701T200000
DTSTAMP:20260421T063308
CREATED:20250612T212344Z
LAST-MODIFIED:20260401T114529Z
UID:10006336-1814468400-1814472000@hopechurchfamily.org
SUMMARY:Thursday Evening Reflection
DESCRIPTION:On the first Thursday evening of each month\, we meet for a contemplative service of prayer\, Bible readings and beautiful music. It’s a time to find a place of stillness in the middle of our busy lives\, and make space for God. All are welcome.
URL:https://hopechurchfamily.org/calendars/thursday-evening-reflection/2027-07-01/
LOCATION:Hanley Swan\, St Gabriel’s\, Hanley Swan\, Worcestershire\, wr8 0dy\, United Kingdom
CATEGORIES:AdvertiseHanleysWelland,Hanley Swan,Service
ATTACH;FMTTYPE=image/jpeg:https://hopechurchfamily.org/wp-content/uploads/2025/06/thursday-evening-reflection-400_400.jpg
GEO:52.0833913;-2.2766275
END:VEVENT
BEGIN:VEVENT
DTSTART;TZID=Europe/London:20270704T093000
DTEND;TZID=Europe/London:20270704T103000
DTSTAMP:20260421T063308
CREATED:20251229T001712Z
LAST-MODIFIED:20260401T115835Z
UID:10007129-1814693400-1814697000@hopechurchfamily.org
SUMMARY:Holy Communion
DESCRIPTION:Join us for a simple service of Holy Communion.
URL:https://hopechurchfamily.org/calendars/holy-communion-11/2027-07-04/
LOCATION:Hanley Swan\, St Gabriel’s\, Hanley Swan\, Worcestershire\, wr8 0dy\, United Kingdom
CATEGORIES:AdvertiseHanleysWelland,All,Hanley Swan,Service
ATTACH;FMTTYPE=image/jpeg:https://hopechurchfamily.org/wp-content/uploads/2016/09/communion-400_400.jpg
GEO:52.0833913;-2.2766275
END:VEVENT
BEGIN:VEVENT
DTSTART;TZID=Europe/London:20270708T100000
DTEND;TZID=Europe/London:20270708T104500
DTSTAMP:20260421T063308
CREATED:20230614T090617Z
LAST-MODIFIED:20230614T090617Z
UID:10002896-1815040800-1815043500@hopechurchfamily.org
SUMMARY:Holy Communion
DESCRIPTION:A simple\, said\, Common Worship service of Holy Communion.
URL:https://hopechurchfamily.org/calendars/holy-communion-2/2027-07-08/
LOCATION:Hanley Swan\, St Gabriel’s\, Hanley Swan\, Worcestershire\, wr8 0dy\, United Kingdom
CATEGORIES:AdvertiseCroomes,AdvertiseHanleysWelland,AdvertiseRipple,AdvertiseUpton,Hanley Swan,Service
ATTACH;FMTTYPE=image/jpeg:https://hopechurchfamily.org/wp-content/uploads/2016/09/communion-400_400.jpg
GEO:52.0833913;-2.2766275
END:VEVENT
BEGIN:VEVENT
DTSTART;TZID=Europe/London:20270718T093000
DTEND;TZID=Europe/London:20270718T103000
DTSTAMP:20260421T063308
CREATED:20230920T090206Z
LAST-MODIFIED:20250401T142701Z
UID:10003505-1815903000-1815906600@hopechurchfamily.org
SUMMARY:Holy Communion
DESCRIPTION:Join us for a simple service of Holy Communion.
URL:https://hopechurchfamily.org/calendars/holy-communion/2027-07-18/
LOCATION:Hanley Swan\, St Gabriel’s\, Hanley Swan\, Worcestershire\, wr8 0dy\, United Kingdom
CATEGORIES:AdvertiseHanleysWelland,All,Hanley Swan,Service
ATTACH;FMTTYPE=image/jpeg:https://hopechurchfamily.org/wp-content/uploads/2016/09/communion-400_400.jpg
GEO:52.0833913;-2.2766275
END:VEVENT
BEGIN:VEVENT
DTSTART;TZID=Europe/London:20270725T093000
DTEND;TZID=Europe/London:20270725T103000
DTSTAMP:20260421T063308
CREATED:20211101T134817Z
LAST-MODIFIED:20251014T133622Z
UID:10004368-1816507800-1816511400@hopechurchfamily.org
SUMMARY:Morning Praise
DESCRIPTION:Join us for a simple\, lay-led\, service of morning praise. \nWith hymns\, prayers and a short reflection let by the team from St Gabriel’s Church.
URL:https://hopechurchfamily.org/calendars/morning-praise/2027-07-25/
LOCATION:Hanley Swan\, St Gabriel’s\, Hanley Swan\, Worcestershire\, wr8 0dy\, United Kingdom
CATEGORIES:AdvertiseHanleysWelland,Hanley Castle,Hanley Swan,Service,Welland
ATTACH;FMTTYPE=image/jpeg:https://hopechurchfamily.org/wp-content/uploads/2021/11/morning-praise-400_400.jpg
GEO:52.0833913;-2.2766275
END:VEVENT
BEGIN:VEVENT
DTSTART;TZID=Europe/London:20270801T093000
DTEND;TZID=Europe/London:20270801T103000
DTSTAMP:20260421T063308
CREATED:20251229T001712Z
LAST-MODIFIED:20260401T115835Z
UID:10007130-1817112600-1817116200@hopechurchfamily.org
SUMMARY:Holy Communion
DESCRIPTION:Join us for a simple service of Holy Communion.
URL:https://hopechurchfamily.org/calendars/holy-communion-11/2027-08-01/
LOCATION:Hanley Swan\, St Gabriel’s\, Hanley Swan\, Worcestershire\, wr8 0dy\, United Kingdom
CATEGORIES:AdvertiseHanleysWelland,All,Hanley Swan,Service
ATTACH;FMTTYPE=image/jpeg:https://hopechurchfamily.org/wp-content/uploads/2016/09/communion-400_400.jpg
GEO:52.0833913;-2.2766275
END:VEVENT
BEGIN:VEVENT
DTSTART;TZID=Europe/London:20270805T190000
DTEND;TZID=Europe/London:20270805T200000
DTSTAMP:20260421T063308
CREATED:20250612T212344Z
LAST-MODIFIED:20260401T114529Z
UID:10006337-1817492400-1817496000@hopechurchfamily.org
SUMMARY:Thursday Evening Reflection
DESCRIPTION:On the first Thursday evening of each month\, we meet for a contemplative service of prayer\, Bible readings and beautiful music. It’s a time to find a place of stillness in the middle of our busy lives\, and make space for God. All are welcome.
URL:https://hopechurchfamily.org/calendars/thursday-evening-reflection/2027-08-05/
LOCATION:Hanley Swan\, St Gabriel’s\, Hanley Swan\, Worcestershire\, wr8 0dy\, United Kingdom
CATEGORIES:AdvertiseHanleysWelland,Hanley Swan,Service
ATTACH;FMTTYPE=image/jpeg:https://hopechurchfamily.org/wp-content/uploads/2025/06/thursday-evening-reflection-400_400.jpg
GEO:52.0833913;-2.2766275
END:VEVENT
BEGIN:VEVENT
DTSTART;TZID=Europe/London:20270812T100000
DTEND;TZID=Europe/London:20270812T104500
DTSTAMP:20260421T063308
CREATED:20230614T090617Z
LAST-MODIFIED:20230614T090617Z
UID:10002897-1818064800-1818067500@hopechurchfamily.org
SUMMARY:Holy Communion
DESCRIPTION:A simple\, said\, Common Worship service of Holy Communion.
URL:https://hopechurchfamily.org/calendars/holy-communion-2/2027-08-12/
LOCATION:Hanley Swan\, St Gabriel’s\, Hanley Swan\, Worcestershire\, wr8 0dy\, United Kingdom
CATEGORIES:AdvertiseCroomes,AdvertiseHanleysWelland,AdvertiseRipple,AdvertiseUpton,Hanley Swan,Service
ATTACH;FMTTYPE=image/jpeg:https://hopechurchfamily.org/wp-content/uploads/2016/09/communion-400_400.jpg
GEO:52.0833913;-2.2766275
END:VEVENT
BEGIN:VEVENT
DTSTART;TZID=Europe/London:20270815T093000
DTEND;TZID=Europe/London:20270815T103000
DTSTAMP:20260421T063308
CREATED:20230920T090206Z
LAST-MODIFIED:20250401T142701Z
UID:10003506-1818322200-1818325800@hopechurchfamily.org
SUMMARY:Holy Communion
DESCRIPTION:Join us for a simple service of Holy Communion.
URL:https://hopechurchfamily.org/calendars/holy-communion/2027-08-15/
LOCATION:Hanley Swan\, St Gabriel’s\, Hanley Swan\, Worcestershire\, wr8 0dy\, United Kingdom
CATEGORIES:AdvertiseHanleysWelland,All,Hanley Swan,Service
ATTACH;FMTTYPE=image/jpeg:https://hopechurchfamily.org/wp-content/uploads/2016/09/communion-400_400.jpg
GEO:52.0833913;-2.2766275
END:VEVENT
BEGIN:VEVENT
DTSTART;TZID=Europe/London:20270822T093000
DTEND;TZID=Europe/London:20270822T103000
DTSTAMP:20260421T063308
CREATED:20211101T134817Z
LAST-MODIFIED:20251014T133622Z
UID:10004369-1818927000-1818930600@hopechurchfamily.org
SUMMARY:Morning Praise
DESCRIPTION:Join us for a simple\, lay-led\, service of morning praise. \nWith hymns\, prayers and a short reflection let by the team from St Gabriel’s Church.
URL:https://hopechurchfamily.org/calendars/morning-praise/2027-08-22/
LOCATION:Hanley Swan\, St Gabriel’s\, Hanley Swan\, Worcestershire\, wr8 0dy\, United Kingdom
CATEGORIES:AdvertiseHanleysWelland,Hanley Castle,Hanley Swan,Service,Welland
ATTACH;FMTTYPE=image/jpeg:https://hopechurchfamily.org/wp-content/uploads/2021/11/morning-praise-400_400.jpg
GEO:52.0833913;-2.2766275
END:VEVENT
BEGIN:VEVENT
DTSTART;TZID=Europe/London:20270902T190000
DTEND;TZID=Europe/London:20270902T200000
DTSTAMP:20260421T063308
CREATED:20250612T212344Z
LAST-MODIFIED:20260401T114529Z
UID:10006338-1819911600-1819915200@hopechurchfamily.org
SUMMARY:Thursday Evening Reflection
DESCRIPTION:On the first Thursday evening of each month\, we meet for a contemplative service of prayer\, Bible readings and beautiful music. It’s a time to find a place of stillness in the middle of our busy lives\, and make space for God. All are welcome.
URL:https://hopechurchfamily.org/calendars/thursday-evening-reflection/2027-09-02/
LOCATION:Hanley Swan\, St Gabriel’s\, Hanley Swan\, Worcestershire\, wr8 0dy\, United Kingdom
CATEGORIES:AdvertiseHanleysWelland,Hanley Swan,Service
ATTACH;FMTTYPE=image/jpeg:https://hopechurchfamily.org/wp-content/uploads/2025/06/thursday-evening-reflection-400_400.jpg
GEO:52.0833913;-2.2766275
END:VEVENT
BEGIN:VEVENT
DTSTART;TZID=Europe/London:20270905T093000
DTEND;TZID=Europe/London:20270905T103000
DTSTAMP:20260421T063308
CREATED:20251229T001712Z
LAST-MODIFIED:20260401T115835Z
UID:10007131-1820136600-1820140200@hopechurchfamily.org
SUMMARY:Holy Communion
DESCRIPTION:Join us for a simple service of Holy Communion.
URL:https://hopechurchfamily.org/calendars/holy-communion-11/2027-09-05/
LOCATION:Hanley Swan\, St Gabriel’s\, Hanley Swan\, Worcestershire\, wr8 0dy\, United Kingdom
CATEGORIES:AdvertiseHanleysWelland,All,Hanley Swan,Service
ATTACH;FMTTYPE=image/jpeg:https://hopechurchfamily.org/wp-content/uploads/2016/09/communion-400_400.jpg
GEO:52.0833913;-2.2766275
END:VEVENT
BEGIN:VEVENT
DTSTART;TZID=Europe/London:20270909T100000
DTEND;TZID=Europe/London:20270909T104500
DTSTAMP:20260421T063308
CREATED:20230614T090617Z
LAST-MODIFIED:20230614T090617Z
UID:10002898-1820484000-1820486700@hopechurchfamily.org
SUMMARY:Holy Communion
DESCRIPTION:A simple\, said\, Common Worship service of Holy Communion.
URL:https://hopechurchfamily.org/calendars/holy-communion-2/2027-09-09/
LOCATION:Hanley Swan\, St Gabriel’s\, Hanley Swan\, Worcestershire\, wr8 0dy\, United Kingdom
CATEGORIES:AdvertiseCroomes,AdvertiseHanleysWelland,AdvertiseRipple,AdvertiseUpton,Hanley Swan,Service
ATTACH;FMTTYPE=image/jpeg:https://hopechurchfamily.org/wp-content/uploads/2016/09/communion-400_400.jpg
GEO:52.0833913;-2.2766275
END:VEVENT
BEGIN:VEVENT
DTSTART;TZID=Europe/London:20270919T093000
DTEND;TZID=Europe/London:20270919T103000
DTSTAMP:20260421T063308
CREATED:20230920T090206Z
LAST-MODIFIED:20250401T142701Z
UID:10003507-1821346200-1821349800@hopechurchfamily.org
SUMMARY:Holy Communion
DESCRIPTION:Join us for a simple service of Holy Communion.
URL:https://hopechurchfamily.org/calendars/holy-communion/2027-09-19/
LOCATION:Hanley Swan\, St Gabriel’s\, Hanley Swan\, Worcestershire\, wr8 0dy\, United Kingdom
CATEGORIES:AdvertiseHanleysWelland,All,Hanley Swan,Service
ATTACH;FMTTYPE=image/jpeg:https://hopechurchfamily.org/wp-content/uploads/2016/09/communion-400_400.jpg
GEO:52.0833913;-2.2766275
END:VEVENT
BEGIN:VEVENT
DTSTART;TZID=Europe/London:20270926T093000
DTEND;TZID=Europe/London:20270926T103000
DTSTAMP:20260421T063308
CREATED:20211101T134817Z
LAST-MODIFIED:20251014T133622Z
UID:10004370-1821951000-1821954600@hopechurchfamily.org
SUMMARY:Morning Praise
DESCRIPTION:Join us for a simple\, lay-led\, service of morning praise. \nWith hymns\, prayers and a short reflection let by the team from St Gabriel’s Church.
URL:https://hopechurchfamily.org/calendars/morning-praise/2027-09-26/
LOCATION:Hanley Swan\, St Gabriel’s\, Hanley Swan\, Worcestershire\, wr8 0dy\, United Kingdom
CATEGORIES:AdvertiseHanleysWelland,Hanley Castle,Hanley Swan,Service,Welland
ATTACH;FMTTYPE=image/jpeg:https://hopechurchfamily.org/wp-content/uploads/2021/11/morning-praise-400_400.jpg
GEO:52.0833913;-2.2766275
END:VEVENT
BEGIN:VEVENT
DTSTART;TZID=Europe/London:20271003T093000
DTEND;TZID=Europe/London:20271003T103000
DTSTAMP:20260421T063308
CREATED:20251229T001712Z
LAST-MODIFIED:20260401T115835Z
UID:10007132-1822555800-1822559400@hopechurchfamily.org
SUMMARY:Holy Communion
DESCRIPTION:Join us for a simple service of Holy Communion.
URL:https://hopechurchfamily.org/calendars/holy-communion-11/2027-10-03/
LOCATION:Hanley Swan\, St Gabriel’s\, Hanley Swan\, Worcestershire\, wr8 0dy\, United Kingdom
CATEGORIES:AdvertiseHanleysWelland,All,Hanley Swan,Service
ATTACH;FMTTYPE=image/jpeg:https://hopechurchfamily.org/wp-content/uploads/2016/09/communion-400_400.jpg
GEO:52.0833913;-2.2766275
END:VEVENT
BEGIN:VEVENT
DTSTART;TZID=Europe/London:20271007T190000
DTEND;TZID=Europe/London:20271007T200000
DTSTAMP:20260421T063308
CREATED:20250612T212344Z
LAST-MODIFIED:20260401T114529Z
UID:10006339-1822935600-1822939200@hopechurchfamily.org
SUMMARY:Thursday Evening Reflection
DESCRIPTION:On the first Thursday evening of each month\, we meet for a contemplative service of prayer\, Bible readings and beautiful music. It’s a time to find a place of stillness in the middle of our busy lives\, and make space for God. All are welcome.
URL:https://hopechurchfamily.org/calendars/thursday-evening-reflection/2027-10-07/
LOCATION:Hanley Swan\, St Gabriel’s\, Hanley Swan\, Worcestershire\, wr8 0dy\, United Kingdom
CATEGORIES:AdvertiseHanleysWelland,Hanley Swan,Service
ATTACH;FMTTYPE=image/jpeg:https://hopechurchfamily.org/wp-content/uploads/2025/06/thursday-evening-reflection-400_400.jpg
GEO:52.0833913;-2.2766275
END:VEVENT
END:VCALENDAR