BEGIN:VCALENDAR
VERSION:2.0
PRODID:-//The Hope Church Family - ECPv6.15.20//NONSGML v1.0//EN
CALSCALE:GREGORIAN
METHOD:PUBLISH
X-WR-CALNAME:The Hope Church Family
X-ORIGINAL-URL:https://hopechurchfamily.org
X-WR-CALDESC:Events for The Hope Church Family
REFRESH-INTERVAL;VALUE=DURATION:PT1H
X-Robots-Tag:noindex
X-PUBLISHED-TTL:PT1H
BEGIN:VTIMEZONE
TZID:Europe/London
BEGIN:DAYLIGHT
TZOFFSETFROM:+0000
TZOFFSETTO:+0100
TZNAME:BST
DTSTART:20270328T010000
END:DAYLIGHT
BEGIN:STANDARD
TZOFFSETFROM:+0100
TZOFFSETTO:+0000
TZNAME:GMT
DTSTART:20271031T010000
END:STANDARD
BEGIN:DAYLIGHT
TZOFFSETFROM:+0000
TZOFFSETTO:+0100
TZNAME:BST
DTSTART:20280326T010000
END:DAYLIGHT
BEGIN:STANDARD
TZOFFSETFROM:+0100
TZOFFSETTO:+0000
TZNAME:GMT
DTSTART:20281029T010000
END:STANDARD
BEGIN:DAYLIGHT
TZOFFSETFROM:+0000
TZOFFSETTO:+0100
TZNAME:BST
DTSTART:20290325T010000
END:DAYLIGHT
BEGIN:STANDARD
TZOFFSETFROM:+0100
TZOFFSETTO:+0000
TZNAME:GMT
DTSTART:20291028T010000
END:STANDARD
END:VTIMEZONE
BEGIN:VEVENT
DTSTART;TZID=Europe/London:20280102T093000
DTEND;TZID=Europe/London:20280102T103000
DTSTAMP:20260423T180400
CREATED:20251229T001712Z
LAST-MODIFIED:20260401T115835Z
UID:10007135-1830418200-1830421800@hopechurchfamily.org
SUMMARY:Holy Communion
DESCRIPTION:Join us for a simple service of Holy Communion.
URL:https://hopechurchfamily.org/calendars/holy-communion-11/2028-01-02/
LOCATION:Hanley Swan\, St Gabriel’s\, Hanley Swan\, Worcestershire\, wr8 0dy\, United Kingdom
CATEGORIES:AdvertiseHanleysWelland,All,Hanley Swan,Service
ATTACH;FMTTYPE=image/jpeg:https://hopechurchfamily.org/wp-content/uploads/2016/09/communion-400_400.jpg
GEO:52.0833913;-2.2766275
END:VEVENT
BEGIN:VEVENT
DTSTART;TZID=Europe/London:20280106T190000
DTEND;TZID=Europe/London:20280106T200000
DTSTAMP:20260423T180400
CREATED:20250612T212344Z
LAST-MODIFIED:20260401T114529Z
UID:10006342-1830798000-1830801600@hopechurchfamily.org
SUMMARY:Thursday Evening Reflection
DESCRIPTION:On the first Thursday evening of each month\, we meet for a contemplative service of prayer\, Bible readings and beautiful music. It’s a time to find a place of stillness in the middle of our busy lives\, and make space for God. All are welcome.
URL:https://hopechurchfamily.org/calendars/thursday-evening-reflection/2028-01-06/
LOCATION:Hanley Swan\, St Gabriel’s\, Hanley Swan\, Worcestershire\, wr8 0dy\, United Kingdom
CATEGORIES:AdvertiseHanleysWelland,Hanley Swan,Service
ATTACH;FMTTYPE=image/jpeg:https://hopechurchfamily.org/wp-content/uploads/2025/06/thursday-evening-reflection-400_400.jpg
GEO:52.0833913;-2.2766275
END:VEVENT
BEGIN:VEVENT
DTSTART;TZID=Europe/London:20280113T100000
DTEND;TZID=Europe/London:20280113T104500
DTSTAMP:20260423T180400
CREATED:20230614T090617Z
LAST-MODIFIED:20230614T090617Z
UID:10002902-1831370400-1831373100@hopechurchfamily.org
SUMMARY:Holy Communion
DESCRIPTION:A simple\, said\, Common Worship service of Holy Communion.
URL:https://hopechurchfamily.org/calendars/holy-communion-2/2028-01-13/
LOCATION:Hanley Swan\, St Gabriel’s\, Hanley Swan\, Worcestershire\, wr8 0dy\, United Kingdom
CATEGORIES:AdvertiseCroomes,AdvertiseHanleysWelland,AdvertiseRipple,AdvertiseUpton,Hanley Swan,Service
ATTACH;FMTTYPE=image/jpeg:https://hopechurchfamily.org/wp-content/uploads/2016/09/communion-400_400.jpg
GEO:52.0833913;-2.2766275
END:VEVENT
BEGIN:VEVENT
DTSTART;TZID=Europe/London:20280116T093000
DTEND;TZID=Europe/London:20280116T103000
DTSTAMP:20260423T180400
CREATED:20230920T090206Z
LAST-MODIFIED:20250401T142701Z
UID:10003511-1831627800-1831631400@hopechurchfamily.org
SUMMARY:Holy Communion
DESCRIPTION:Join us for a simple service of Holy Communion.
URL:https://hopechurchfamily.org/calendars/holy-communion/2028-01-16/
LOCATION:Hanley Swan\, St Gabriel’s\, Hanley Swan\, Worcestershire\, wr8 0dy\, United Kingdom
CATEGORIES:AdvertiseHanleysWelland,All,Hanley Swan,Service
ATTACH;FMTTYPE=image/jpeg:https://hopechurchfamily.org/wp-content/uploads/2016/09/communion-400_400.jpg
GEO:52.0833913;-2.2766275
END:VEVENT
BEGIN:VEVENT
DTSTART;TZID=Europe/London:20280123T093000
DTEND;TZID=Europe/London:20280123T103000
DTSTAMP:20260423T180400
CREATED:20211101T134817Z
LAST-MODIFIED:20251014T133622Z
UID:10004374-1832232600-1832236200@hopechurchfamily.org
SUMMARY:Morning Praise
DESCRIPTION:Join us for a simple\, lay-led\, service of morning praise. \nWith hymns\, prayers and a short reflection let by the team from St Gabriel’s Church.
URL:https://hopechurchfamily.org/calendars/morning-praise/2028-01-23/
LOCATION:Hanley Swan\, St Gabriel’s\, Hanley Swan\, Worcestershire\, wr8 0dy\, United Kingdom
CATEGORIES:AdvertiseHanleysWelland,Hanley Castle,Hanley Swan,Service,Welland
ATTACH;FMTTYPE=image/jpeg:https://hopechurchfamily.org/wp-content/uploads/2021/11/morning-praise-400_400.jpg
GEO:52.0833913;-2.2766275
END:VEVENT
BEGIN:VEVENT
DTSTART;TZID=Europe/London:20280203T190000
DTEND;TZID=Europe/London:20280203T200000
DTSTAMP:20260423T180400
CREATED:20250612T212344Z
LAST-MODIFIED:20260401T114529Z
UID:10006343-1833217200-1833220800@hopechurchfamily.org
SUMMARY:Thursday Evening Reflection
DESCRIPTION:On the first Thursday evening of each month\, we meet for a contemplative service of prayer\, Bible readings and beautiful music. It’s a time to find a place of stillness in the middle of our busy lives\, and make space for God. All are welcome.
URL:https://hopechurchfamily.org/calendars/thursday-evening-reflection/2028-02-03/
LOCATION:Hanley Swan\, St Gabriel’s\, Hanley Swan\, Worcestershire\, wr8 0dy\, United Kingdom
CATEGORIES:AdvertiseHanleysWelland,Hanley Swan,Service
ATTACH;FMTTYPE=image/jpeg:https://hopechurchfamily.org/wp-content/uploads/2025/06/thursday-evening-reflection-400_400.jpg
GEO:52.0833913;-2.2766275
END:VEVENT
BEGIN:VEVENT
DTSTART;TZID=Europe/London:20280206T093000
DTEND;TZID=Europe/London:20280206T103000
DTSTAMP:20260423T180400
CREATED:20251229T001712Z
LAST-MODIFIED:20260401T115835Z
UID:10007136-1833442200-1833445800@hopechurchfamily.org
SUMMARY:Holy Communion
DESCRIPTION:Join us for a simple service of Holy Communion.
URL:https://hopechurchfamily.org/calendars/holy-communion-11/2028-02-06/
LOCATION:Hanley Swan\, St Gabriel’s\, Hanley Swan\, Worcestershire\, wr8 0dy\, United Kingdom
CATEGORIES:AdvertiseHanleysWelland,All,Hanley Swan,Service
ATTACH;FMTTYPE=image/jpeg:https://hopechurchfamily.org/wp-content/uploads/2016/09/communion-400_400.jpg
GEO:52.0833913;-2.2766275
END:VEVENT
BEGIN:VEVENT
DTSTART;TZID=Europe/London:20280210T100000
DTEND;TZID=Europe/London:20280210T104500
DTSTAMP:20260423T180400
CREATED:20230614T090617Z
LAST-MODIFIED:20230614T090617Z
UID:10002903-1833789600-1833792300@hopechurchfamily.org
SUMMARY:Holy Communion
DESCRIPTION:A simple\, said\, Common Worship service of Holy Communion.
URL:https://hopechurchfamily.org/calendars/holy-communion-2/2028-02-10/
LOCATION:Hanley Swan\, St Gabriel’s\, Hanley Swan\, Worcestershire\, wr8 0dy\, United Kingdom
CATEGORIES:AdvertiseCroomes,AdvertiseHanleysWelland,AdvertiseRipple,AdvertiseUpton,Hanley Swan,Service
ATTACH;FMTTYPE=image/jpeg:https://hopechurchfamily.org/wp-content/uploads/2016/09/communion-400_400.jpg
GEO:52.0833913;-2.2766275
END:VEVENT
BEGIN:VEVENT
DTSTART;TZID=Europe/London:20280220T093000
DTEND;TZID=Europe/London:20280220T103000
DTSTAMP:20260423T180400
CREATED:20230920T090206Z
LAST-MODIFIED:20250401T142701Z
UID:10003512-1834651800-1834655400@hopechurchfamily.org
SUMMARY:Holy Communion
DESCRIPTION:Join us for a simple service of Holy Communion.
URL:https://hopechurchfamily.org/calendars/holy-communion/2028-02-20/
LOCATION:Hanley Swan\, St Gabriel’s\, Hanley Swan\, Worcestershire\, wr8 0dy\, United Kingdom
CATEGORIES:AdvertiseHanleysWelland,All,Hanley Swan,Service
ATTACH;FMTTYPE=image/jpeg:https://hopechurchfamily.org/wp-content/uploads/2016/09/communion-400_400.jpg
GEO:52.0833913;-2.2766275
END:VEVENT
BEGIN:VEVENT
DTSTART;TZID=Europe/London:20280227T093000
DTEND;TZID=Europe/London:20280227T103000
DTSTAMP:20260423T180400
CREATED:20211101T134817Z
LAST-MODIFIED:20251014T133622Z
UID:10004375-1835256600-1835260200@hopechurchfamily.org
SUMMARY:Morning Praise
DESCRIPTION:Join us for a simple\, lay-led\, service of morning praise. \nWith hymns\, prayers and a short reflection let by the team from St Gabriel’s Church.
URL:https://hopechurchfamily.org/calendars/morning-praise/2028-02-27/
LOCATION:Hanley Swan\, St Gabriel’s\, Hanley Swan\, Worcestershire\, wr8 0dy\, United Kingdom
CATEGORIES:AdvertiseHanleysWelland,Hanley Castle,Hanley Swan,Service,Welland
ATTACH;FMTTYPE=image/jpeg:https://hopechurchfamily.org/wp-content/uploads/2021/11/morning-praise-400_400.jpg
GEO:52.0833913;-2.2766275
END:VEVENT
BEGIN:VEVENT
DTSTART;TZID=Europe/London:20280302T190000
DTEND;TZID=Europe/London:20280302T200000
DTSTAMP:20260423T180400
CREATED:20250612T212344Z
LAST-MODIFIED:20260401T114529Z
UID:10006344-1835636400-1835640000@hopechurchfamily.org
SUMMARY:Thursday Evening Reflection
DESCRIPTION:On the first Thursday evening of each month\, we meet for a contemplative service of prayer\, Bible readings and beautiful music. It’s a time to find a place of stillness in the middle of our busy lives\, and make space for God. All are welcome.
URL:https://hopechurchfamily.org/calendars/thursday-evening-reflection/2028-03-02/
LOCATION:Hanley Swan\, St Gabriel’s\, Hanley Swan\, Worcestershire\, wr8 0dy\, United Kingdom
CATEGORIES:AdvertiseHanleysWelland,Hanley Swan,Service
ATTACH;FMTTYPE=image/jpeg:https://hopechurchfamily.org/wp-content/uploads/2025/06/thursday-evening-reflection-400_400.jpg
GEO:52.0833913;-2.2766275
END:VEVENT
BEGIN:VEVENT
DTSTART;TZID=Europe/London:20280305T093000
DTEND;TZID=Europe/London:20280305T103000
DTSTAMP:20260423T180400
CREATED:20251229T001712Z
LAST-MODIFIED:20260401T115835Z
UID:10007137-1835861400-1835865000@hopechurchfamily.org
SUMMARY:Holy Communion
DESCRIPTION:Join us for a simple service of Holy Communion.
URL:https://hopechurchfamily.org/calendars/holy-communion-11/2028-03-05/
LOCATION:Hanley Swan\, St Gabriel’s\, Hanley Swan\, Worcestershire\, wr8 0dy\, United Kingdom
CATEGORIES:AdvertiseHanleysWelland,All,Hanley Swan,Service
ATTACH;FMTTYPE=image/jpeg:https://hopechurchfamily.org/wp-content/uploads/2016/09/communion-400_400.jpg
GEO:52.0833913;-2.2766275
END:VEVENT
BEGIN:VEVENT
DTSTART;TZID=Europe/London:20280309T100000
DTEND;TZID=Europe/London:20280309T104500
DTSTAMP:20260423T180400
CREATED:20230614T090617Z
LAST-MODIFIED:20230614T090617Z
UID:10002904-1836208800-1836211500@hopechurchfamily.org
SUMMARY:Holy Communion
DESCRIPTION:A simple\, said\, Common Worship service of Holy Communion.
URL:https://hopechurchfamily.org/calendars/holy-communion-2/2028-03-09/
LOCATION:Hanley Swan\, St Gabriel’s\, Hanley Swan\, Worcestershire\, wr8 0dy\, United Kingdom
CATEGORIES:AdvertiseCroomes,AdvertiseHanleysWelland,AdvertiseRipple,AdvertiseUpton,Hanley Swan,Service
ATTACH;FMTTYPE=image/jpeg:https://hopechurchfamily.org/wp-content/uploads/2016/09/communion-400_400.jpg
GEO:52.0833913;-2.2766275
END:VEVENT
BEGIN:VEVENT
DTSTART;TZID=Europe/London:20280319T093000
DTEND;TZID=Europe/London:20280319T103000
DTSTAMP:20260423T180400
CREATED:20230920T090206Z
LAST-MODIFIED:20250401T142701Z
UID:10003513-1837071000-1837074600@hopechurchfamily.org
SUMMARY:Holy Communion
DESCRIPTION:Join us for a simple service of Holy Communion.
URL:https://hopechurchfamily.org/calendars/holy-communion/2028-03-19/
LOCATION:Hanley Swan\, St Gabriel’s\, Hanley Swan\, Worcestershire\, wr8 0dy\, United Kingdom
CATEGORIES:AdvertiseHanleysWelland,All,Hanley Swan,Service
ATTACH;FMTTYPE=image/jpeg:https://hopechurchfamily.org/wp-content/uploads/2016/09/communion-400_400.jpg
GEO:52.0833913;-2.2766275
END:VEVENT
BEGIN:VEVENT
DTSTART;TZID=Europe/London:20280326T093000
DTEND;TZID=Europe/London:20280326T103000
DTSTAMP:20260423T180400
CREATED:20211101T134817Z
LAST-MODIFIED:20251014T133622Z
UID:10004376-1837675800-1837679400@hopechurchfamily.org
SUMMARY:Morning Praise
DESCRIPTION:Join us for a simple\, lay-led\, service of morning praise. \nWith hymns\, prayers and a short reflection let by the team from St Gabriel’s Church.
URL:https://hopechurchfamily.org/calendars/morning-praise/2028-03-26/
LOCATION:Hanley Swan\, St Gabriel’s\, Hanley Swan\, Worcestershire\, wr8 0dy\, United Kingdom
CATEGORIES:AdvertiseHanleysWelland,Hanley Castle,Hanley Swan,Service,Welland
ATTACH;FMTTYPE=image/jpeg:https://hopechurchfamily.org/wp-content/uploads/2021/11/morning-praise-400_400.jpg
GEO:52.0833913;-2.2766275
END:VEVENT
BEGIN:VEVENT
DTSTART;TZID=Europe/London:20280402T093000
DTEND;TZID=Europe/London:20280402T103000
DTSTAMP:20260423T180400
CREATED:20251229T001712Z
LAST-MODIFIED:20260401T115835Z
UID:10007138-1838280600-1838284200@hopechurchfamily.org
SUMMARY:Holy Communion
DESCRIPTION:Join us for a simple service of Holy Communion.
URL:https://hopechurchfamily.org/calendars/holy-communion-11/2028-04-02/
LOCATION:Hanley Swan\, St Gabriel’s\, Hanley Swan\, Worcestershire\, wr8 0dy\, United Kingdom
CATEGORIES:AdvertiseHanleysWelland,All,Hanley Swan,Service
ATTACH;FMTTYPE=image/jpeg:https://hopechurchfamily.org/wp-content/uploads/2016/09/communion-400_400.jpg
GEO:52.0833913;-2.2766275
END:VEVENT
BEGIN:VEVENT
DTSTART;TZID=Europe/London:20280406T190000
DTEND;TZID=Europe/London:20280406T200000
DTSTAMP:20260423T180400
CREATED:20250612T212344Z
LAST-MODIFIED:20260401T114529Z
UID:10006345-1838660400-1838664000@hopechurchfamily.org
SUMMARY:Thursday Evening Reflection
DESCRIPTION:On the first Thursday evening of each month\, we meet for a contemplative service of prayer\, Bible readings and beautiful music. It’s a time to find a place of stillness in the middle of our busy lives\, and make space for God. All are welcome.
URL:https://hopechurchfamily.org/calendars/thursday-evening-reflection/2028-04-06/
LOCATION:Hanley Swan\, St Gabriel’s\, Hanley Swan\, Worcestershire\, wr8 0dy\, United Kingdom
CATEGORIES:AdvertiseHanleysWelland,Hanley Swan,Service
ATTACH;FMTTYPE=image/jpeg:https://hopechurchfamily.org/wp-content/uploads/2025/06/thursday-evening-reflection-400_400.jpg
GEO:52.0833913;-2.2766275
END:VEVENT
BEGIN:VEVENT
DTSTART;TZID=Europe/London:20280413T100000
DTEND;TZID=Europe/London:20280413T104500
DTSTAMP:20260423T180401
CREATED:20230614T090617Z
LAST-MODIFIED:20230614T090617Z
UID:10002905-1839232800-1839235500@hopechurchfamily.org
SUMMARY:Holy Communion
DESCRIPTION:A simple\, said\, Common Worship service of Holy Communion.
URL:https://hopechurchfamily.org/calendars/holy-communion-2/2028-04-13/
LOCATION:Hanley Swan\, St Gabriel’s\, Hanley Swan\, Worcestershire\, wr8 0dy\, United Kingdom
CATEGORIES:AdvertiseCroomes,AdvertiseHanleysWelland,AdvertiseRipple,AdvertiseUpton,Hanley Swan,Service
ATTACH;FMTTYPE=image/jpeg:https://hopechurchfamily.org/wp-content/uploads/2016/09/communion-400_400.jpg
GEO:52.0833913;-2.2766275
END:VEVENT
BEGIN:VEVENT
DTSTART;TZID=Europe/London:20280416T093000
DTEND;TZID=Europe/London:20280416T103000
DTSTAMP:20260423T180401
CREATED:20230920T090206Z
LAST-MODIFIED:20250401T142701Z
UID:10003514-1839490200-1839493800@hopechurchfamily.org
SUMMARY:Holy Communion
DESCRIPTION:Join us for a simple service of Holy Communion.
URL:https://hopechurchfamily.org/calendars/holy-communion/2028-04-16/
LOCATION:Hanley Swan\, St Gabriel’s\, Hanley Swan\, Worcestershire\, wr8 0dy\, United Kingdom
CATEGORIES:AdvertiseHanleysWelland,All,Hanley Swan,Service
ATTACH;FMTTYPE=image/jpeg:https://hopechurchfamily.org/wp-content/uploads/2016/09/communion-400_400.jpg
GEO:52.0833913;-2.2766275
END:VEVENT
BEGIN:VEVENT
DTSTART;TZID=Europe/London:20280423T093000
DTEND;TZID=Europe/London:20280423T103000
DTSTAMP:20260423T180401
CREATED:20211101T134817Z
LAST-MODIFIED:20251014T133622Z
UID:10004377-1840095000-1840098600@hopechurchfamily.org
SUMMARY:Morning Praise
DESCRIPTION:Join us for a simple\, lay-led\, service of morning praise. \nWith hymns\, prayers and a short reflection let by the team from St Gabriel’s Church.
URL:https://hopechurchfamily.org/calendars/morning-praise/2028-04-23/
LOCATION:Hanley Swan\, St Gabriel’s\, Hanley Swan\, Worcestershire\, wr8 0dy\, United Kingdom
CATEGORIES:AdvertiseHanleysWelland,Hanley Castle,Hanley Swan,Service,Welland
ATTACH;FMTTYPE=image/jpeg:https://hopechurchfamily.org/wp-content/uploads/2021/11/morning-praise-400_400.jpg
GEO:52.0833913;-2.2766275
END:VEVENT
BEGIN:VEVENT
DTSTART;TZID=Europe/London:20280504T190000
DTEND;TZID=Europe/London:20280504T200000
DTSTAMP:20260423T180401
CREATED:20250612T212344Z
LAST-MODIFIED:20260401T114529Z
UID:10006346-1841079600-1841083200@hopechurchfamily.org
SUMMARY:Thursday Evening Reflection
DESCRIPTION:On the first Thursday evening of each month\, we meet for a contemplative service of prayer\, Bible readings and beautiful music. It’s a time to find a place of stillness in the middle of our busy lives\, and make space for God. All are welcome.
URL:https://hopechurchfamily.org/calendars/thursday-evening-reflection/2028-05-04/
LOCATION:Hanley Swan\, St Gabriel’s\, Hanley Swan\, Worcestershire\, wr8 0dy\, United Kingdom
CATEGORIES:AdvertiseHanleysWelland,Hanley Swan,Service
ATTACH;FMTTYPE=image/jpeg:https://hopechurchfamily.org/wp-content/uploads/2025/06/thursday-evening-reflection-400_400.jpg
GEO:52.0833913;-2.2766275
END:VEVENT
BEGIN:VEVENT
DTSTART;TZID=Europe/London:20280507T093000
DTEND;TZID=Europe/London:20280507T103000
DTSTAMP:20260423T180401
CREATED:20251229T001712Z
LAST-MODIFIED:20260401T115835Z
UID:10007139-1841304600-1841308200@hopechurchfamily.org
SUMMARY:Holy Communion
DESCRIPTION:Join us for a simple service of Holy Communion.
URL:https://hopechurchfamily.org/calendars/holy-communion-11/2028-05-07/
LOCATION:Hanley Swan\, St Gabriel’s\, Hanley Swan\, Worcestershire\, wr8 0dy\, United Kingdom
CATEGORIES:AdvertiseHanleysWelland,All,Hanley Swan,Service
ATTACH;FMTTYPE=image/jpeg:https://hopechurchfamily.org/wp-content/uploads/2016/09/communion-400_400.jpg
GEO:52.0833913;-2.2766275
END:VEVENT
BEGIN:VEVENT
DTSTART;TZID=Europe/London:20280511T100000
DTEND;TZID=Europe/London:20280511T104500
DTSTAMP:20260423T180401
CREATED:20230614T090617Z
LAST-MODIFIED:20230614T090617Z
UID:10002906-1841652000-1841654700@hopechurchfamily.org
SUMMARY:Holy Communion
DESCRIPTION:A simple\, said\, Common Worship service of Holy Communion.
URL:https://hopechurchfamily.org/calendars/holy-communion-2/2028-05-11/
LOCATION:Hanley Swan\, St Gabriel’s\, Hanley Swan\, Worcestershire\, wr8 0dy\, United Kingdom
CATEGORIES:AdvertiseCroomes,AdvertiseHanleysWelland,AdvertiseRipple,AdvertiseUpton,Hanley Swan,Service
ATTACH;FMTTYPE=image/jpeg:https://hopechurchfamily.org/wp-content/uploads/2016/09/communion-400_400.jpg
GEO:52.0833913;-2.2766275
END:VEVENT
BEGIN:VEVENT
DTSTART;TZID=Europe/London:20280521T093000
DTEND;TZID=Europe/London:20280521T103000
DTSTAMP:20260423T180401
CREATED:20230920T090206Z
LAST-MODIFIED:20250401T142701Z
UID:10003515-1842514200-1842517800@hopechurchfamily.org
SUMMARY:Holy Communion
DESCRIPTION:Join us for a simple service of Holy Communion.
URL:https://hopechurchfamily.org/calendars/holy-communion/2028-05-21/
LOCATION:Hanley Swan\, St Gabriel’s\, Hanley Swan\, Worcestershire\, wr8 0dy\, United Kingdom
CATEGORIES:AdvertiseHanleysWelland,All,Hanley Swan,Service
ATTACH;FMTTYPE=image/jpeg:https://hopechurchfamily.org/wp-content/uploads/2016/09/communion-400_400.jpg
GEO:52.0833913;-2.2766275
END:VEVENT
BEGIN:VEVENT
DTSTART;TZID=Europe/London:20280528T093000
DTEND;TZID=Europe/London:20280528T103000
DTSTAMP:20260423T180401
CREATED:20211101T134817Z
LAST-MODIFIED:20251014T133622Z
UID:10004378-1843119000-1843122600@hopechurchfamily.org
SUMMARY:Morning Praise
DESCRIPTION:Join us for a simple\, lay-led\, service of morning praise. \nWith hymns\, prayers and a short reflection let by the team from St Gabriel’s Church.
URL:https://hopechurchfamily.org/calendars/morning-praise/2028-05-28/
LOCATION:Hanley Swan\, St Gabriel’s\, Hanley Swan\, Worcestershire\, wr8 0dy\, United Kingdom
CATEGORIES:AdvertiseHanleysWelland,Hanley Castle,Hanley Swan,Service,Welland
ATTACH;FMTTYPE=image/jpeg:https://hopechurchfamily.org/wp-content/uploads/2021/11/morning-praise-400_400.jpg
GEO:52.0833913;-2.2766275
END:VEVENT
BEGIN:VEVENT
DTSTART;TZID=Europe/London:20280601T190000
DTEND;TZID=Europe/London:20280601T200000
DTSTAMP:20260423T180401
CREATED:20250612T212344Z
LAST-MODIFIED:20260401T114529Z
UID:10006347-1843498800-1843502400@hopechurchfamily.org
SUMMARY:Thursday Evening Reflection
DESCRIPTION:On the first Thursday evening of each month\, we meet for a contemplative service of prayer\, Bible readings and beautiful music. It’s a time to find a place of stillness in the middle of our busy lives\, and make space for God. All are welcome.
URL:https://hopechurchfamily.org/calendars/thursday-evening-reflection/2028-06-01/
LOCATION:Hanley Swan\, St Gabriel’s\, Hanley Swan\, Worcestershire\, wr8 0dy\, United Kingdom
CATEGORIES:AdvertiseHanleysWelland,Hanley Swan,Service
ATTACH;FMTTYPE=image/jpeg:https://hopechurchfamily.org/wp-content/uploads/2025/06/thursday-evening-reflection-400_400.jpg
GEO:52.0833913;-2.2766275
END:VEVENT
BEGIN:VEVENT
DTSTART;TZID=Europe/London:20280604T093000
DTEND;TZID=Europe/London:20280604T103000
DTSTAMP:20260423T180401
CREATED:20251229T001712Z
LAST-MODIFIED:20260401T115835Z
UID:10007140-1843723800-1843727400@hopechurchfamily.org
SUMMARY:Holy Communion
DESCRIPTION:Join us for a simple service of Holy Communion.
URL:https://hopechurchfamily.org/calendars/holy-communion-11/2028-06-04/
LOCATION:Hanley Swan\, St Gabriel’s\, Hanley Swan\, Worcestershire\, wr8 0dy\, United Kingdom
CATEGORIES:AdvertiseHanleysWelland,All,Hanley Swan,Service
ATTACH;FMTTYPE=image/jpeg:https://hopechurchfamily.org/wp-content/uploads/2016/09/communion-400_400.jpg
GEO:52.0833913;-2.2766275
END:VEVENT
BEGIN:VEVENT
DTSTART;TZID=Europe/London:20280608T100000
DTEND;TZID=Europe/London:20280608T104500
DTSTAMP:20260423T180401
CREATED:20230614T090617Z
LAST-MODIFIED:20230614T090617Z
UID:10002907-1844071200-1844073900@hopechurchfamily.org
SUMMARY:Holy Communion
DESCRIPTION:A simple\, said\, Common Worship service of Holy Communion.
URL:https://hopechurchfamily.org/calendars/holy-communion-2/2028-06-08/
LOCATION:Hanley Swan\, St Gabriel’s\, Hanley Swan\, Worcestershire\, wr8 0dy\, United Kingdom
CATEGORIES:AdvertiseCroomes,AdvertiseHanleysWelland,AdvertiseRipple,AdvertiseUpton,Hanley Swan,Service
ATTACH;FMTTYPE=image/jpeg:https://hopechurchfamily.org/wp-content/uploads/2016/09/communion-400_400.jpg
GEO:52.0833913;-2.2766275
END:VEVENT
BEGIN:VEVENT
DTSTART;TZID=Europe/London:20280618T093000
DTEND;TZID=Europe/London:20280618T103000
DTSTAMP:20260423T180401
CREATED:20230920T090206Z
LAST-MODIFIED:20250401T142701Z
UID:10003516-1844933400-1844937000@hopechurchfamily.org
SUMMARY:Holy Communion
DESCRIPTION:Join us for a simple service of Holy Communion.
URL:https://hopechurchfamily.org/calendars/holy-communion/2028-06-18/
LOCATION:Hanley Swan\, St Gabriel’s\, Hanley Swan\, Worcestershire\, wr8 0dy\, United Kingdom
CATEGORIES:AdvertiseHanleysWelland,All,Hanley Swan,Service
ATTACH;FMTTYPE=image/jpeg:https://hopechurchfamily.org/wp-content/uploads/2016/09/communion-400_400.jpg
GEO:52.0833913;-2.2766275
END:VEVENT
BEGIN:VEVENT
DTSTART;TZID=Europe/London:20280625T093000
DTEND;TZID=Europe/London:20280625T103000
DTSTAMP:20260423T180401
CREATED:20211101T134817Z
LAST-MODIFIED:20251014T133622Z
UID:10004379-1845538200-1845541800@hopechurchfamily.org
SUMMARY:Morning Praise
DESCRIPTION:Join us for a simple\, lay-led\, service of morning praise. \nWith hymns\, prayers and a short reflection let by the team from St Gabriel’s Church.
URL:https://hopechurchfamily.org/calendars/morning-praise/2028-06-25/
LOCATION:Hanley Swan\, St Gabriel’s\, Hanley Swan\, Worcestershire\, wr8 0dy\, United Kingdom
CATEGORIES:AdvertiseHanleysWelland,Hanley Castle,Hanley Swan,Service,Welland
ATTACH;FMTTYPE=image/jpeg:https://hopechurchfamily.org/wp-content/uploads/2021/11/morning-praise-400_400.jpg
GEO:52.0833913;-2.2766275
END:VEVENT
END:VCALENDAR