BEGIN:VCALENDAR
VERSION:2.0
PRODID:-//The Hope Church Family - ECPv6.15.20//NONSGML v1.0//EN
CALSCALE:GREGORIAN
METHOD:PUBLISH
X-ORIGINAL-URL:https://hopechurchfamily.org
X-WR-CALDESC:Events for The Hope Church Family
REFRESH-INTERVAL;VALUE=DURATION:PT1H
X-Robots-Tag:noindex
X-PUBLISHED-TTL:PT1H
BEGIN:VTIMEZONE
TZID:Europe/London
BEGIN:DAYLIGHT
TZOFFSETFROM:+0000
TZOFFSETTO:+0100
TZNAME:BST
DTSTART:20270328T010000
END:DAYLIGHT
BEGIN:STANDARD
TZOFFSETFROM:+0100
TZOFFSETTO:+0000
TZNAME:GMT
DTSTART:20271031T010000
END:STANDARD
BEGIN:DAYLIGHT
TZOFFSETFROM:+0000
TZOFFSETTO:+0100
TZNAME:BST
DTSTART:20280326T010000
END:DAYLIGHT
BEGIN:STANDARD
TZOFFSETFROM:+0100
TZOFFSETTO:+0000
TZNAME:GMT
DTSTART:20281029T010000
END:STANDARD
BEGIN:DAYLIGHT
TZOFFSETFROM:+0000
TZOFFSETTO:+0100
TZNAME:BST
DTSTART:20290325T010000
END:DAYLIGHT
BEGIN:STANDARD
TZOFFSETFROM:+0100
TZOFFSETTO:+0000
TZNAME:GMT
DTSTART:20291028T010000
END:STANDARD
BEGIN:DAYLIGHT
TZOFFSETFROM:+0000
TZOFFSETTO:+0100
TZNAME:BST
DTSTART:20300331T010000
END:DAYLIGHT
BEGIN:STANDARD
TZOFFSETFROM:+0100
TZOFFSETTO:+0000
TZNAME:GMT
DTSTART:20301027T010000
END:STANDARD
END:VTIMEZONE
BEGIN:VEVENT
DTSTART;TZID=Europe/London:20281128T110000
DTEND;TZID=Europe/London:20281128T140000
DTSTAMP:20260426T023014
CREATED:20230614T084423Z
LAST-MODIFIED:20231130T233608Z
UID:10003725-1859022000-1859032800@hopechurchfamily.org
SUMMARY:Cafe Tuesdays
DESCRIPTION:A friendly drop-in cafe with free soup\, drinks\, wifi. Everyone welcome.
URL:https://hopechurchfamily.org/calendars/cafe-tuesdays/2028-11-28/
LOCATION:Hanley Swan Village Hall\, Welland Road\, Hanley Swan\, Worcestershire\, WR8 0EQ\, United Kingdom
CATEGORIES:AdvertiseHanleysWelland,Hanley Swan,Meal
ATTACH;FMTTYPE=image/jpeg:https://hopechurchfamily.org/wp-content/uploads/2023/06/cafe-tuesday-1.jpg
GEO:52.079635;-2.276444
X-APPLE-STRUCTURED-LOCATION;VALUE=URI;X-ADDRESS=Hanley Swan Village Hall Welland Road Hanley Swan Worcestershire WR8 0EQ United Kingdom;X-APPLE-RADIUS=500;X-TITLE=Welland Road:geo:-2.276444,52.079635
END:VEVENT
BEGIN:VEVENT
DTSTART;TZID=Europe/London:20281205T110000
DTEND;TZID=Europe/London:20281205T140000
DTSTAMP:20260426T023014
CREATED:20230614T084423Z
LAST-MODIFIED:20231130T233608Z
UID:10003873-1859626800-1859637600@hopechurchfamily.org
SUMMARY:Cafe Tuesdays
DESCRIPTION:A friendly drop-in cafe with free soup\, drinks\, wifi. Everyone welcome.
URL:https://hopechurchfamily.org/calendars/cafe-tuesdays/2028-12-05/
LOCATION:Hanley Swan Village Hall\, Welland Road\, Hanley Swan\, Worcestershire\, WR8 0EQ\, United Kingdom
CATEGORIES:AdvertiseHanleysWelland,Hanley Swan,Meal
ATTACH;FMTTYPE=image/jpeg:https://hopechurchfamily.org/wp-content/uploads/2023/06/cafe-tuesday-1.jpg
GEO:52.079635;-2.276444
X-APPLE-STRUCTURED-LOCATION;VALUE=URI;X-ADDRESS=Hanley Swan Village Hall Welland Road Hanley Swan Worcestershire WR8 0EQ United Kingdom;X-APPLE-RADIUS=500;X-TITLE=Welland Road:geo:-2.276444,52.079635
END:VEVENT
BEGIN:VEVENT
DTSTART;TZID=Europe/London:20281212T110000
DTEND;TZID=Europe/London:20281212T140000
DTSTAMP:20260426T023014
CREATED:20230614T084423Z
LAST-MODIFIED:20231130T233608Z
UID:10003876-1860231600-1860242400@hopechurchfamily.org
SUMMARY:Cafe Tuesdays
DESCRIPTION:A friendly drop-in cafe with free soup\, drinks\, wifi. Everyone welcome.
URL:https://hopechurchfamily.org/calendars/cafe-tuesdays/2028-12-12/
LOCATION:Hanley Swan Village Hall\, Welland Road\, Hanley Swan\, Worcestershire\, WR8 0EQ\, United Kingdom
CATEGORIES:AdvertiseHanleysWelland,Hanley Swan,Meal
ATTACH;FMTTYPE=image/jpeg:https://hopechurchfamily.org/wp-content/uploads/2023/06/cafe-tuesday-1.jpg
GEO:52.079635;-2.276444
X-APPLE-STRUCTURED-LOCATION;VALUE=URI;X-ADDRESS=Hanley Swan Village Hall Welland Road Hanley Swan Worcestershire WR8 0EQ United Kingdom;X-APPLE-RADIUS=500;X-TITLE=Welland Road:geo:-2.276444,52.079635
END:VEVENT
BEGIN:VEVENT
DTSTART;TZID=Europe/London:20281219T110000
DTEND;TZID=Europe/London:20281219T140000
DTSTAMP:20260426T023014
CREATED:20230614T084423Z
LAST-MODIFIED:20231130T233608Z
UID:10003902-1860836400-1860847200@hopechurchfamily.org
SUMMARY:Cafe Tuesdays
DESCRIPTION:A friendly drop-in cafe with free soup\, drinks\, wifi. Everyone welcome.
URL:https://hopechurchfamily.org/calendars/cafe-tuesdays/2028-12-19/
LOCATION:Hanley Swan Village Hall\, Welland Road\, Hanley Swan\, Worcestershire\, WR8 0EQ\, United Kingdom
CATEGORIES:AdvertiseHanleysWelland,Hanley Swan,Meal
ATTACH;FMTTYPE=image/jpeg:https://hopechurchfamily.org/wp-content/uploads/2023/06/cafe-tuesday-1.jpg
GEO:52.079635;-2.276444
X-APPLE-STRUCTURED-LOCATION;VALUE=URI;X-ADDRESS=Hanley Swan Village Hall Welland Road Hanley Swan Worcestershire WR8 0EQ United Kingdom;X-APPLE-RADIUS=500;X-TITLE=Welland Road:geo:-2.276444,52.079635
END:VEVENT
BEGIN:VEVENT
DTSTART;TZID=Europe/London:20281226T110000
DTEND;TZID=Europe/London:20281226T140000
DTSTAMP:20260426T023014
CREATED:20230614T084423Z
LAST-MODIFIED:20231130T233608Z
UID:10003903-1861441200-1861452000@hopechurchfamily.org
SUMMARY:Cafe Tuesdays
DESCRIPTION:A friendly drop-in cafe with free soup\, drinks\, wifi. Everyone welcome.
URL:https://hopechurchfamily.org/calendars/cafe-tuesdays/2028-12-26/
LOCATION:Hanley Swan Village Hall\, Welland Road\, Hanley Swan\, Worcestershire\, WR8 0EQ\, United Kingdom
CATEGORIES:AdvertiseHanleysWelland,Hanley Swan,Meal
ATTACH;FMTTYPE=image/jpeg:https://hopechurchfamily.org/wp-content/uploads/2023/06/cafe-tuesday-1.jpg
GEO:52.079635;-2.276444
X-APPLE-STRUCTURED-LOCATION;VALUE=URI;X-ADDRESS=Hanley Swan Village Hall Welland Road Hanley Swan Worcestershire WR8 0EQ United Kingdom;X-APPLE-RADIUS=500;X-TITLE=Welland Road:geo:-2.276444,52.079635
END:VEVENT
BEGIN:VEVENT
DTSTART;TZID=Europe/London:20290102T110000
DTEND;TZID=Europe/London:20290102T140000
DTSTAMP:20260426T023014
CREATED:20230614T084423Z
LAST-MODIFIED:20231130T233608Z
UID:10003904-1862046000-1862056800@hopechurchfamily.org
SUMMARY:Cafe Tuesdays
DESCRIPTION:A friendly drop-in cafe with free soup\, drinks\, wifi. Everyone welcome.
URL:https://hopechurchfamily.org/calendars/cafe-tuesdays/2029-01-02/
LOCATION:Hanley Swan Village Hall\, Welland Road\, Hanley Swan\, Worcestershire\, WR8 0EQ\, United Kingdom
CATEGORIES:AdvertiseHanleysWelland,Hanley Swan,Meal
ATTACH;FMTTYPE=image/jpeg:https://hopechurchfamily.org/wp-content/uploads/2023/06/cafe-tuesday-1.jpg
GEO:52.079635;-2.276444
X-APPLE-STRUCTURED-LOCATION;VALUE=URI;X-ADDRESS=Hanley Swan Village Hall Welland Road Hanley Swan Worcestershire WR8 0EQ United Kingdom;X-APPLE-RADIUS=500;X-TITLE=Welland Road:geo:-2.276444,52.079635
END:VEVENT
BEGIN:VEVENT
DTSTART;TZID=Europe/London:20290109T110000
DTEND;TZID=Europe/London:20290109T140000
DTSTAMP:20260426T023014
CREATED:20230614T084423Z
LAST-MODIFIED:20231130T233608Z
UID:10003905-1862650800-1862661600@hopechurchfamily.org
SUMMARY:Cafe Tuesdays
DESCRIPTION:A friendly drop-in cafe with free soup\, drinks\, wifi. Everyone welcome.
URL:https://hopechurchfamily.org/calendars/cafe-tuesdays/2029-01-09/
LOCATION:Hanley Swan Village Hall\, Welland Road\, Hanley Swan\, Worcestershire\, WR8 0EQ\, United Kingdom
CATEGORIES:AdvertiseHanleysWelland,Hanley Swan,Meal
ATTACH;FMTTYPE=image/jpeg:https://hopechurchfamily.org/wp-content/uploads/2023/06/cafe-tuesday-1.jpg
GEO:52.079635;-2.276444
X-APPLE-STRUCTURED-LOCATION;VALUE=URI;X-ADDRESS=Hanley Swan Village Hall Welland Road Hanley Swan Worcestershire WR8 0EQ United Kingdom;X-APPLE-RADIUS=500;X-TITLE=Welland Road:geo:-2.276444,52.079635
END:VEVENT
BEGIN:VEVENT
DTSTART;TZID=Europe/London:20290116T110000
DTEND;TZID=Europe/London:20290116T140000
DTSTAMP:20260426T023014
CREATED:20230614T084423Z
LAST-MODIFIED:20231130T233608Z
UID:10003906-1863255600-1863266400@hopechurchfamily.org
SUMMARY:Cafe Tuesdays
DESCRIPTION:A friendly drop-in cafe with free soup\, drinks\, wifi. Everyone welcome.
URL:https://hopechurchfamily.org/calendars/cafe-tuesdays/2029-01-16/
LOCATION:Hanley Swan Village Hall\, Welland Road\, Hanley Swan\, Worcestershire\, WR8 0EQ\, United Kingdom
CATEGORIES:AdvertiseHanleysWelland,Hanley Swan,Meal
ATTACH;FMTTYPE=image/jpeg:https://hopechurchfamily.org/wp-content/uploads/2023/06/cafe-tuesday-1.jpg
GEO:52.079635;-2.276444
X-APPLE-STRUCTURED-LOCATION;VALUE=URI;X-ADDRESS=Hanley Swan Village Hall Welland Road Hanley Swan Worcestershire WR8 0EQ United Kingdom;X-APPLE-RADIUS=500;X-TITLE=Welland Road:geo:-2.276444,52.079635
END:VEVENT
BEGIN:VEVENT
DTSTART;TZID=Europe/London:20290123T110000
DTEND;TZID=Europe/London:20290123T140000
DTSTAMP:20260426T023014
CREATED:20230614T084423Z
LAST-MODIFIED:20231130T233608Z
UID:10003907-1863860400-1863871200@hopechurchfamily.org
SUMMARY:Cafe Tuesdays
DESCRIPTION:A friendly drop-in cafe with free soup\, drinks\, wifi. Everyone welcome.
URL:https://hopechurchfamily.org/calendars/cafe-tuesdays/2029-01-23/
LOCATION:Hanley Swan Village Hall\, Welland Road\, Hanley Swan\, Worcestershire\, WR8 0EQ\, United Kingdom
CATEGORIES:AdvertiseHanleysWelland,Hanley Swan,Meal
ATTACH;FMTTYPE=image/jpeg:https://hopechurchfamily.org/wp-content/uploads/2023/06/cafe-tuesday-1.jpg
GEO:52.079635;-2.276444
X-APPLE-STRUCTURED-LOCATION;VALUE=URI;X-ADDRESS=Hanley Swan Village Hall Welland Road Hanley Swan Worcestershire WR8 0EQ United Kingdom;X-APPLE-RADIUS=500;X-TITLE=Welland Road:geo:-2.276444,52.079635
END:VEVENT
BEGIN:VEVENT
DTSTART;TZID=Europe/London:20290130T110000
DTEND;TZID=Europe/London:20290130T140000
DTSTAMP:20260426T023014
CREATED:20230614T084423Z
LAST-MODIFIED:20231130T233608Z
UID:10005170-1864465200-1864476000@hopechurchfamily.org
SUMMARY:Cafe Tuesdays
DESCRIPTION:A friendly drop-in cafe with free soup\, drinks\, wifi. Everyone welcome.
URL:https://hopechurchfamily.org/calendars/cafe-tuesdays/2029-01-30/
LOCATION:Hanley Swan Village Hall\, Welland Road\, Hanley Swan\, Worcestershire\, WR8 0EQ\, United Kingdom
CATEGORIES:AdvertiseHanleysWelland,Hanley Swan,Meal
ATTACH;FMTTYPE=image/jpeg:https://hopechurchfamily.org/wp-content/uploads/2023/06/cafe-tuesday-1.jpg
GEO:52.079635;-2.276444
X-APPLE-STRUCTURED-LOCATION;VALUE=URI;X-ADDRESS=Hanley Swan Village Hall Welland Road Hanley Swan Worcestershire WR8 0EQ United Kingdom;X-APPLE-RADIUS=500;X-TITLE=Welland Road:geo:-2.276444,52.079635
END:VEVENT
BEGIN:VEVENT
DTSTART;TZID=Europe/London:20290206T110000
DTEND;TZID=Europe/London:20290206T140000
DTSTAMP:20260426T023014
CREATED:20230614T084423Z
LAST-MODIFIED:20231130T233608Z
UID:10005177-1865070000-1865080800@hopechurchfamily.org
SUMMARY:Cafe Tuesdays
DESCRIPTION:A friendly drop-in cafe with free soup\, drinks\, wifi. Everyone welcome.
URL:https://hopechurchfamily.org/calendars/cafe-tuesdays/2029-02-06/
LOCATION:Hanley Swan Village Hall\, Welland Road\, Hanley Swan\, Worcestershire\, WR8 0EQ\, United Kingdom
CATEGORIES:AdvertiseHanleysWelland,Hanley Swan,Meal
ATTACH;FMTTYPE=image/jpeg:https://hopechurchfamily.org/wp-content/uploads/2023/06/cafe-tuesday-1.jpg
GEO:52.079635;-2.276444
X-APPLE-STRUCTURED-LOCATION;VALUE=URI;X-ADDRESS=Hanley Swan Village Hall Welland Road Hanley Swan Worcestershire WR8 0EQ United Kingdom;X-APPLE-RADIUS=500;X-TITLE=Welland Road:geo:-2.276444,52.079635
END:VEVENT
BEGIN:VEVENT
DTSTART;TZID=Europe/London:20290213T110000
DTEND;TZID=Europe/London:20290213T140000
DTSTAMP:20260426T023014
CREATED:20230614T084423Z
LAST-MODIFIED:20231130T233608Z
UID:10005185-1865674800-1865685600@hopechurchfamily.org
SUMMARY:Cafe Tuesdays
DESCRIPTION:A friendly drop-in cafe with free soup\, drinks\, wifi. Everyone welcome.
URL:https://hopechurchfamily.org/calendars/cafe-tuesdays/2029-02-13/
LOCATION:Hanley Swan Village Hall\, Welland Road\, Hanley Swan\, Worcestershire\, WR8 0EQ\, United Kingdom
CATEGORIES:AdvertiseHanleysWelland,Hanley Swan,Meal
ATTACH;FMTTYPE=image/jpeg:https://hopechurchfamily.org/wp-content/uploads/2023/06/cafe-tuesday-1.jpg
GEO:52.079635;-2.276444
X-APPLE-STRUCTURED-LOCATION;VALUE=URI;X-ADDRESS=Hanley Swan Village Hall Welland Road Hanley Swan Worcestershire WR8 0EQ United Kingdom;X-APPLE-RADIUS=500;X-TITLE=Welland Road:geo:-2.276444,52.079635
END:VEVENT
BEGIN:VEVENT
DTSTART;TZID=Europe/London:20290220T110000
DTEND;TZID=Europe/London:20290220T140000
DTSTAMP:20260426T023014
CREATED:20230614T084423Z
LAST-MODIFIED:20231130T233608Z
UID:10005192-1866279600-1866290400@hopechurchfamily.org
SUMMARY:Cafe Tuesdays
DESCRIPTION:A friendly drop-in cafe with free soup\, drinks\, wifi. Everyone welcome.
URL:https://hopechurchfamily.org/calendars/cafe-tuesdays/2029-02-20/
LOCATION:Hanley Swan Village Hall\, Welland Road\, Hanley Swan\, Worcestershire\, WR8 0EQ\, United Kingdom
CATEGORIES:AdvertiseHanleysWelland,Hanley Swan,Meal
ATTACH;FMTTYPE=image/jpeg:https://hopechurchfamily.org/wp-content/uploads/2023/06/cafe-tuesday-1.jpg
GEO:52.079635;-2.276444
X-APPLE-STRUCTURED-LOCATION;VALUE=URI;X-ADDRESS=Hanley Swan Village Hall Welland Road Hanley Swan Worcestershire WR8 0EQ United Kingdom;X-APPLE-RADIUS=500;X-TITLE=Welland Road:geo:-2.276444,52.079635
END:VEVENT
BEGIN:VEVENT
DTSTART;TZID=Europe/London:20290227T110000
DTEND;TZID=Europe/London:20290227T140000
DTSTAMP:20260426T023014
CREATED:20230614T084423Z
LAST-MODIFIED:20231130T233608Z
UID:10005200-1866884400-1866895200@hopechurchfamily.org
SUMMARY:Cafe Tuesdays
DESCRIPTION:A friendly drop-in cafe with free soup\, drinks\, wifi. Everyone welcome.
URL:https://hopechurchfamily.org/calendars/cafe-tuesdays/2029-02-27/
LOCATION:Hanley Swan Village Hall\, Welland Road\, Hanley Swan\, Worcestershire\, WR8 0EQ\, United Kingdom
CATEGORIES:AdvertiseHanleysWelland,Hanley Swan,Meal
ATTACH;FMTTYPE=image/jpeg:https://hopechurchfamily.org/wp-content/uploads/2023/06/cafe-tuesday-1.jpg
GEO:52.079635;-2.276444
X-APPLE-STRUCTURED-LOCATION;VALUE=URI;X-ADDRESS=Hanley Swan Village Hall Welland Road Hanley Swan Worcestershire WR8 0EQ United Kingdom;X-APPLE-RADIUS=500;X-TITLE=Welland Road:geo:-2.276444,52.079635
END:VEVENT
BEGIN:VEVENT
DTSTART;TZID=Europe/London:20290306T110000
DTEND;TZID=Europe/London:20290306T140000
DTSTAMP:20260426T023014
CREATED:20230614T084423Z
LAST-MODIFIED:20231130T233608Z
UID:10005337-1867489200-1867500000@hopechurchfamily.org
SUMMARY:Cafe Tuesdays
DESCRIPTION:A friendly drop-in cafe with free soup\, drinks\, wifi. Everyone welcome.
URL:https://hopechurchfamily.org/calendars/cafe-tuesdays/2029-03-06/
LOCATION:Hanley Swan Village Hall\, Welland Road\, Hanley Swan\, Worcestershire\, WR8 0EQ\, United Kingdom
CATEGORIES:AdvertiseHanleysWelland,Hanley Swan,Meal
ATTACH;FMTTYPE=image/jpeg:https://hopechurchfamily.org/wp-content/uploads/2023/06/cafe-tuesday-1.jpg
GEO:52.079635;-2.276444
X-APPLE-STRUCTURED-LOCATION;VALUE=URI;X-ADDRESS=Hanley Swan Village Hall Welland Road Hanley Swan Worcestershire WR8 0EQ United Kingdom;X-APPLE-RADIUS=500;X-TITLE=Welland Road:geo:-2.276444,52.079635
END:VEVENT
BEGIN:VEVENT
DTSTART;TZID=Europe/London:20290313T110000
DTEND;TZID=Europe/London:20290313T140000
DTSTAMP:20260426T023014
CREATED:20230614T084423Z
LAST-MODIFIED:20231130T233608Z
UID:10005349-1868094000-1868104800@hopechurchfamily.org
SUMMARY:Cafe Tuesdays
DESCRIPTION:A friendly drop-in cafe with free soup\, drinks\, wifi. Everyone welcome.
URL:https://hopechurchfamily.org/calendars/cafe-tuesdays/2029-03-13/
LOCATION:Hanley Swan Village Hall\, Welland Road\, Hanley Swan\, Worcestershire\, WR8 0EQ\, United Kingdom
CATEGORIES:AdvertiseHanleysWelland,Hanley Swan,Meal
ATTACH;FMTTYPE=image/jpeg:https://hopechurchfamily.org/wp-content/uploads/2023/06/cafe-tuesday-1.jpg
GEO:52.079635;-2.276444
X-APPLE-STRUCTURED-LOCATION;VALUE=URI;X-ADDRESS=Hanley Swan Village Hall Welland Road Hanley Swan Worcestershire WR8 0EQ United Kingdom;X-APPLE-RADIUS=500;X-TITLE=Welland Road:geo:-2.276444,52.079635
END:VEVENT
BEGIN:VEVENT
DTSTART;TZID=Europe/London:20290320T110000
DTEND;TZID=Europe/London:20290320T140000
DTSTAMP:20260426T023014
CREATED:20230614T084423Z
LAST-MODIFIED:20231130T233608Z
UID:10005357-1868698800-1868709600@hopechurchfamily.org
SUMMARY:Cafe Tuesdays
DESCRIPTION:A friendly drop-in cafe with free soup\, drinks\, wifi. Everyone welcome.
URL:https://hopechurchfamily.org/calendars/cafe-tuesdays/2029-03-20/
LOCATION:Hanley Swan Village Hall\, Welland Road\, Hanley Swan\, Worcestershire\, WR8 0EQ\, United Kingdom
CATEGORIES:AdvertiseHanleysWelland,Hanley Swan,Meal
ATTACH;FMTTYPE=image/jpeg:https://hopechurchfamily.org/wp-content/uploads/2023/06/cafe-tuesday-1.jpg
GEO:52.079635;-2.276444
X-APPLE-STRUCTURED-LOCATION;VALUE=URI;X-ADDRESS=Hanley Swan Village Hall Welland Road Hanley Swan Worcestershire WR8 0EQ United Kingdom;X-APPLE-RADIUS=500;X-TITLE=Welland Road:geo:-2.276444,52.079635
END:VEVENT
BEGIN:VEVENT
DTSTART;TZID=Europe/London:20290327T110000
DTEND;TZID=Europe/London:20290327T140000
DTSTAMP:20260426T023014
CREATED:20230614T084423Z
LAST-MODIFIED:20231130T233608Z
UID:10005370-1869303600-1869314400@hopechurchfamily.org
SUMMARY:Cafe Tuesdays
DESCRIPTION:A friendly drop-in cafe with free soup\, drinks\, wifi. Everyone welcome.
URL:https://hopechurchfamily.org/calendars/cafe-tuesdays/2029-03-27/
LOCATION:Hanley Swan Village Hall\, Welland Road\, Hanley Swan\, Worcestershire\, WR8 0EQ\, United Kingdom
CATEGORIES:AdvertiseHanleysWelland,Hanley Swan,Meal
ATTACH;FMTTYPE=image/jpeg:https://hopechurchfamily.org/wp-content/uploads/2023/06/cafe-tuesday-1.jpg
GEO:52.079635;-2.276444
X-APPLE-STRUCTURED-LOCATION;VALUE=URI;X-ADDRESS=Hanley Swan Village Hall Welland Road Hanley Swan Worcestershire WR8 0EQ United Kingdom;X-APPLE-RADIUS=500;X-TITLE=Welland Road:geo:-2.276444,52.079635
END:VEVENT
BEGIN:VEVENT
DTSTART;TZID=Europe/London:20290403T110000
DTEND;TZID=Europe/London:20290403T140000
DTSTAMP:20260426T023014
CREATED:20230614T084423Z
LAST-MODIFIED:20231130T233608Z
UID:10005371-1869908400-1869919200@hopechurchfamily.org
SUMMARY:Cafe Tuesdays
DESCRIPTION:A friendly drop-in cafe with free soup\, drinks\, wifi. Everyone welcome.
URL:https://hopechurchfamily.org/calendars/cafe-tuesdays/2029-04-03/
LOCATION:Hanley Swan Village Hall\, Welland Road\, Hanley Swan\, Worcestershire\, WR8 0EQ\, United Kingdom
CATEGORIES:AdvertiseHanleysWelland,Hanley Swan,Meal
ATTACH;FMTTYPE=image/jpeg:https://hopechurchfamily.org/wp-content/uploads/2023/06/cafe-tuesday-1.jpg
GEO:52.079635;-2.276444
X-APPLE-STRUCTURED-LOCATION;VALUE=URI;X-ADDRESS=Hanley Swan Village Hall Welland Road Hanley Swan Worcestershire WR8 0EQ United Kingdom;X-APPLE-RADIUS=500;X-TITLE=Welland Road:geo:-2.276444,52.079635
END:VEVENT
BEGIN:VEVENT
DTSTART;TZID=Europe/London:20290410T110000
DTEND;TZID=Europe/London:20290410T140000
DTSTAMP:20260426T023014
CREATED:20230614T084423Z
LAST-MODIFIED:20231130T233608Z
UID:10005377-1870513200-1870524000@hopechurchfamily.org
SUMMARY:Cafe Tuesdays
DESCRIPTION:A friendly drop-in cafe with free soup\, drinks\, wifi. Everyone welcome.
URL:https://hopechurchfamily.org/calendars/cafe-tuesdays/2029-04-10/
LOCATION:Hanley Swan Village Hall\, Welland Road\, Hanley Swan\, Worcestershire\, WR8 0EQ\, United Kingdom
CATEGORIES:AdvertiseHanleysWelland,Hanley Swan,Meal
ATTACH;FMTTYPE=image/jpeg:https://hopechurchfamily.org/wp-content/uploads/2023/06/cafe-tuesday-1.jpg
GEO:52.079635;-2.276444
X-APPLE-STRUCTURED-LOCATION;VALUE=URI;X-ADDRESS=Hanley Swan Village Hall Welland Road Hanley Swan Worcestershire WR8 0EQ United Kingdom;X-APPLE-RADIUS=500;X-TITLE=Welland Road:geo:-2.276444,52.079635
END:VEVENT
BEGIN:VEVENT
DTSTART;TZID=Europe/London:20290417T110000
DTEND;TZID=Europe/London:20290417T140000
DTSTAMP:20260426T023014
CREATED:20230614T084423Z
LAST-MODIFIED:20231130T233608Z
UID:10005389-1871118000-1871128800@hopechurchfamily.org
SUMMARY:Cafe Tuesdays
DESCRIPTION:A friendly drop-in cafe with free soup\, drinks\, wifi. Everyone welcome.
URL:https://hopechurchfamily.org/calendars/cafe-tuesdays/2029-04-17/
LOCATION:Hanley Swan Village Hall\, Welland Road\, Hanley Swan\, Worcestershire\, WR8 0EQ\, United Kingdom
CATEGORIES:AdvertiseHanleysWelland,Hanley Swan,Meal
ATTACH;FMTTYPE=image/jpeg:https://hopechurchfamily.org/wp-content/uploads/2023/06/cafe-tuesday-1.jpg
GEO:52.079635;-2.276444
X-APPLE-STRUCTURED-LOCATION;VALUE=URI;X-ADDRESS=Hanley Swan Village Hall Welland Road Hanley Swan Worcestershire WR8 0EQ United Kingdom;X-APPLE-RADIUS=500;X-TITLE=Welland Road:geo:-2.276444,52.079635
END:VEVENT
BEGIN:VEVENT
DTSTART;TZID=Europe/London:20290424T110000
DTEND;TZID=Europe/London:20290424T140000
DTSTAMP:20260426T023014
CREATED:20230614T084423Z
LAST-MODIFIED:20231130T233608Z
UID:10005402-1871722800-1871733600@hopechurchfamily.org
SUMMARY:Cafe Tuesdays
DESCRIPTION:A friendly drop-in cafe with free soup\, drinks\, wifi. Everyone welcome.
URL:https://hopechurchfamily.org/calendars/cafe-tuesdays/2029-04-24/
LOCATION:Hanley Swan Village Hall\, Welland Road\, Hanley Swan\, Worcestershire\, WR8 0EQ\, United Kingdom
CATEGORIES:AdvertiseHanleysWelland,Hanley Swan,Meal
ATTACH;FMTTYPE=image/jpeg:https://hopechurchfamily.org/wp-content/uploads/2023/06/cafe-tuesday-1.jpg
GEO:52.079635;-2.276444
X-APPLE-STRUCTURED-LOCATION;VALUE=URI;X-ADDRESS=Hanley Swan Village Hall Welland Road Hanley Swan Worcestershire WR8 0EQ United Kingdom;X-APPLE-RADIUS=500;X-TITLE=Welland Road:geo:-2.276444,52.079635
END:VEVENT
BEGIN:VEVENT
DTSTART;TZID=Europe/London:20290501T110000
DTEND;TZID=Europe/London:20290501T140000
DTSTAMP:20260426T023014
CREATED:20230614T084423Z
LAST-MODIFIED:20231130T233608Z
UID:10005414-1872327600-1872338400@hopechurchfamily.org
SUMMARY:Cafe Tuesdays
DESCRIPTION:A friendly drop-in cafe with free soup\, drinks\, wifi. Everyone welcome.
URL:https://hopechurchfamily.org/calendars/cafe-tuesdays/2029-05-01/
LOCATION:Hanley Swan Village Hall\, Welland Road\, Hanley Swan\, Worcestershire\, WR8 0EQ\, United Kingdom
CATEGORIES:AdvertiseHanleysWelland,Hanley Swan,Meal
ATTACH;FMTTYPE=image/jpeg:https://hopechurchfamily.org/wp-content/uploads/2023/06/cafe-tuesday-1.jpg
GEO:52.079635;-2.276444
X-APPLE-STRUCTURED-LOCATION;VALUE=URI;X-ADDRESS=Hanley Swan Village Hall Welland Road Hanley Swan Worcestershire WR8 0EQ United Kingdom;X-APPLE-RADIUS=500;X-TITLE=Welland Road:geo:-2.276444,52.079635
END:VEVENT
BEGIN:VEVENT
DTSTART;TZID=Europe/London:20290508T110000
DTEND;TZID=Europe/London:20290508T140000
DTSTAMP:20260426T023014
CREATED:20230614T084423Z
LAST-MODIFIED:20231130T233608Z
UID:10005430-1872932400-1872943200@hopechurchfamily.org
SUMMARY:Cafe Tuesdays
DESCRIPTION:A friendly drop-in cafe with free soup\, drinks\, wifi. Everyone welcome.
URL:https://hopechurchfamily.org/calendars/cafe-tuesdays/2029-05-08/
LOCATION:Hanley Swan Village Hall\, Welland Road\, Hanley Swan\, Worcestershire\, WR8 0EQ\, United Kingdom
CATEGORIES:AdvertiseHanleysWelland,Hanley Swan,Meal
ATTACH;FMTTYPE=image/jpeg:https://hopechurchfamily.org/wp-content/uploads/2023/06/cafe-tuesday-1.jpg
GEO:52.079635;-2.276444
X-APPLE-STRUCTURED-LOCATION;VALUE=URI;X-ADDRESS=Hanley Swan Village Hall Welland Road Hanley Swan Worcestershire WR8 0EQ United Kingdom;X-APPLE-RADIUS=500;X-TITLE=Welland Road:geo:-2.276444,52.079635
END:VEVENT
BEGIN:VEVENT
DTSTART;TZID=Europe/London:20290515T110000
DTEND;TZID=Europe/London:20290515T140000
DTSTAMP:20260426T023014
CREATED:20230614T084423Z
LAST-MODIFIED:20231130T233608Z
UID:10005433-1873537200-1873548000@hopechurchfamily.org
SUMMARY:Cafe Tuesdays
DESCRIPTION:A friendly drop-in cafe with free soup\, drinks\, wifi. Everyone welcome.
URL:https://hopechurchfamily.org/calendars/cafe-tuesdays/2029-05-15/
LOCATION:Hanley Swan Village Hall\, Welland Road\, Hanley Swan\, Worcestershire\, WR8 0EQ\, United Kingdom
CATEGORIES:AdvertiseHanleysWelland,Hanley Swan,Meal
ATTACH;FMTTYPE=image/jpeg:https://hopechurchfamily.org/wp-content/uploads/2023/06/cafe-tuesday-1.jpg
GEO:52.079635;-2.276444
X-APPLE-STRUCTURED-LOCATION;VALUE=URI;X-ADDRESS=Hanley Swan Village Hall Welland Road Hanley Swan Worcestershire WR8 0EQ United Kingdom;X-APPLE-RADIUS=500;X-TITLE=Welland Road:geo:-2.276444,52.079635
END:VEVENT
BEGIN:VEVENT
DTSTART;TZID=Europe/London:20290522T110000
DTEND;TZID=Europe/London:20290522T140000
DTSTAMP:20260426T023014
CREATED:20230614T084423Z
LAST-MODIFIED:20231130T233608Z
UID:10005437-1874142000-1874152800@hopechurchfamily.org
SUMMARY:Cafe Tuesdays
DESCRIPTION:A friendly drop-in cafe with free soup\, drinks\, wifi. Everyone welcome.
URL:https://hopechurchfamily.org/calendars/cafe-tuesdays/2029-05-22/
LOCATION:Hanley Swan Village Hall\, Welland Road\, Hanley Swan\, Worcestershire\, WR8 0EQ\, United Kingdom
CATEGORIES:AdvertiseHanleysWelland,Hanley Swan,Meal
ATTACH;FMTTYPE=image/jpeg:https://hopechurchfamily.org/wp-content/uploads/2023/06/cafe-tuesday-1.jpg
GEO:52.079635;-2.276444
X-APPLE-STRUCTURED-LOCATION;VALUE=URI;X-ADDRESS=Hanley Swan Village Hall Welland Road Hanley Swan Worcestershire WR8 0EQ United Kingdom;X-APPLE-RADIUS=500;X-TITLE=Welland Road:geo:-2.276444,52.079635
END:VEVENT
BEGIN:VEVENT
DTSTART;TZID=Europe/London:20290529T110000
DTEND;TZID=Europe/London:20290529T140000
DTSTAMP:20260426T023014
CREATED:20230614T084423Z
LAST-MODIFIED:20231130T233608Z
UID:10005449-1874746800-1874757600@hopechurchfamily.org
SUMMARY:Cafe Tuesdays
DESCRIPTION:A friendly drop-in cafe with free soup\, drinks\, wifi. Everyone welcome.
URL:https://hopechurchfamily.org/calendars/cafe-tuesdays/2029-05-29/
LOCATION:Hanley Swan Village Hall\, Welland Road\, Hanley Swan\, Worcestershire\, WR8 0EQ\, United Kingdom
CATEGORIES:AdvertiseHanleysWelland,Hanley Swan,Meal
ATTACH;FMTTYPE=image/jpeg:https://hopechurchfamily.org/wp-content/uploads/2023/06/cafe-tuesday-1.jpg
GEO:52.079635;-2.276444
X-APPLE-STRUCTURED-LOCATION;VALUE=URI;X-ADDRESS=Hanley Swan Village Hall Welland Road Hanley Swan Worcestershire WR8 0EQ United Kingdom;X-APPLE-RADIUS=500;X-TITLE=Welland Road:geo:-2.276444,52.079635
END:VEVENT
BEGIN:VEVENT
DTSTART;TZID=Europe/London:20290605T110000
DTEND;TZID=Europe/London:20290605T140000
DTSTAMP:20260426T023014
CREATED:20230614T084423Z
LAST-MODIFIED:20231130T233608Z
UID:10005450-1875351600-1875362400@hopechurchfamily.org
SUMMARY:Cafe Tuesdays
DESCRIPTION:A friendly drop-in cafe with free soup\, drinks\, wifi. Everyone welcome.
URL:https://hopechurchfamily.org/calendars/cafe-tuesdays/2029-06-05/
LOCATION:Hanley Swan Village Hall\, Welland Road\, Hanley Swan\, Worcestershire\, WR8 0EQ\, United Kingdom
CATEGORIES:AdvertiseHanleysWelland,Hanley Swan,Meal
ATTACH;FMTTYPE=image/jpeg:https://hopechurchfamily.org/wp-content/uploads/2023/06/cafe-tuesday-1.jpg
GEO:52.079635;-2.276444
X-APPLE-STRUCTURED-LOCATION;VALUE=URI;X-ADDRESS=Hanley Swan Village Hall Welland Road Hanley Swan Worcestershire WR8 0EQ United Kingdom;X-APPLE-RADIUS=500;X-TITLE=Welland Road:geo:-2.276444,52.079635
END:VEVENT
BEGIN:VEVENT
DTSTART;TZID=Europe/London:20290612T110000
DTEND;TZID=Europe/London:20290612T140000
DTSTAMP:20260426T023014
CREATED:20230614T084423Z
LAST-MODIFIED:20231130T233608Z
UID:10005462-1875956400-1875967200@hopechurchfamily.org
SUMMARY:Cafe Tuesdays
DESCRIPTION:A friendly drop-in cafe with free soup\, drinks\, wifi. Everyone welcome.
URL:https://hopechurchfamily.org/calendars/cafe-tuesdays/2029-06-12/
LOCATION:Hanley Swan Village Hall\, Welland Road\, Hanley Swan\, Worcestershire\, WR8 0EQ\, United Kingdom
CATEGORIES:AdvertiseHanleysWelland,Hanley Swan,Meal
ATTACH;FMTTYPE=image/jpeg:https://hopechurchfamily.org/wp-content/uploads/2023/06/cafe-tuesday-1.jpg
GEO:52.079635;-2.276444
X-APPLE-STRUCTURED-LOCATION;VALUE=URI;X-ADDRESS=Hanley Swan Village Hall Welland Road Hanley Swan Worcestershire WR8 0EQ United Kingdom;X-APPLE-RADIUS=500;X-TITLE=Welland Road:geo:-2.276444,52.079635
END:VEVENT
BEGIN:VEVENT
DTSTART;TZID=Europe/London:20290619T110000
DTEND;TZID=Europe/London:20290619T140000
DTSTAMP:20260426T023014
CREATED:20230614T084423Z
LAST-MODIFIED:20231130T233608Z
UID:10005479-1876561200-1876572000@hopechurchfamily.org
SUMMARY:Cafe Tuesdays
DESCRIPTION:A friendly drop-in cafe with free soup\, drinks\, wifi. Everyone welcome.
URL:https://hopechurchfamily.org/calendars/cafe-tuesdays/2029-06-19/
LOCATION:Hanley Swan Village Hall\, Welland Road\, Hanley Swan\, Worcestershire\, WR8 0EQ\, United Kingdom
CATEGORIES:AdvertiseHanleysWelland,Hanley Swan,Meal
ATTACH;FMTTYPE=image/jpeg:https://hopechurchfamily.org/wp-content/uploads/2023/06/cafe-tuesday-1.jpg
GEO:52.079635;-2.276444
X-APPLE-STRUCTURED-LOCATION;VALUE=URI;X-ADDRESS=Hanley Swan Village Hall Welland Road Hanley Swan Worcestershire WR8 0EQ United Kingdom;X-APPLE-RADIUS=500;X-TITLE=Welland Road:geo:-2.276444,52.079635
END:VEVENT
END:VCALENDAR