BEGIN:VCALENDAR
VERSION:2.0
PRODID:-//The Hope Church Family - ECPv6.15.20//NONSGML v1.0//EN
CALSCALE:GREGORIAN
METHOD:PUBLISH
X-ORIGINAL-URL:https://hopechurchfamily.org
X-WR-CALDESC:Events for The Hope Church Family
REFRESH-INTERVAL;VALUE=DURATION:PT1H
X-Robots-Tag:noindex
X-PUBLISHED-TTL:PT1H
BEGIN:VTIMEZONE
TZID:Europe/London
BEGIN:DAYLIGHT
TZOFFSETFROM:+0000
TZOFFSETTO:+0100
TZNAME:BST
DTSTART:20250330T010000
END:DAYLIGHT
BEGIN:STANDARD
TZOFFSETFROM:+0100
TZOFFSETTO:+0000
TZNAME:GMT
DTSTART:20251026T010000
END:STANDARD
BEGIN:DAYLIGHT
TZOFFSETFROM:+0000
TZOFFSETTO:+0100
TZNAME:BST
DTSTART:20260329T010000
END:DAYLIGHT
BEGIN:STANDARD
TZOFFSETFROM:+0100
TZOFFSETTO:+0000
TZNAME:GMT
DTSTART:20261025T010000
END:STANDARD
BEGIN:DAYLIGHT
TZOFFSETFROM:+0000
TZOFFSETTO:+0100
TZNAME:BST
DTSTART:20270328T010000
END:DAYLIGHT
BEGIN:STANDARD
TZOFFSETFROM:+0100
TZOFFSETTO:+0000
TZNAME:GMT
DTSTART:20271031T010000
END:STANDARD
BEGIN:DAYLIGHT
TZOFFSETFROM:+0000
TZOFFSETTO:+0100
TZNAME:BST
DTSTART:20280326T010000
END:DAYLIGHT
BEGIN:STANDARD
TZOFFSETFROM:+0100
TZOFFSETTO:+0000
TZNAME:GMT
DTSTART:20281029T010000
END:STANDARD
END:VTIMEZONE
BEGIN:VEVENT
DTSTART;TZID=Europe/London:20260804T110000
DTEND;TZID=Europe/London:20260804T140000
DTSTAMP:20260421T010037
CREATED:20230614T084423Z
LAST-MODIFIED:20231130T233608Z
UID:10002489-1785841200-1785852000@hopechurchfamily.org
SUMMARY:Cafe Tuesdays
DESCRIPTION:A friendly drop-in cafe with free soup\, drinks\, wifi. Everyone welcome.
URL:https://hopechurchfamily.org/calendars/cafe-tuesdays/2026-08-04/
LOCATION:Hanley Swan Village Hall\, Welland Road\, Hanley Swan\, Worcestershire\, WR8 0EQ\, United Kingdom
CATEGORIES:AdvertiseHanleysWelland,Hanley Swan,Meal
ATTACH;FMTTYPE=image/jpeg:https://hopechurchfamily.org/wp-content/uploads/2023/06/cafe-tuesday-1.jpg
GEO:52.079635;-2.276444
X-APPLE-STRUCTURED-LOCATION;VALUE=URI;X-ADDRESS=Hanley Swan Village Hall Welland Road Hanley Swan Worcestershire WR8 0EQ United Kingdom;X-APPLE-RADIUS=500;X-TITLE=Welland Road:geo:-2.276444,52.079635
END:VEVENT
BEGIN:VEVENT
DTSTART;TZID=Europe/London:20260811T110000
DTEND;TZID=Europe/London:20260811T140000
DTSTAMP:20260421T010037
CREATED:20230614T084423Z
LAST-MODIFIED:20231130T233608Z
UID:10002490-1786446000-1786456800@hopechurchfamily.org
SUMMARY:Cafe Tuesdays
DESCRIPTION:A friendly drop-in cafe with free soup\, drinks\, wifi. Everyone welcome.
URL:https://hopechurchfamily.org/calendars/cafe-tuesdays/2026-08-11/
LOCATION:Hanley Swan Village Hall\, Welland Road\, Hanley Swan\, Worcestershire\, WR8 0EQ\, United Kingdom
CATEGORIES:AdvertiseHanleysWelland,Hanley Swan,Meal
ATTACH;FMTTYPE=image/jpeg:https://hopechurchfamily.org/wp-content/uploads/2023/06/cafe-tuesday-1.jpg
GEO:52.079635;-2.276444
X-APPLE-STRUCTURED-LOCATION;VALUE=URI;X-ADDRESS=Hanley Swan Village Hall Welland Road Hanley Swan Worcestershire WR8 0EQ United Kingdom;X-APPLE-RADIUS=500;X-TITLE=Welland Road:geo:-2.276444,52.079635
END:VEVENT
BEGIN:VEVENT
DTSTART;TZID=Europe/London:20260818T110000
DTEND;TZID=Europe/London:20260818T140000
DTSTAMP:20260421T010037
CREATED:20230614T084423Z
LAST-MODIFIED:20231130T233608Z
UID:10002491-1787050800-1787061600@hopechurchfamily.org
SUMMARY:Cafe Tuesdays
DESCRIPTION:A friendly drop-in cafe with free soup\, drinks\, wifi. Everyone welcome.
URL:https://hopechurchfamily.org/calendars/cafe-tuesdays/2026-08-18/
LOCATION:Hanley Swan Village Hall\, Welland Road\, Hanley Swan\, Worcestershire\, WR8 0EQ\, United Kingdom
CATEGORIES:AdvertiseHanleysWelland,Hanley Swan,Meal
ATTACH;FMTTYPE=image/jpeg:https://hopechurchfamily.org/wp-content/uploads/2023/06/cafe-tuesday-1.jpg
GEO:52.079635;-2.276444
X-APPLE-STRUCTURED-LOCATION;VALUE=URI;X-ADDRESS=Hanley Swan Village Hall Welland Road Hanley Swan Worcestershire WR8 0EQ United Kingdom;X-APPLE-RADIUS=500;X-TITLE=Welland Road:geo:-2.276444,52.079635
END:VEVENT
BEGIN:VEVENT
DTSTART;TZID=Europe/London:20260825T110000
DTEND;TZID=Europe/London:20260825T140000
DTSTAMP:20260421T010037
CREATED:20230614T084423Z
LAST-MODIFIED:20231130T233608Z
UID:10002492-1787655600-1787666400@hopechurchfamily.org
SUMMARY:Cafe Tuesdays
DESCRIPTION:A friendly drop-in cafe with free soup\, drinks\, wifi. Everyone welcome.
URL:https://hopechurchfamily.org/calendars/cafe-tuesdays/2026-08-25/
LOCATION:Hanley Swan Village Hall\, Welland Road\, Hanley Swan\, Worcestershire\, WR8 0EQ\, United Kingdom
CATEGORIES:AdvertiseHanleysWelland,Hanley Swan,Meal
ATTACH;FMTTYPE=image/jpeg:https://hopechurchfamily.org/wp-content/uploads/2023/06/cafe-tuesday-1.jpg
GEO:52.079635;-2.276444
X-APPLE-STRUCTURED-LOCATION;VALUE=URI;X-ADDRESS=Hanley Swan Village Hall Welland Road Hanley Swan Worcestershire WR8 0EQ United Kingdom;X-APPLE-RADIUS=500;X-TITLE=Welland Road:geo:-2.276444,52.079635
END:VEVENT
BEGIN:VEVENT
DTSTART;TZID=Europe/London:20260901T110000
DTEND;TZID=Europe/London:20260901T140000
DTSTAMP:20260421T010037
CREATED:20230614T084423Z
LAST-MODIFIED:20231130T233608Z
UID:10002493-1788260400-1788271200@hopechurchfamily.org
SUMMARY:Cafe Tuesdays
DESCRIPTION:A friendly drop-in cafe with free soup\, drinks\, wifi. Everyone welcome.
URL:https://hopechurchfamily.org/calendars/cafe-tuesdays/2026-09-01/
LOCATION:Hanley Swan Village Hall\, Welland Road\, Hanley Swan\, Worcestershire\, WR8 0EQ\, United Kingdom
CATEGORIES:AdvertiseHanleysWelland,Hanley Swan,Meal
ATTACH;FMTTYPE=image/jpeg:https://hopechurchfamily.org/wp-content/uploads/2023/06/cafe-tuesday-1.jpg
GEO:52.079635;-2.276444
X-APPLE-STRUCTURED-LOCATION;VALUE=URI;X-ADDRESS=Hanley Swan Village Hall Welland Road Hanley Swan Worcestershire WR8 0EQ United Kingdom;X-APPLE-RADIUS=500;X-TITLE=Welland Road:geo:-2.276444,52.079635
END:VEVENT
BEGIN:VEVENT
DTSTART;TZID=Europe/London:20260908T110000
DTEND;TZID=Europe/London:20260908T140000
DTSTAMP:20260421T010037
CREATED:20230614T084423Z
LAST-MODIFIED:20231130T233608Z
UID:10002494-1788865200-1788876000@hopechurchfamily.org
SUMMARY:Cafe Tuesdays
DESCRIPTION:A friendly drop-in cafe with free soup\, drinks\, wifi. Everyone welcome.
URL:https://hopechurchfamily.org/calendars/cafe-tuesdays/2026-09-08/
LOCATION:Hanley Swan Village Hall\, Welland Road\, Hanley Swan\, Worcestershire\, WR8 0EQ\, United Kingdom
CATEGORIES:AdvertiseHanleysWelland,Hanley Swan,Meal
ATTACH;FMTTYPE=image/jpeg:https://hopechurchfamily.org/wp-content/uploads/2023/06/cafe-tuesday-1.jpg
GEO:52.079635;-2.276444
X-APPLE-STRUCTURED-LOCATION;VALUE=URI;X-ADDRESS=Hanley Swan Village Hall Welland Road Hanley Swan Worcestershire WR8 0EQ United Kingdom;X-APPLE-RADIUS=500;X-TITLE=Welland Road:geo:-2.276444,52.079635
END:VEVENT
BEGIN:VEVENT
DTSTART;TZID=Europe/London:20260915T110000
DTEND;TZID=Europe/London:20260915T140000
DTSTAMP:20260421T010037
CREATED:20230614T084423Z
LAST-MODIFIED:20231130T233608Z
UID:10002495-1789470000-1789480800@hopechurchfamily.org
SUMMARY:Cafe Tuesdays
DESCRIPTION:A friendly drop-in cafe with free soup\, drinks\, wifi. Everyone welcome.
URL:https://hopechurchfamily.org/calendars/cafe-tuesdays/2026-09-15/
LOCATION:Hanley Swan Village Hall\, Welland Road\, Hanley Swan\, Worcestershire\, WR8 0EQ\, United Kingdom
CATEGORIES:AdvertiseHanleysWelland,Hanley Swan,Meal
ATTACH;FMTTYPE=image/jpeg:https://hopechurchfamily.org/wp-content/uploads/2023/06/cafe-tuesday-1.jpg
GEO:52.079635;-2.276444
X-APPLE-STRUCTURED-LOCATION;VALUE=URI;X-ADDRESS=Hanley Swan Village Hall Welland Road Hanley Swan Worcestershire WR8 0EQ United Kingdom;X-APPLE-RADIUS=500;X-TITLE=Welland Road:geo:-2.276444,52.079635
END:VEVENT
BEGIN:VEVENT
DTSTART;TZID=Europe/London:20260922T110000
DTEND;TZID=Europe/London:20260922T140000
DTSTAMP:20260421T010037
CREATED:20230614T084423Z
LAST-MODIFIED:20231130T233608Z
UID:10002496-1790074800-1790085600@hopechurchfamily.org
SUMMARY:Cafe Tuesdays
DESCRIPTION:A friendly drop-in cafe with free soup\, drinks\, wifi. Everyone welcome.
URL:https://hopechurchfamily.org/calendars/cafe-tuesdays/2026-09-22/
LOCATION:Hanley Swan Village Hall\, Welland Road\, Hanley Swan\, Worcestershire\, WR8 0EQ\, United Kingdom
CATEGORIES:AdvertiseHanleysWelland,Hanley Swan,Meal
ATTACH;FMTTYPE=image/jpeg:https://hopechurchfamily.org/wp-content/uploads/2023/06/cafe-tuesday-1.jpg
GEO:52.079635;-2.276444
X-APPLE-STRUCTURED-LOCATION;VALUE=URI;X-ADDRESS=Hanley Swan Village Hall Welland Road Hanley Swan Worcestershire WR8 0EQ United Kingdom;X-APPLE-RADIUS=500;X-TITLE=Welland Road:geo:-2.276444,52.079635
END:VEVENT
BEGIN:VEVENT
DTSTART;TZID=Europe/London:20260929T110000
DTEND;TZID=Europe/London:20260929T140000
DTSTAMP:20260421T010037
CREATED:20230614T084423Z
LAST-MODIFIED:20231130T233608Z
UID:10002497-1790679600-1790690400@hopechurchfamily.org
SUMMARY:Cafe Tuesdays
DESCRIPTION:A friendly drop-in cafe with free soup\, drinks\, wifi. Everyone welcome.
URL:https://hopechurchfamily.org/calendars/cafe-tuesdays/2026-09-29/
LOCATION:Hanley Swan Village Hall\, Welland Road\, Hanley Swan\, Worcestershire\, WR8 0EQ\, United Kingdom
CATEGORIES:AdvertiseHanleysWelland,Hanley Swan,Meal
ATTACH;FMTTYPE=image/jpeg:https://hopechurchfamily.org/wp-content/uploads/2023/06/cafe-tuesday-1.jpg
GEO:52.079635;-2.276444
X-APPLE-STRUCTURED-LOCATION;VALUE=URI;X-ADDRESS=Hanley Swan Village Hall Welland Road Hanley Swan Worcestershire WR8 0EQ United Kingdom;X-APPLE-RADIUS=500;X-TITLE=Welland Road:geo:-2.276444,52.079635
END:VEVENT
BEGIN:VEVENT
DTSTART;TZID=Europe/London:20261006T110000
DTEND;TZID=Europe/London:20261006T140000
DTSTAMP:20260421T010037
CREATED:20230614T084423Z
LAST-MODIFIED:20231130T233608Z
UID:10002498-1791284400-1791295200@hopechurchfamily.org
SUMMARY:Cafe Tuesdays
DESCRIPTION:A friendly drop-in cafe with free soup\, drinks\, wifi. Everyone welcome.
URL:https://hopechurchfamily.org/calendars/cafe-tuesdays/2026-10-06/
LOCATION:Hanley Swan Village Hall\, Welland Road\, Hanley Swan\, Worcestershire\, WR8 0EQ\, United Kingdom
CATEGORIES:AdvertiseHanleysWelland,Hanley Swan,Meal
ATTACH;FMTTYPE=image/jpeg:https://hopechurchfamily.org/wp-content/uploads/2023/06/cafe-tuesday-1.jpg
GEO:52.079635;-2.276444
X-APPLE-STRUCTURED-LOCATION;VALUE=URI;X-ADDRESS=Hanley Swan Village Hall Welland Road Hanley Swan Worcestershire WR8 0EQ United Kingdom;X-APPLE-RADIUS=500;X-TITLE=Welland Road:geo:-2.276444,52.079635
END:VEVENT
BEGIN:VEVENT
DTSTART;TZID=Europe/London:20261013T110000
DTEND;TZID=Europe/London:20261013T140000
DTSTAMP:20260421T010037
CREATED:20230614T084423Z
LAST-MODIFIED:20231130T233608Z
UID:10002499-1791889200-1791900000@hopechurchfamily.org
SUMMARY:Cafe Tuesdays
DESCRIPTION:A friendly drop-in cafe with free soup\, drinks\, wifi. Everyone welcome.
URL:https://hopechurchfamily.org/calendars/cafe-tuesdays/2026-10-13/
LOCATION:Hanley Swan Village Hall\, Welland Road\, Hanley Swan\, Worcestershire\, WR8 0EQ\, United Kingdom
CATEGORIES:AdvertiseHanleysWelland,Hanley Swan,Meal
ATTACH;FMTTYPE=image/jpeg:https://hopechurchfamily.org/wp-content/uploads/2023/06/cafe-tuesday-1.jpg
GEO:52.079635;-2.276444
X-APPLE-STRUCTURED-LOCATION;VALUE=URI;X-ADDRESS=Hanley Swan Village Hall Welland Road Hanley Swan Worcestershire WR8 0EQ United Kingdom;X-APPLE-RADIUS=500;X-TITLE=Welland Road:geo:-2.276444,52.079635
END:VEVENT
BEGIN:VEVENT
DTSTART;TZID=Europe/London:20261020T110000
DTEND;TZID=Europe/London:20261020T140000
DTSTAMP:20260421T010037
CREATED:20230614T084423Z
LAST-MODIFIED:20231130T233608Z
UID:10002500-1792494000-1792504800@hopechurchfamily.org
SUMMARY:Cafe Tuesdays
DESCRIPTION:A friendly drop-in cafe with free soup\, drinks\, wifi. Everyone welcome.
URL:https://hopechurchfamily.org/calendars/cafe-tuesdays/2026-10-20/
LOCATION:Hanley Swan Village Hall\, Welland Road\, Hanley Swan\, Worcestershire\, WR8 0EQ\, United Kingdom
CATEGORIES:AdvertiseHanleysWelland,Hanley Swan,Meal
ATTACH;FMTTYPE=image/jpeg:https://hopechurchfamily.org/wp-content/uploads/2023/06/cafe-tuesday-1.jpg
GEO:52.079635;-2.276444
X-APPLE-STRUCTURED-LOCATION;VALUE=URI;X-ADDRESS=Hanley Swan Village Hall Welland Road Hanley Swan Worcestershire WR8 0EQ United Kingdom;X-APPLE-RADIUS=500;X-TITLE=Welland Road:geo:-2.276444,52.079635
END:VEVENT
BEGIN:VEVENT
DTSTART;TZID=Europe/London:20261027T110000
DTEND;TZID=Europe/London:20261027T140000
DTSTAMP:20260421T010037
CREATED:20230614T084423Z
LAST-MODIFIED:20231130T233608Z
UID:10002501-1793098800-1793109600@hopechurchfamily.org
SUMMARY:Cafe Tuesdays
DESCRIPTION:A friendly drop-in cafe with free soup\, drinks\, wifi. Everyone welcome.
URL:https://hopechurchfamily.org/calendars/cafe-tuesdays/2026-10-27/
LOCATION:Hanley Swan Village Hall\, Welland Road\, Hanley Swan\, Worcestershire\, WR8 0EQ\, United Kingdom
CATEGORIES:AdvertiseHanleysWelland,Hanley Swan,Meal
ATTACH;FMTTYPE=image/jpeg:https://hopechurchfamily.org/wp-content/uploads/2023/06/cafe-tuesday-1.jpg
GEO:52.079635;-2.276444
X-APPLE-STRUCTURED-LOCATION;VALUE=URI;X-ADDRESS=Hanley Swan Village Hall Welland Road Hanley Swan Worcestershire WR8 0EQ United Kingdom;X-APPLE-RADIUS=500;X-TITLE=Welland Road:geo:-2.276444,52.079635
END:VEVENT
BEGIN:VEVENT
DTSTART;TZID=Europe/London:20261103T110000
DTEND;TZID=Europe/London:20261103T140000
DTSTAMP:20260421T010037
CREATED:20230614T084423Z
LAST-MODIFIED:20231130T233608Z
UID:10002502-1793703600-1793714400@hopechurchfamily.org
SUMMARY:Cafe Tuesdays
DESCRIPTION:A friendly drop-in cafe with free soup\, drinks\, wifi. Everyone welcome.
URL:https://hopechurchfamily.org/calendars/cafe-tuesdays/2026-11-03/
LOCATION:Hanley Swan Village Hall\, Welland Road\, Hanley Swan\, Worcestershire\, WR8 0EQ\, United Kingdom
CATEGORIES:AdvertiseHanleysWelland,Hanley Swan,Meal
ATTACH;FMTTYPE=image/jpeg:https://hopechurchfamily.org/wp-content/uploads/2023/06/cafe-tuesday-1.jpg
GEO:52.079635;-2.276444
X-APPLE-STRUCTURED-LOCATION;VALUE=URI;X-ADDRESS=Hanley Swan Village Hall Welland Road Hanley Swan Worcestershire WR8 0EQ United Kingdom;X-APPLE-RADIUS=500;X-TITLE=Welland Road:geo:-2.276444,52.079635
END:VEVENT
BEGIN:VEVENT
DTSTART;TZID=Europe/London:20261110T110000
DTEND;TZID=Europe/London:20261110T140000
DTSTAMP:20260421T010037
CREATED:20230614T084423Z
LAST-MODIFIED:20231130T233608Z
UID:10002503-1794308400-1794319200@hopechurchfamily.org
SUMMARY:Cafe Tuesdays
DESCRIPTION:A friendly drop-in cafe with free soup\, drinks\, wifi. Everyone welcome.
URL:https://hopechurchfamily.org/calendars/cafe-tuesdays/2026-11-10/
LOCATION:Hanley Swan Village Hall\, Welland Road\, Hanley Swan\, Worcestershire\, WR8 0EQ\, United Kingdom
CATEGORIES:AdvertiseHanleysWelland,Hanley Swan,Meal
ATTACH;FMTTYPE=image/jpeg:https://hopechurchfamily.org/wp-content/uploads/2023/06/cafe-tuesday-1.jpg
GEO:52.079635;-2.276444
X-APPLE-STRUCTURED-LOCATION;VALUE=URI;X-ADDRESS=Hanley Swan Village Hall Welland Road Hanley Swan Worcestershire WR8 0EQ United Kingdom;X-APPLE-RADIUS=500;X-TITLE=Welland Road:geo:-2.276444,52.079635
END:VEVENT
BEGIN:VEVENT
DTSTART;TZID=Europe/London:20261117T110000
DTEND;TZID=Europe/London:20261117T140000
DTSTAMP:20260421T010037
CREATED:20230614T084423Z
LAST-MODIFIED:20231130T233608Z
UID:10002504-1794913200-1794924000@hopechurchfamily.org
SUMMARY:Cafe Tuesdays
DESCRIPTION:A friendly drop-in cafe with free soup\, drinks\, wifi. Everyone welcome.
URL:https://hopechurchfamily.org/calendars/cafe-tuesdays/2026-11-17/
LOCATION:Hanley Swan Village Hall\, Welland Road\, Hanley Swan\, Worcestershire\, WR8 0EQ\, United Kingdom
CATEGORIES:AdvertiseHanleysWelland,Hanley Swan,Meal
ATTACH;FMTTYPE=image/jpeg:https://hopechurchfamily.org/wp-content/uploads/2023/06/cafe-tuesday-1.jpg
GEO:52.079635;-2.276444
X-APPLE-STRUCTURED-LOCATION;VALUE=URI;X-ADDRESS=Hanley Swan Village Hall Welland Road Hanley Swan Worcestershire WR8 0EQ United Kingdom;X-APPLE-RADIUS=500;X-TITLE=Welland Road:geo:-2.276444,52.079635
END:VEVENT
BEGIN:VEVENT
DTSTART;TZID=Europe/London:20261124T110000
DTEND;TZID=Europe/London:20261124T140000
DTSTAMP:20260421T010037
CREATED:20230614T084423Z
LAST-MODIFIED:20231130T233608Z
UID:10002505-1795518000-1795528800@hopechurchfamily.org
SUMMARY:Cafe Tuesdays
DESCRIPTION:A friendly drop-in cafe with free soup\, drinks\, wifi. Everyone welcome.
URL:https://hopechurchfamily.org/calendars/cafe-tuesdays/2026-11-24/
LOCATION:Hanley Swan Village Hall\, Welland Road\, Hanley Swan\, Worcestershire\, WR8 0EQ\, United Kingdom
CATEGORIES:AdvertiseHanleysWelland,Hanley Swan,Meal
ATTACH;FMTTYPE=image/jpeg:https://hopechurchfamily.org/wp-content/uploads/2023/06/cafe-tuesday-1.jpg
GEO:52.079635;-2.276444
X-APPLE-STRUCTURED-LOCATION;VALUE=URI;X-ADDRESS=Hanley Swan Village Hall Welland Road Hanley Swan Worcestershire WR8 0EQ United Kingdom;X-APPLE-RADIUS=500;X-TITLE=Welland Road:geo:-2.276444,52.079635
END:VEVENT
BEGIN:VEVENT
DTSTART;TZID=Europe/London:20261201T110000
DTEND;TZID=Europe/London:20261201T140000
DTSTAMP:20260421T010037
CREATED:20230614T084423Z
LAST-MODIFIED:20231130T233608Z
UID:10002506-1796122800-1796133600@hopechurchfamily.org
SUMMARY:Cafe Tuesdays
DESCRIPTION:A friendly drop-in cafe with free soup\, drinks\, wifi. Everyone welcome.
URL:https://hopechurchfamily.org/calendars/cafe-tuesdays/2026-12-01/
LOCATION:Hanley Swan Village Hall\, Welland Road\, Hanley Swan\, Worcestershire\, WR8 0EQ\, United Kingdom
CATEGORIES:AdvertiseHanleysWelland,Hanley Swan,Meal
ATTACH;FMTTYPE=image/jpeg:https://hopechurchfamily.org/wp-content/uploads/2023/06/cafe-tuesday-1.jpg
GEO:52.079635;-2.276444
X-APPLE-STRUCTURED-LOCATION;VALUE=URI;X-ADDRESS=Hanley Swan Village Hall Welland Road Hanley Swan Worcestershire WR8 0EQ United Kingdom;X-APPLE-RADIUS=500;X-TITLE=Welland Road:geo:-2.276444,52.079635
END:VEVENT
BEGIN:VEVENT
DTSTART;TZID=Europe/London:20261208T110000
DTEND;TZID=Europe/London:20261208T140000
DTSTAMP:20260421T010037
CREATED:20230614T084423Z
LAST-MODIFIED:20231130T233608Z
UID:10002507-1796727600-1796738400@hopechurchfamily.org
SUMMARY:Cafe Tuesdays
DESCRIPTION:A friendly drop-in cafe with free soup\, drinks\, wifi. Everyone welcome.
URL:https://hopechurchfamily.org/calendars/cafe-tuesdays/2026-12-08/
LOCATION:Hanley Swan Village Hall\, Welland Road\, Hanley Swan\, Worcestershire\, WR8 0EQ\, United Kingdom
CATEGORIES:AdvertiseHanleysWelland,Hanley Swan,Meal
ATTACH;FMTTYPE=image/jpeg:https://hopechurchfamily.org/wp-content/uploads/2023/06/cafe-tuesday-1.jpg
GEO:52.079635;-2.276444
X-APPLE-STRUCTURED-LOCATION;VALUE=URI;X-ADDRESS=Hanley Swan Village Hall Welland Road Hanley Swan Worcestershire WR8 0EQ United Kingdom;X-APPLE-RADIUS=500;X-TITLE=Welland Road:geo:-2.276444,52.079635
END:VEVENT
BEGIN:VEVENT
DTSTART;TZID=Europe/London:20261215T110000
DTEND;TZID=Europe/London:20261215T140000
DTSTAMP:20260421T010037
CREATED:20230614T084423Z
LAST-MODIFIED:20231130T233608Z
UID:10002508-1797332400-1797343200@hopechurchfamily.org
SUMMARY:Cafe Tuesdays
DESCRIPTION:A friendly drop-in cafe with free soup\, drinks\, wifi. Everyone welcome.
URL:https://hopechurchfamily.org/calendars/cafe-tuesdays/2026-12-15/
LOCATION:Hanley Swan Village Hall\, Welland Road\, Hanley Swan\, Worcestershire\, WR8 0EQ\, United Kingdom
CATEGORIES:AdvertiseHanleysWelland,Hanley Swan,Meal
ATTACH;FMTTYPE=image/jpeg:https://hopechurchfamily.org/wp-content/uploads/2023/06/cafe-tuesday-1.jpg
GEO:52.079635;-2.276444
X-APPLE-STRUCTURED-LOCATION;VALUE=URI;X-ADDRESS=Hanley Swan Village Hall Welland Road Hanley Swan Worcestershire WR8 0EQ United Kingdom;X-APPLE-RADIUS=500;X-TITLE=Welland Road:geo:-2.276444,52.079635
END:VEVENT
BEGIN:VEVENT
DTSTART;TZID=Europe/London:20261222T110000
DTEND;TZID=Europe/London:20261222T140000
DTSTAMP:20260421T010037
CREATED:20230614T084423Z
LAST-MODIFIED:20231130T233608Z
UID:10002509-1797937200-1797948000@hopechurchfamily.org
SUMMARY:Cafe Tuesdays
DESCRIPTION:A friendly drop-in cafe with free soup\, drinks\, wifi. Everyone welcome.
URL:https://hopechurchfamily.org/calendars/cafe-tuesdays/2026-12-22/
LOCATION:Hanley Swan Village Hall\, Welland Road\, Hanley Swan\, Worcestershire\, WR8 0EQ\, United Kingdom
CATEGORIES:AdvertiseHanleysWelland,Hanley Swan,Meal
ATTACH;FMTTYPE=image/jpeg:https://hopechurchfamily.org/wp-content/uploads/2023/06/cafe-tuesday-1.jpg
GEO:52.079635;-2.276444
X-APPLE-STRUCTURED-LOCATION;VALUE=URI;X-ADDRESS=Hanley Swan Village Hall Welland Road Hanley Swan Worcestershire WR8 0EQ United Kingdom;X-APPLE-RADIUS=500;X-TITLE=Welland Road:geo:-2.276444,52.079635
END:VEVENT
BEGIN:VEVENT
DTSTART;TZID=Europe/London:20261229T110000
DTEND;TZID=Europe/London:20261229T140000
DTSTAMP:20260421T010037
CREATED:20230614T084423Z
LAST-MODIFIED:20231130T233608Z
UID:10002510-1798542000-1798552800@hopechurchfamily.org
SUMMARY:Cafe Tuesdays
DESCRIPTION:A friendly drop-in cafe with free soup\, drinks\, wifi. Everyone welcome.
URL:https://hopechurchfamily.org/calendars/cafe-tuesdays/2026-12-29/
LOCATION:Hanley Swan Village Hall\, Welland Road\, Hanley Swan\, Worcestershire\, WR8 0EQ\, United Kingdom
CATEGORIES:AdvertiseHanleysWelland,Hanley Swan,Meal
ATTACH;FMTTYPE=image/jpeg:https://hopechurchfamily.org/wp-content/uploads/2023/06/cafe-tuesday-1.jpg
GEO:52.079635;-2.276444
X-APPLE-STRUCTURED-LOCATION;VALUE=URI;X-ADDRESS=Hanley Swan Village Hall Welland Road Hanley Swan Worcestershire WR8 0EQ United Kingdom;X-APPLE-RADIUS=500;X-TITLE=Welland Road:geo:-2.276444,52.079635
END:VEVENT
BEGIN:VEVENT
DTSTART;TZID=Europe/London:20270105T110000
DTEND;TZID=Europe/London:20270105T140000
DTSTAMP:20260421T010037
CREATED:20230614T084423Z
LAST-MODIFIED:20231130T233608Z
UID:10002511-1799146800-1799157600@hopechurchfamily.org
SUMMARY:Cafe Tuesdays
DESCRIPTION:A friendly drop-in cafe with free soup\, drinks\, wifi. Everyone welcome.
URL:https://hopechurchfamily.org/calendars/cafe-tuesdays/2027-01-05/
LOCATION:Hanley Swan Village Hall\, Welland Road\, Hanley Swan\, Worcestershire\, WR8 0EQ\, United Kingdom
CATEGORIES:AdvertiseHanleysWelland,Hanley Swan,Meal
ATTACH;FMTTYPE=image/jpeg:https://hopechurchfamily.org/wp-content/uploads/2023/06/cafe-tuesday-1.jpg
GEO:52.079635;-2.276444
X-APPLE-STRUCTURED-LOCATION;VALUE=URI;X-ADDRESS=Hanley Swan Village Hall Welland Road Hanley Swan Worcestershire WR8 0EQ United Kingdom;X-APPLE-RADIUS=500;X-TITLE=Welland Road:geo:-2.276444,52.079635
END:VEVENT
BEGIN:VEVENT
DTSTART;TZID=Europe/London:20270112T110000
DTEND;TZID=Europe/London:20270112T140000
DTSTAMP:20260421T010037
CREATED:20230614T084423Z
LAST-MODIFIED:20231130T233608Z
UID:10002512-1799751600-1799762400@hopechurchfamily.org
SUMMARY:Cafe Tuesdays
DESCRIPTION:A friendly drop-in cafe with free soup\, drinks\, wifi. Everyone welcome.
URL:https://hopechurchfamily.org/calendars/cafe-tuesdays/2027-01-12/
LOCATION:Hanley Swan Village Hall\, Welland Road\, Hanley Swan\, Worcestershire\, WR8 0EQ\, United Kingdom
CATEGORIES:AdvertiseHanleysWelland,Hanley Swan,Meal
ATTACH;FMTTYPE=image/jpeg:https://hopechurchfamily.org/wp-content/uploads/2023/06/cafe-tuesday-1.jpg
GEO:52.079635;-2.276444
X-APPLE-STRUCTURED-LOCATION;VALUE=URI;X-ADDRESS=Hanley Swan Village Hall Welland Road Hanley Swan Worcestershire WR8 0EQ United Kingdom;X-APPLE-RADIUS=500;X-TITLE=Welland Road:geo:-2.276444,52.079635
END:VEVENT
BEGIN:VEVENT
DTSTART;TZID=Europe/London:20270119T110000
DTEND;TZID=Europe/London:20270119T140000
DTSTAMP:20260421T010037
CREATED:20230614T084423Z
LAST-MODIFIED:20231130T233608Z
UID:10002513-1800356400-1800367200@hopechurchfamily.org
SUMMARY:Cafe Tuesdays
DESCRIPTION:A friendly drop-in cafe with free soup\, drinks\, wifi. Everyone welcome.
URL:https://hopechurchfamily.org/calendars/cafe-tuesdays/2027-01-19/
LOCATION:Hanley Swan Village Hall\, Welland Road\, Hanley Swan\, Worcestershire\, WR8 0EQ\, United Kingdom
CATEGORIES:AdvertiseHanleysWelland,Hanley Swan,Meal
ATTACH;FMTTYPE=image/jpeg:https://hopechurchfamily.org/wp-content/uploads/2023/06/cafe-tuesday-1.jpg
GEO:52.079635;-2.276444
X-APPLE-STRUCTURED-LOCATION;VALUE=URI;X-ADDRESS=Hanley Swan Village Hall Welland Road Hanley Swan Worcestershire WR8 0EQ United Kingdom;X-APPLE-RADIUS=500;X-TITLE=Welland Road:geo:-2.276444,52.079635
END:VEVENT
BEGIN:VEVENT
DTSTART;TZID=Europe/London:20270126T110000
DTEND;TZID=Europe/London:20270126T140000
DTSTAMP:20260421T010037
CREATED:20230614T084423Z
LAST-MODIFIED:20231130T233608Z
UID:10002514-1800961200-1800972000@hopechurchfamily.org
SUMMARY:Cafe Tuesdays
DESCRIPTION:A friendly drop-in cafe with free soup\, drinks\, wifi. Everyone welcome.
URL:https://hopechurchfamily.org/calendars/cafe-tuesdays/2027-01-26/
LOCATION:Hanley Swan Village Hall\, Welland Road\, Hanley Swan\, Worcestershire\, WR8 0EQ\, United Kingdom
CATEGORIES:AdvertiseHanleysWelland,Hanley Swan,Meal
ATTACH;FMTTYPE=image/jpeg:https://hopechurchfamily.org/wp-content/uploads/2023/06/cafe-tuesday-1.jpg
GEO:52.079635;-2.276444
X-APPLE-STRUCTURED-LOCATION;VALUE=URI;X-ADDRESS=Hanley Swan Village Hall Welland Road Hanley Swan Worcestershire WR8 0EQ United Kingdom;X-APPLE-RADIUS=500;X-TITLE=Welland Road:geo:-2.276444,52.079635
END:VEVENT
BEGIN:VEVENT
DTSTART;TZID=Europe/London:20270202T110000
DTEND;TZID=Europe/London:20270202T140000
DTSTAMP:20260421T010037
CREATED:20230614T084423Z
LAST-MODIFIED:20231130T233608Z
UID:10002515-1801566000-1801576800@hopechurchfamily.org
SUMMARY:Cafe Tuesdays
DESCRIPTION:A friendly drop-in cafe with free soup\, drinks\, wifi. Everyone welcome.
URL:https://hopechurchfamily.org/calendars/cafe-tuesdays/2027-02-02/
LOCATION:Hanley Swan Village Hall\, Welland Road\, Hanley Swan\, Worcestershire\, WR8 0EQ\, United Kingdom
CATEGORIES:AdvertiseHanleysWelland,Hanley Swan,Meal
ATTACH;FMTTYPE=image/jpeg:https://hopechurchfamily.org/wp-content/uploads/2023/06/cafe-tuesday-1.jpg
GEO:52.079635;-2.276444
X-APPLE-STRUCTURED-LOCATION;VALUE=URI;X-ADDRESS=Hanley Swan Village Hall Welland Road Hanley Swan Worcestershire WR8 0EQ United Kingdom;X-APPLE-RADIUS=500;X-TITLE=Welland Road:geo:-2.276444,52.079635
END:VEVENT
BEGIN:VEVENT
DTSTART;TZID=Europe/London:20270209T110000
DTEND;TZID=Europe/London:20270209T140000
DTSTAMP:20260421T010037
CREATED:20230614T084423Z
LAST-MODIFIED:20231130T233608Z
UID:10002516-1802170800-1802181600@hopechurchfamily.org
SUMMARY:Cafe Tuesdays
DESCRIPTION:A friendly drop-in cafe with free soup\, drinks\, wifi. Everyone welcome.
URL:https://hopechurchfamily.org/calendars/cafe-tuesdays/2027-02-09/
LOCATION:Hanley Swan Village Hall\, Welland Road\, Hanley Swan\, Worcestershire\, WR8 0EQ\, United Kingdom
CATEGORIES:AdvertiseHanleysWelland,Hanley Swan,Meal
ATTACH;FMTTYPE=image/jpeg:https://hopechurchfamily.org/wp-content/uploads/2023/06/cafe-tuesday-1.jpg
GEO:52.079635;-2.276444
X-APPLE-STRUCTURED-LOCATION;VALUE=URI;X-ADDRESS=Hanley Swan Village Hall Welland Road Hanley Swan Worcestershire WR8 0EQ United Kingdom;X-APPLE-RADIUS=500;X-TITLE=Welland Road:geo:-2.276444,52.079635
END:VEVENT
BEGIN:VEVENT
DTSTART;TZID=Europe/London:20270216T110000
DTEND;TZID=Europe/London:20270216T140000
DTSTAMP:20260421T010037
CREATED:20230614T084423Z
LAST-MODIFIED:20231130T233608Z
UID:10002517-1802775600-1802786400@hopechurchfamily.org
SUMMARY:Cafe Tuesdays
DESCRIPTION:A friendly drop-in cafe with free soup\, drinks\, wifi. Everyone welcome.
URL:https://hopechurchfamily.org/calendars/cafe-tuesdays/2027-02-16/
LOCATION:Hanley Swan Village Hall\, Welland Road\, Hanley Swan\, Worcestershire\, WR8 0EQ\, United Kingdom
CATEGORIES:AdvertiseHanleysWelland,Hanley Swan,Meal
ATTACH;FMTTYPE=image/jpeg:https://hopechurchfamily.org/wp-content/uploads/2023/06/cafe-tuesday-1.jpg
GEO:52.079635;-2.276444
X-APPLE-STRUCTURED-LOCATION;VALUE=URI;X-ADDRESS=Hanley Swan Village Hall Welland Road Hanley Swan Worcestershire WR8 0EQ United Kingdom;X-APPLE-RADIUS=500;X-TITLE=Welland Road:geo:-2.276444,52.079635
END:VEVENT
BEGIN:VEVENT
DTSTART;TZID=Europe/London:20270223T110000
DTEND;TZID=Europe/London:20270223T140000
DTSTAMP:20260421T010037
CREATED:20230614T084423Z
LAST-MODIFIED:20231130T233608Z
UID:10002518-1803380400-1803391200@hopechurchfamily.org
SUMMARY:Cafe Tuesdays
DESCRIPTION:A friendly drop-in cafe with free soup\, drinks\, wifi. Everyone welcome.
URL:https://hopechurchfamily.org/calendars/cafe-tuesdays/2027-02-23/
LOCATION:Hanley Swan Village Hall\, Welland Road\, Hanley Swan\, Worcestershire\, WR8 0EQ\, United Kingdom
CATEGORIES:AdvertiseHanleysWelland,Hanley Swan,Meal
ATTACH;FMTTYPE=image/jpeg:https://hopechurchfamily.org/wp-content/uploads/2023/06/cafe-tuesday-1.jpg
GEO:52.079635;-2.276444
X-APPLE-STRUCTURED-LOCATION;VALUE=URI;X-ADDRESS=Hanley Swan Village Hall Welland Road Hanley Swan Worcestershire WR8 0EQ United Kingdom;X-APPLE-RADIUS=500;X-TITLE=Welland Road:geo:-2.276444,52.079635
END:VEVENT
END:VCALENDAR