BEGIN:VCALENDAR
VERSION:2.0
PRODID:-//The Hope Church Family - ECPv6.15.20//NONSGML v1.0//EN
CALSCALE:GREGORIAN
METHOD:PUBLISH
X-WR-CALNAME:The Hope Church Family
X-ORIGINAL-URL:https://hopechurchfamily.org
X-WR-CALDESC:Events for The Hope Church Family
REFRESH-INTERVAL;VALUE=DURATION:PT1H
X-Robots-Tag:noindex
X-PUBLISHED-TTL:PT1H
BEGIN:VTIMEZONE
TZID:Europe/London
BEGIN:DAYLIGHT
TZOFFSETFROM:+0000
TZOFFSETTO:+0100
TZNAME:BST
DTSTART:20260329T010000
END:DAYLIGHT
BEGIN:STANDARD
TZOFFSETFROM:+0100
TZOFFSETTO:+0000
TZNAME:GMT
DTSTART:20261025T010000
END:STANDARD
BEGIN:DAYLIGHT
TZOFFSETFROM:+0000
TZOFFSETTO:+0100
TZNAME:BST
DTSTART:20270328T010000
END:DAYLIGHT
BEGIN:STANDARD
TZOFFSETFROM:+0100
TZOFFSETTO:+0000
TZNAME:GMT
DTSTART:20271031T010000
END:STANDARD
BEGIN:DAYLIGHT
TZOFFSETFROM:+0000
TZOFFSETTO:+0100
TZNAME:BST
DTSTART:20280326T010000
END:DAYLIGHT
BEGIN:STANDARD
TZOFFSETFROM:+0100
TZOFFSETTO:+0000
TZNAME:GMT
DTSTART:20281029T010000
END:STANDARD
BEGIN:DAYLIGHT
TZOFFSETFROM:+0000
TZOFFSETTO:+0100
TZNAME:BST
DTSTART:20290325T010000
END:DAYLIGHT
BEGIN:STANDARD
TZOFFSETFROM:+0100
TZOFFSETTO:+0000
TZNAME:GMT
DTSTART:20291028T010000
END:STANDARD
END:VTIMEZONE
BEGIN:VEVENT
DTSTART;TZID=Europe/London:20270622T110000
DTEND;TZID=Europe/London:20270622T140000
DTSTAMP:20260425T145802
CREATED:20230614T084423Z
LAST-MODIFIED:20231130T233608Z
UID:10002535-1813662000-1813672800@hopechurchfamily.org
SUMMARY:Cafe Tuesdays
DESCRIPTION:A friendly drop-in cafe with free soup\, drinks\, wifi. Everyone welcome.
URL:https://hopechurchfamily.org/calendars/cafe-tuesdays/2027-06-22/
LOCATION:Hanley Swan Village Hall\, Welland Road\, Hanley Swan\, Worcestershire\, WR8 0EQ\, United Kingdom
CATEGORIES:AdvertiseHanleysWelland,Hanley Swan,Meal
ATTACH;FMTTYPE=image/jpeg:https://hopechurchfamily.org/wp-content/uploads/2023/06/cafe-tuesday-1.jpg
GEO:52.079635;-2.276444
X-APPLE-STRUCTURED-LOCATION;VALUE=URI;X-ADDRESS=Hanley Swan Village Hall Welland Road Hanley Swan Worcestershire WR8 0EQ United Kingdom;X-APPLE-RADIUS=500;X-TITLE=Welland Road:geo:-2.276444,52.079635
END:VEVENT
BEGIN:VEVENT
DTSTART;TZID=Europe/London:20270629T110000
DTEND;TZID=Europe/London:20270629T140000
DTSTAMP:20260425T145802
CREATED:20230614T084423Z
LAST-MODIFIED:20231130T233608Z
UID:10002536-1814266800-1814277600@hopechurchfamily.org
SUMMARY:Cafe Tuesdays
DESCRIPTION:A friendly drop-in cafe with free soup\, drinks\, wifi. Everyone welcome.
URL:https://hopechurchfamily.org/calendars/cafe-tuesdays/2027-06-29/
LOCATION:Hanley Swan Village Hall\, Welland Road\, Hanley Swan\, Worcestershire\, WR8 0EQ\, United Kingdom
CATEGORIES:AdvertiseHanleysWelland,Hanley Swan,Meal
ATTACH;FMTTYPE=image/jpeg:https://hopechurchfamily.org/wp-content/uploads/2023/06/cafe-tuesday-1.jpg
GEO:52.079635;-2.276444
X-APPLE-STRUCTURED-LOCATION;VALUE=URI;X-ADDRESS=Hanley Swan Village Hall Welland Road Hanley Swan Worcestershire WR8 0EQ United Kingdom;X-APPLE-RADIUS=500;X-TITLE=Welland Road:geo:-2.276444,52.079635
END:VEVENT
BEGIN:VEVENT
DTSTART;TZID=Europe/London:20270706T110000
DTEND;TZID=Europe/London:20270706T140000
DTSTAMP:20260425T145802
CREATED:20230614T084423Z
LAST-MODIFIED:20231130T233608Z
UID:10002537-1814871600-1814882400@hopechurchfamily.org
SUMMARY:Cafe Tuesdays
DESCRIPTION:A friendly drop-in cafe with free soup\, drinks\, wifi. Everyone welcome.
URL:https://hopechurchfamily.org/calendars/cafe-tuesdays/2027-07-06/
LOCATION:Hanley Swan Village Hall\, Welland Road\, Hanley Swan\, Worcestershire\, WR8 0EQ\, United Kingdom
CATEGORIES:AdvertiseHanleysWelland,Hanley Swan,Meal
ATTACH;FMTTYPE=image/jpeg:https://hopechurchfamily.org/wp-content/uploads/2023/06/cafe-tuesday-1.jpg
GEO:52.079635;-2.276444
X-APPLE-STRUCTURED-LOCATION;VALUE=URI;X-ADDRESS=Hanley Swan Village Hall Welland Road Hanley Swan Worcestershire WR8 0EQ United Kingdom;X-APPLE-RADIUS=500;X-TITLE=Welland Road:geo:-2.276444,52.079635
END:VEVENT
BEGIN:VEVENT
DTSTART;TZID=Europe/London:20270713T110000
DTEND;TZID=Europe/London:20270713T140000
DTSTAMP:20260425T145802
CREATED:20230614T084423Z
LAST-MODIFIED:20231130T233608Z
UID:10002538-1815476400-1815487200@hopechurchfamily.org
SUMMARY:Cafe Tuesdays
DESCRIPTION:A friendly drop-in cafe with free soup\, drinks\, wifi. Everyone welcome.
URL:https://hopechurchfamily.org/calendars/cafe-tuesdays/2027-07-13/
LOCATION:Hanley Swan Village Hall\, Welland Road\, Hanley Swan\, Worcestershire\, WR8 0EQ\, United Kingdom
CATEGORIES:AdvertiseHanleysWelland,Hanley Swan,Meal
ATTACH;FMTTYPE=image/jpeg:https://hopechurchfamily.org/wp-content/uploads/2023/06/cafe-tuesday-1.jpg
GEO:52.079635;-2.276444
X-APPLE-STRUCTURED-LOCATION;VALUE=URI;X-ADDRESS=Hanley Swan Village Hall Welland Road Hanley Swan Worcestershire WR8 0EQ United Kingdom;X-APPLE-RADIUS=500;X-TITLE=Welland Road:geo:-2.276444,52.079635
END:VEVENT
BEGIN:VEVENT
DTSTART;TZID=Europe/London:20270720T110000
DTEND;TZID=Europe/London:20270720T140000
DTSTAMP:20260425T145802
CREATED:20230614T084423Z
LAST-MODIFIED:20231130T233608Z
UID:10002539-1816081200-1816092000@hopechurchfamily.org
SUMMARY:Cafe Tuesdays
DESCRIPTION:A friendly drop-in cafe with free soup\, drinks\, wifi. Everyone welcome.
URL:https://hopechurchfamily.org/calendars/cafe-tuesdays/2027-07-20/
LOCATION:Hanley Swan Village Hall\, Welland Road\, Hanley Swan\, Worcestershire\, WR8 0EQ\, United Kingdom
CATEGORIES:AdvertiseHanleysWelland,Hanley Swan,Meal
ATTACH;FMTTYPE=image/jpeg:https://hopechurchfamily.org/wp-content/uploads/2023/06/cafe-tuesday-1.jpg
GEO:52.079635;-2.276444
X-APPLE-STRUCTURED-LOCATION;VALUE=URI;X-ADDRESS=Hanley Swan Village Hall Welland Road Hanley Swan Worcestershire WR8 0EQ United Kingdom;X-APPLE-RADIUS=500;X-TITLE=Welland Road:geo:-2.276444,52.079635
END:VEVENT
BEGIN:VEVENT
DTSTART;TZID=Europe/London:20270727T110000
DTEND;TZID=Europe/London:20270727T140000
DTSTAMP:20260425T145802
CREATED:20230614T084423Z
LAST-MODIFIED:20231130T233608Z
UID:10002540-1816686000-1816696800@hopechurchfamily.org
SUMMARY:Cafe Tuesdays
DESCRIPTION:A friendly drop-in cafe with free soup\, drinks\, wifi. Everyone welcome.
URL:https://hopechurchfamily.org/calendars/cafe-tuesdays/2027-07-27/
LOCATION:Hanley Swan Village Hall\, Welland Road\, Hanley Swan\, Worcestershire\, WR8 0EQ\, United Kingdom
CATEGORIES:AdvertiseHanleysWelland,Hanley Swan,Meal
ATTACH;FMTTYPE=image/jpeg:https://hopechurchfamily.org/wp-content/uploads/2023/06/cafe-tuesday-1.jpg
GEO:52.079635;-2.276444
X-APPLE-STRUCTURED-LOCATION;VALUE=URI;X-ADDRESS=Hanley Swan Village Hall Welland Road Hanley Swan Worcestershire WR8 0EQ United Kingdom;X-APPLE-RADIUS=500;X-TITLE=Welland Road:geo:-2.276444,52.079635
END:VEVENT
BEGIN:VEVENT
DTSTART;TZID=Europe/London:20270803T110000
DTEND;TZID=Europe/London:20270803T140000
DTSTAMP:20260425T145802
CREATED:20230614T084423Z
LAST-MODIFIED:20231130T233608Z
UID:10002541-1817290800-1817301600@hopechurchfamily.org
SUMMARY:Cafe Tuesdays
DESCRIPTION:A friendly drop-in cafe with free soup\, drinks\, wifi. Everyone welcome.
URL:https://hopechurchfamily.org/calendars/cafe-tuesdays/2027-08-03/
LOCATION:Hanley Swan Village Hall\, Welland Road\, Hanley Swan\, Worcestershire\, WR8 0EQ\, United Kingdom
CATEGORIES:AdvertiseHanleysWelland,Hanley Swan,Meal
ATTACH;FMTTYPE=image/jpeg:https://hopechurchfamily.org/wp-content/uploads/2023/06/cafe-tuesday-1.jpg
GEO:52.079635;-2.276444
X-APPLE-STRUCTURED-LOCATION;VALUE=URI;X-ADDRESS=Hanley Swan Village Hall Welland Road Hanley Swan Worcestershire WR8 0EQ United Kingdom;X-APPLE-RADIUS=500;X-TITLE=Welland Road:geo:-2.276444,52.079635
END:VEVENT
BEGIN:VEVENT
DTSTART;TZID=Europe/London:20270810T110000
DTEND;TZID=Europe/London:20270810T140000
DTSTAMP:20260425T145802
CREATED:20230614T084423Z
LAST-MODIFIED:20231130T233608Z
UID:10002542-1817895600-1817906400@hopechurchfamily.org
SUMMARY:Cafe Tuesdays
DESCRIPTION:A friendly drop-in cafe with free soup\, drinks\, wifi. Everyone welcome.
URL:https://hopechurchfamily.org/calendars/cafe-tuesdays/2027-08-10/
LOCATION:Hanley Swan Village Hall\, Welland Road\, Hanley Swan\, Worcestershire\, WR8 0EQ\, United Kingdom
CATEGORIES:AdvertiseHanleysWelland,Hanley Swan,Meal
ATTACH;FMTTYPE=image/jpeg:https://hopechurchfamily.org/wp-content/uploads/2023/06/cafe-tuesday-1.jpg
GEO:52.079635;-2.276444
X-APPLE-STRUCTURED-LOCATION;VALUE=URI;X-ADDRESS=Hanley Swan Village Hall Welland Road Hanley Swan Worcestershire WR8 0EQ United Kingdom;X-APPLE-RADIUS=500;X-TITLE=Welland Road:geo:-2.276444,52.079635
END:VEVENT
BEGIN:VEVENT
DTSTART;TZID=Europe/London:20270817T110000
DTEND;TZID=Europe/London:20270817T140000
DTSTAMP:20260425T145802
CREATED:20230614T084423Z
LAST-MODIFIED:20231130T233608Z
UID:10002543-1818500400-1818511200@hopechurchfamily.org
SUMMARY:Cafe Tuesdays
DESCRIPTION:A friendly drop-in cafe with free soup\, drinks\, wifi. Everyone welcome.
URL:https://hopechurchfamily.org/calendars/cafe-tuesdays/2027-08-17/
LOCATION:Hanley Swan Village Hall\, Welland Road\, Hanley Swan\, Worcestershire\, WR8 0EQ\, United Kingdom
CATEGORIES:AdvertiseHanleysWelland,Hanley Swan,Meal
ATTACH;FMTTYPE=image/jpeg:https://hopechurchfamily.org/wp-content/uploads/2023/06/cafe-tuesday-1.jpg
GEO:52.079635;-2.276444
X-APPLE-STRUCTURED-LOCATION;VALUE=URI;X-ADDRESS=Hanley Swan Village Hall Welland Road Hanley Swan Worcestershire WR8 0EQ United Kingdom;X-APPLE-RADIUS=500;X-TITLE=Welland Road:geo:-2.276444,52.079635
END:VEVENT
BEGIN:VEVENT
DTSTART;TZID=Europe/London:20270824T110000
DTEND;TZID=Europe/London:20270824T140000
DTSTAMP:20260425T145802
CREATED:20230614T084423Z
LAST-MODIFIED:20231130T233608Z
UID:10002544-1819105200-1819116000@hopechurchfamily.org
SUMMARY:Cafe Tuesdays
DESCRIPTION:A friendly drop-in cafe with free soup\, drinks\, wifi. Everyone welcome.
URL:https://hopechurchfamily.org/calendars/cafe-tuesdays/2027-08-24/
LOCATION:Hanley Swan Village Hall\, Welland Road\, Hanley Swan\, Worcestershire\, WR8 0EQ\, United Kingdom
CATEGORIES:AdvertiseHanleysWelland,Hanley Swan,Meal
ATTACH;FMTTYPE=image/jpeg:https://hopechurchfamily.org/wp-content/uploads/2023/06/cafe-tuesday-1.jpg
GEO:52.079635;-2.276444
X-APPLE-STRUCTURED-LOCATION;VALUE=URI;X-ADDRESS=Hanley Swan Village Hall Welland Road Hanley Swan Worcestershire WR8 0EQ United Kingdom;X-APPLE-RADIUS=500;X-TITLE=Welland Road:geo:-2.276444,52.079635
END:VEVENT
BEGIN:VEVENT
DTSTART;TZID=Europe/London:20270831T110000
DTEND;TZID=Europe/London:20270831T140000
DTSTAMP:20260425T145802
CREATED:20230614T084423Z
LAST-MODIFIED:20231130T233608Z
UID:10002545-1819710000-1819720800@hopechurchfamily.org
SUMMARY:Cafe Tuesdays
DESCRIPTION:A friendly drop-in cafe with free soup\, drinks\, wifi. Everyone welcome.
URL:https://hopechurchfamily.org/calendars/cafe-tuesdays/2027-08-31/
LOCATION:Hanley Swan Village Hall\, Welland Road\, Hanley Swan\, Worcestershire\, WR8 0EQ\, United Kingdom
CATEGORIES:AdvertiseHanleysWelland,Hanley Swan,Meal
ATTACH;FMTTYPE=image/jpeg:https://hopechurchfamily.org/wp-content/uploads/2023/06/cafe-tuesday-1.jpg
GEO:52.079635;-2.276444
X-APPLE-STRUCTURED-LOCATION;VALUE=URI;X-ADDRESS=Hanley Swan Village Hall Welland Road Hanley Swan Worcestershire WR8 0EQ United Kingdom;X-APPLE-RADIUS=500;X-TITLE=Welland Road:geo:-2.276444,52.079635
END:VEVENT
BEGIN:VEVENT
DTSTART;TZID=Europe/London:20270907T110000
DTEND;TZID=Europe/London:20270907T140000
DTSTAMP:20260425T145802
CREATED:20230614T084423Z
LAST-MODIFIED:20231130T233608Z
UID:10002546-1820314800-1820325600@hopechurchfamily.org
SUMMARY:Cafe Tuesdays
DESCRIPTION:A friendly drop-in cafe with free soup\, drinks\, wifi. Everyone welcome.
URL:https://hopechurchfamily.org/calendars/cafe-tuesdays/2027-09-07/
LOCATION:Hanley Swan Village Hall\, Welland Road\, Hanley Swan\, Worcestershire\, WR8 0EQ\, United Kingdom
CATEGORIES:AdvertiseHanleysWelland,Hanley Swan,Meal
ATTACH;FMTTYPE=image/jpeg:https://hopechurchfamily.org/wp-content/uploads/2023/06/cafe-tuesday-1.jpg
GEO:52.079635;-2.276444
X-APPLE-STRUCTURED-LOCATION;VALUE=URI;X-ADDRESS=Hanley Swan Village Hall Welland Road Hanley Swan Worcestershire WR8 0EQ United Kingdom;X-APPLE-RADIUS=500;X-TITLE=Welland Road:geo:-2.276444,52.079635
END:VEVENT
BEGIN:VEVENT
DTSTART;TZID=Europe/London:20270914T110000
DTEND;TZID=Europe/London:20270914T140000
DTSTAMP:20260425T145802
CREATED:20230614T084423Z
LAST-MODIFIED:20231130T233608Z
UID:10002547-1820919600-1820930400@hopechurchfamily.org
SUMMARY:Cafe Tuesdays
DESCRIPTION:A friendly drop-in cafe with free soup\, drinks\, wifi. Everyone welcome.
URL:https://hopechurchfamily.org/calendars/cafe-tuesdays/2027-09-14/
LOCATION:Hanley Swan Village Hall\, Welland Road\, Hanley Swan\, Worcestershire\, WR8 0EQ\, United Kingdom
CATEGORIES:AdvertiseHanleysWelland,Hanley Swan,Meal
ATTACH;FMTTYPE=image/jpeg:https://hopechurchfamily.org/wp-content/uploads/2023/06/cafe-tuesday-1.jpg
GEO:52.079635;-2.276444
X-APPLE-STRUCTURED-LOCATION;VALUE=URI;X-ADDRESS=Hanley Swan Village Hall Welland Road Hanley Swan Worcestershire WR8 0EQ United Kingdom;X-APPLE-RADIUS=500;X-TITLE=Welland Road:geo:-2.276444,52.079635
END:VEVENT
BEGIN:VEVENT
DTSTART;TZID=Europe/London:20270921T110000
DTEND;TZID=Europe/London:20270921T140000
DTSTAMP:20260425T145802
CREATED:20230614T084423Z
LAST-MODIFIED:20231130T233608Z
UID:10002548-1821524400-1821535200@hopechurchfamily.org
SUMMARY:Cafe Tuesdays
DESCRIPTION:A friendly drop-in cafe with free soup\, drinks\, wifi. Everyone welcome.
URL:https://hopechurchfamily.org/calendars/cafe-tuesdays/2027-09-21/
LOCATION:Hanley Swan Village Hall\, Welland Road\, Hanley Swan\, Worcestershire\, WR8 0EQ\, United Kingdom
CATEGORIES:AdvertiseHanleysWelland,Hanley Swan,Meal
ATTACH;FMTTYPE=image/jpeg:https://hopechurchfamily.org/wp-content/uploads/2023/06/cafe-tuesday-1.jpg
GEO:52.079635;-2.276444
X-APPLE-STRUCTURED-LOCATION;VALUE=URI;X-ADDRESS=Hanley Swan Village Hall Welland Road Hanley Swan Worcestershire WR8 0EQ United Kingdom;X-APPLE-RADIUS=500;X-TITLE=Welland Road:geo:-2.276444,52.079635
END:VEVENT
BEGIN:VEVENT
DTSTART;TZID=Europe/London:20270928T110000
DTEND;TZID=Europe/London:20270928T140000
DTSTAMP:20260425T145802
CREATED:20230614T084423Z
LAST-MODIFIED:20231130T233608Z
UID:10002549-1822129200-1822140000@hopechurchfamily.org
SUMMARY:Cafe Tuesdays
DESCRIPTION:A friendly drop-in cafe with free soup\, drinks\, wifi. Everyone welcome.
URL:https://hopechurchfamily.org/calendars/cafe-tuesdays/2027-09-28/
LOCATION:Hanley Swan Village Hall\, Welland Road\, Hanley Swan\, Worcestershire\, WR8 0EQ\, United Kingdom
CATEGORIES:AdvertiseHanleysWelland,Hanley Swan,Meal
ATTACH;FMTTYPE=image/jpeg:https://hopechurchfamily.org/wp-content/uploads/2023/06/cafe-tuesday-1.jpg
GEO:52.079635;-2.276444
X-APPLE-STRUCTURED-LOCATION;VALUE=URI;X-ADDRESS=Hanley Swan Village Hall Welland Road Hanley Swan Worcestershire WR8 0EQ United Kingdom;X-APPLE-RADIUS=500;X-TITLE=Welland Road:geo:-2.276444,52.079635
END:VEVENT
BEGIN:VEVENT
DTSTART;TZID=Europe/London:20271005T110000
DTEND;TZID=Europe/London:20271005T140000
DTSTAMP:20260425T145802
CREATED:20230614T084423Z
LAST-MODIFIED:20231130T233608Z
UID:10002550-1822734000-1822744800@hopechurchfamily.org
SUMMARY:Cafe Tuesdays
DESCRIPTION:A friendly drop-in cafe with free soup\, drinks\, wifi. Everyone welcome.
URL:https://hopechurchfamily.org/calendars/cafe-tuesdays/2027-10-05/
LOCATION:Hanley Swan Village Hall\, Welland Road\, Hanley Swan\, Worcestershire\, WR8 0EQ\, United Kingdom
CATEGORIES:AdvertiseHanleysWelland,Hanley Swan,Meal
ATTACH;FMTTYPE=image/jpeg:https://hopechurchfamily.org/wp-content/uploads/2023/06/cafe-tuesday-1.jpg
GEO:52.079635;-2.276444
X-APPLE-STRUCTURED-LOCATION;VALUE=URI;X-ADDRESS=Hanley Swan Village Hall Welland Road Hanley Swan Worcestershire WR8 0EQ United Kingdom;X-APPLE-RADIUS=500;X-TITLE=Welland Road:geo:-2.276444,52.079635
END:VEVENT
BEGIN:VEVENT
DTSTART;TZID=Europe/London:20271012T110000
DTEND;TZID=Europe/London:20271012T140000
DTSTAMP:20260425T145802
CREATED:20230614T084423Z
LAST-MODIFIED:20231130T233608Z
UID:10002551-1823338800-1823349600@hopechurchfamily.org
SUMMARY:Cafe Tuesdays
DESCRIPTION:A friendly drop-in cafe with free soup\, drinks\, wifi. Everyone welcome.
URL:https://hopechurchfamily.org/calendars/cafe-tuesdays/2027-10-12/
LOCATION:Hanley Swan Village Hall\, Welland Road\, Hanley Swan\, Worcestershire\, WR8 0EQ\, United Kingdom
CATEGORIES:AdvertiseHanleysWelland,Hanley Swan,Meal
ATTACH;FMTTYPE=image/jpeg:https://hopechurchfamily.org/wp-content/uploads/2023/06/cafe-tuesday-1.jpg
GEO:52.079635;-2.276444
X-APPLE-STRUCTURED-LOCATION;VALUE=URI;X-ADDRESS=Hanley Swan Village Hall Welland Road Hanley Swan Worcestershire WR8 0EQ United Kingdom;X-APPLE-RADIUS=500;X-TITLE=Welland Road:geo:-2.276444,52.079635
END:VEVENT
BEGIN:VEVENT
DTSTART;TZID=Europe/London:20271019T110000
DTEND;TZID=Europe/London:20271019T140000
DTSTAMP:20260425T145802
CREATED:20230614T084423Z
LAST-MODIFIED:20231130T233608Z
UID:10002552-1823943600-1823954400@hopechurchfamily.org
SUMMARY:Cafe Tuesdays
DESCRIPTION:A friendly drop-in cafe with free soup\, drinks\, wifi. Everyone welcome.
URL:https://hopechurchfamily.org/calendars/cafe-tuesdays/2027-10-19/
LOCATION:Hanley Swan Village Hall\, Welland Road\, Hanley Swan\, Worcestershire\, WR8 0EQ\, United Kingdom
CATEGORIES:AdvertiseHanleysWelland,Hanley Swan,Meal
ATTACH;FMTTYPE=image/jpeg:https://hopechurchfamily.org/wp-content/uploads/2023/06/cafe-tuesday-1.jpg
GEO:52.079635;-2.276444
X-APPLE-STRUCTURED-LOCATION;VALUE=URI;X-ADDRESS=Hanley Swan Village Hall Welland Road Hanley Swan Worcestershire WR8 0EQ United Kingdom;X-APPLE-RADIUS=500;X-TITLE=Welland Road:geo:-2.276444,52.079635
END:VEVENT
BEGIN:VEVENT
DTSTART;TZID=Europe/London:20271026T110000
DTEND;TZID=Europe/London:20271026T140000
DTSTAMP:20260425T145802
CREATED:20230614T084423Z
LAST-MODIFIED:20231130T233608Z
UID:10002553-1824548400-1824559200@hopechurchfamily.org
SUMMARY:Cafe Tuesdays
DESCRIPTION:A friendly drop-in cafe with free soup\, drinks\, wifi. Everyone welcome.
URL:https://hopechurchfamily.org/calendars/cafe-tuesdays/2027-10-26/
LOCATION:Hanley Swan Village Hall\, Welland Road\, Hanley Swan\, Worcestershire\, WR8 0EQ\, United Kingdom
CATEGORIES:AdvertiseHanleysWelland,Hanley Swan,Meal
ATTACH;FMTTYPE=image/jpeg:https://hopechurchfamily.org/wp-content/uploads/2023/06/cafe-tuesday-1.jpg
GEO:52.079635;-2.276444
X-APPLE-STRUCTURED-LOCATION;VALUE=URI;X-ADDRESS=Hanley Swan Village Hall Welland Road Hanley Swan Worcestershire WR8 0EQ United Kingdom;X-APPLE-RADIUS=500;X-TITLE=Welland Road:geo:-2.276444,52.079635
END:VEVENT
BEGIN:VEVENT
DTSTART;TZID=Europe/London:20271102T110000
DTEND;TZID=Europe/London:20271102T140000
DTSTAMP:20260425T145802
CREATED:20230614T084423Z
LAST-MODIFIED:20231130T233608Z
UID:10002554-1825153200-1825164000@hopechurchfamily.org
SUMMARY:Cafe Tuesdays
DESCRIPTION:A friendly drop-in cafe with free soup\, drinks\, wifi. Everyone welcome.
URL:https://hopechurchfamily.org/calendars/cafe-tuesdays/2027-11-02/
LOCATION:Hanley Swan Village Hall\, Welland Road\, Hanley Swan\, Worcestershire\, WR8 0EQ\, United Kingdom
CATEGORIES:AdvertiseHanleysWelland,Hanley Swan,Meal
ATTACH;FMTTYPE=image/jpeg:https://hopechurchfamily.org/wp-content/uploads/2023/06/cafe-tuesday-1.jpg
GEO:52.079635;-2.276444
X-APPLE-STRUCTURED-LOCATION;VALUE=URI;X-ADDRESS=Hanley Swan Village Hall Welland Road Hanley Swan Worcestershire WR8 0EQ United Kingdom;X-APPLE-RADIUS=500;X-TITLE=Welland Road:geo:-2.276444,52.079635
END:VEVENT
BEGIN:VEVENT
DTSTART;TZID=Europe/London:20271109T110000
DTEND;TZID=Europe/London:20271109T140000
DTSTAMP:20260425T145802
CREATED:20230614T084423Z
LAST-MODIFIED:20231130T233608Z
UID:10002555-1825758000-1825768800@hopechurchfamily.org
SUMMARY:Cafe Tuesdays
DESCRIPTION:A friendly drop-in cafe with free soup\, drinks\, wifi. Everyone welcome.
URL:https://hopechurchfamily.org/calendars/cafe-tuesdays/2027-11-09/
LOCATION:Hanley Swan Village Hall\, Welland Road\, Hanley Swan\, Worcestershire\, WR8 0EQ\, United Kingdom
CATEGORIES:AdvertiseHanleysWelland,Hanley Swan,Meal
ATTACH;FMTTYPE=image/jpeg:https://hopechurchfamily.org/wp-content/uploads/2023/06/cafe-tuesday-1.jpg
GEO:52.079635;-2.276444
X-APPLE-STRUCTURED-LOCATION;VALUE=URI;X-ADDRESS=Hanley Swan Village Hall Welland Road Hanley Swan Worcestershire WR8 0EQ United Kingdom;X-APPLE-RADIUS=500;X-TITLE=Welland Road:geo:-2.276444,52.079635
END:VEVENT
BEGIN:VEVENT
DTSTART;TZID=Europe/London:20271116T110000
DTEND;TZID=Europe/London:20271116T140000
DTSTAMP:20260425T145802
CREATED:20230614T084423Z
LAST-MODIFIED:20231130T233608Z
UID:10002556-1826362800-1826373600@hopechurchfamily.org
SUMMARY:Cafe Tuesdays
DESCRIPTION:A friendly drop-in cafe with free soup\, drinks\, wifi. Everyone welcome.
URL:https://hopechurchfamily.org/calendars/cafe-tuesdays/2027-11-16/
LOCATION:Hanley Swan Village Hall\, Welland Road\, Hanley Swan\, Worcestershire\, WR8 0EQ\, United Kingdom
CATEGORIES:AdvertiseHanleysWelland,Hanley Swan,Meal
ATTACH;FMTTYPE=image/jpeg:https://hopechurchfamily.org/wp-content/uploads/2023/06/cafe-tuesday-1.jpg
GEO:52.079635;-2.276444
X-APPLE-STRUCTURED-LOCATION;VALUE=URI;X-ADDRESS=Hanley Swan Village Hall Welland Road Hanley Swan Worcestershire WR8 0EQ United Kingdom;X-APPLE-RADIUS=500;X-TITLE=Welland Road:geo:-2.276444,52.079635
END:VEVENT
BEGIN:VEVENT
DTSTART;TZID=Europe/London:20271123T110000
DTEND;TZID=Europe/London:20271123T140000
DTSTAMP:20260425T145802
CREATED:20230614T084423Z
LAST-MODIFIED:20231130T233608Z
UID:10002557-1826967600-1826978400@hopechurchfamily.org
SUMMARY:Cafe Tuesdays
DESCRIPTION:A friendly drop-in cafe with free soup\, drinks\, wifi. Everyone welcome.
URL:https://hopechurchfamily.org/calendars/cafe-tuesdays/2027-11-23/
LOCATION:Hanley Swan Village Hall\, Welland Road\, Hanley Swan\, Worcestershire\, WR8 0EQ\, United Kingdom
CATEGORIES:AdvertiseHanleysWelland,Hanley Swan,Meal
ATTACH;FMTTYPE=image/jpeg:https://hopechurchfamily.org/wp-content/uploads/2023/06/cafe-tuesday-1.jpg
GEO:52.079635;-2.276444
X-APPLE-STRUCTURED-LOCATION;VALUE=URI;X-ADDRESS=Hanley Swan Village Hall Welland Road Hanley Swan Worcestershire WR8 0EQ United Kingdom;X-APPLE-RADIUS=500;X-TITLE=Welland Road:geo:-2.276444,52.079635
END:VEVENT
BEGIN:VEVENT
DTSTART;TZID=Europe/London:20271130T110000
DTEND;TZID=Europe/London:20271130T140000
DTSTAMP:20260425T145802
CREATED:20230614T084423Z
LAST-MODIFIED:20231130T233608Z
UID:10002558-1827572400-1827583200@hopechurchfamily.org
SUMMARY:Cafe Tuesdays
DESCRIPTION:A friendly drop-in cafe with free soup\, drinks\, wifi. Everyone welcome.
URL:https://hopechurchfamily.org/calendars/cafe-tuesdays/2027-11-30/
LOCATION:Hanley Swan Village Hall\, Welland Road\, Hanley Swan\, Worcestershire\, WR8 0EQ\, United Kingdom
CATEGORIES:AdvertiseHanleysWelland,Hanley Swan,Meal
ATTACH;FMTTYPE=image/jpeg:https://hopechurchfamily.org/wp-content/uploads/2023/06/cafe-tuesday-1.jpg
GEO:52.079635;-2.276444
X-APPLE-STRUCTURED-LOCATION;VALUE=URI;X-ADDRESS=Hanley Swan Village Hall Welland Road Hanley Swan Worcestershire WR8 0EQ United Kingdom;X-APPLE-RADIUS=500;X-TITLE=Welland Road:geo:-2.276444,52.079635
END:VEVENT
BEGIN:VEVENT
DTSTART;TZID=Europe/London:20271207T110000
DTEND;TZID=Europe/London:20271207T140000
DTSTAMP:20260425T145802
CREATED:20230614T084423Z
LAST-MODIFIED:20231130T233608Z
UID:10002559-1828177200-1828188000@hopechurchfamily.org
SUMMARY:Cafe Tuesdays
DESCRIPTION:A friendly drop-in cafe with free soup\, drinks\, wifi. Everyone welcome.
URL:https://hopechurchfamily.org/calendars/cafe-tuesdays/2027-12-07/
LOCATION:Hanley Swan Village Hall\, Welland Road\, Hanley Swan\, Worcestershire\, WR8 0EQ\, United Kingdom
CATEGORIES:AdvertiseHanleysWelland,Hanley Swan,Meal
ATTACH;FMTTYPE=image/jpeg:https://hopechurchfamily.org/wp-content/uploads/2023/06/cafe-tuesday-1.jpg
GEO:52.079635;-2.276444
X-APPLE-STRUCTURED-LOCATION;VALUE=URI;X-ADDRESS=Hanley Swan Village Hall Welland Road Hanley Swan Worcestershire WR8 0EQ United Kingdom;X-APPLE-RADIUS=500;X-TITLE=Welland Road:geo:-2.276444,52.079635
END:VEVENT
BEGIN:VEVENT
DTSTART;TZID=Europe/London:20271214T110000
DTEND;TZID=Europe/London:20271214T140000
DTSTAMP:20260425T145802
CREATED:20230614T084423Z
LAST-MODIFIED:20231130T233608Z
UID:10002560-1828782000-1828792800@hopechurchfamily.org
SUMMARY:Cafe Tuesdays
DESCRIPTION:A friendly drop-in cafe with free soup\, drinks\, wifi. Everyone welcome.
URL:https://hopechurchfamily.org/calendars/cafe-tuesdays/2027-12-14/
LOCATION:Hanley Swan Village Hall\, Welland Road\, Hanley Swan\, Worcestershire\, WR8 0EQ\, United Kingdom
CATEGORIES:AdvertiseHanleysWelland,Hanley Swan,Meal
ATTACH;FMTTYPE=image/jpeg:https://hopechurchfamily.org/wp-content/uploads/2023/06/cafe-tuesday-1.jpg
GEO:52.079635;-2.276444
X-APPLE-STRUCTURED-LOCATION;VALUE=URI;X-ADDRESS=Hanley Swan Village Hall Welland Road Hanley Swan Worcestershire WR8 0EQ United Kingdom;X-APPLE-RADIUS=500;X-TITLE=Welland Road:geo:-2.276444,52.079635
END:VEVENT
BEGIN:VEVENT
DTSTART;TZID=Europe/London:20271221T110000
DTEND;TZID=Europe/London:20271221T140000
DTSTAMP:20260425T145802
CREATED:20230614T084423Z
LAST-MODIFIED:20231130T233608Z
UID:10002561-1829386800-1829397600@hopechurchfamily.org
SUMMARY:Cafe Tuesdays
DESCRIPTION:A friendly drop-in cafe with free soup\, drinks\, wifi. Everyone welcome.
URL:https://hopechurchfamily.org/calendars/cafe-tuesdays/2027-12-21/
LOCATION:Hanley Swan Village Hall\, Welland Road\, Hanley Swan\, Worcestershire\, WR8 0EQ\, United Kingdom
CATEGORIES:AdvertiseHanleysWelland,Hanley Swan,Meal
ATTACH;FMTTYPE=image/jpeg:https://hopechurchfamily.org/wp-content/uploads/2023/06/cafe-tuesday-1.jpg
GEO:52.079635;-2.276444
X-APPLE-STRUCTURED-LOCATION;VALUE=URI;X-ADDRESS=Hanley Swan Village Hall Welland Road Hanley Swan Worcestershire WR8 0EQ United Kingdom;X-APPLE-RADIUS=500;X-TITLE=Welland Road:geo:-2.276444,52.079635
END:VEVENT
BEGIN:VEVENT
DTSTART;TZID=Europe/London:20271228T110000
DTEND;TZID=Europe/London:20271228T140000
DTSTAMP:20260425T145802
CREATED:20230614T084423Z
LAST-MODIFIED:20231130T233608Z
UID:10002562-1829991600-1830002400@hopechurchfamily.org
SUMMARY:Cafe Tuesdays
DESCRIPTION:A friendly drop-in cafe with free soup\, drinks\, wifi. Everyone welcome.
URL:https://hopechurchfamily.org/calendars/cafe-tuesdays/2027-12-28/
LOCATION:Hanley Swan Village Hall\, Welland Road\, Hanley Swan\, Worcestershire\, WR8 0EQ\, United Kingdom
CATEGORIES:AdvertiseHanleysWelland,Hanley Swan,Meal
ATTACH;FMTTYPE=image/jpeg:https://hopechurchfamily.org/wp-content/uploads/2023/06/cafe-tuesday-1.jpg
GEO:52.079635;-2.276444
X-APPLE-STRUCTURED-LOCATION;VALUE=URI;X-ADDRESS=Hanley Swan Village Hall Welland Road Hanley Swan Worcestershire WR8 0EQ United Kingdom;X-APPLE-RADIUS=500;X-TITLE=Welland Road:geo:-2.276444,52.079635
END:VEVENT
BEGIN:VEVENT
DTSTART;TZID=Europe/London:20280104T110000
DTEND;TZID=Europe/London:20280104T140000
DTSTAMP:20260425T145802
CREATED:20230614T084423Z
LAST-MODIFIED:20231130T233608Z
UID:10002563-1830596400-1830607200@hopechurchfamily.org
SUMMARY:Cafe Tuesdays
DESCRIPTION:A friendly drop-in cafe with free soup\, drinks\, wifi. Everyone welcome.
URL:https://hopechurchfamily.org/calendars/cafe-tuesdays/2028-01-04/
LOCATION:Hanley Swan Village Hall\, Welland Road\, Hanley Swan\, Worcestershire\, WR8 0EQ\, United Kingdom
CATEGORIES:AdvertiseHanleysWelland,Hanley Swan,Meal
ATTACH;FMTTYPE=image/jpeg:https://hopechurchfamily.org/wp-content/uploads/2023/06/cafe-tuesday-1.jpg
GEO:52.079635;-2.276444
X-APPLE-STRUCTURED-LOCATION;VALUE=URI;X-ADDRESS=Hanley Swan Village Hall Welland Road Hanley Swan Worcestershire WR8 0EQ United Kingdom;X-APPLE-RADIUS=500;X-TITLE=Welland Road:geo:-2.276444,52.079635
END:VEVENT
BEGIN:VEVENT
DTSTART;TZID=Europe/London:20280111T110000
DTEND;TZID=Europe/London:20280111T140000
DTSTAMP:20260425T145802
CREATED:20230614T084423Z
LAST-MODIFIED:20231130T233608Z
UID:10002564-1831201200-1831212000@hopechurchfamily.org
SUMMARY:Cafe Tuesdays
DESCRIPTION:A friendly drop-in cafe with free soup\, drinks\, wifi. Everyone welcome.
URL:https://hopechurchfamily.org/calendars/cafe-tuesdays/2028-01-11/
LOCATION:Hanley Swan Village Hall\, Welland Road\, Hanley Swan\, Worcestershire\, WR8 0EQ\, United Kingdom
CATEGORIES:AdvertiseHanleysWelland,Hanley Swan,Meal
ATTACH;FMTTYPE=image/jpeg:https://hopechurchfamily.org/wp-content/uploads/2023/06/cafe-tuesday-1.jpg
GEO:52.079635;-2.276444
X-APPLE-STRUCTURED-LOCATION;VALUE=URI;X-ADDRESS=Hanley Swan Village Hall Welland Road Hanley Swan Worcestershire WR8 0EQ United Kingdom;X-APPLE-RADIUS=500;X-TITLE=Welland Road:geo:-2.276444,52.079635
END:VEVENT
END:VCALENDAR