BEGIN:VCALENDAR
VERSION:2.0
PRODID:-//The Hope Church Family - ECPv6.15.20//NONSGML v1.0//EN
CALSCALE:GREGORIAN
METHOD:PUBLISH
X-ORIGINAL-URL:https://hopechurchfamily.org
X-WR-CALDESC:Events for The Hope Church Family
REFRESH-INTERVAL;VALUE=DURATION:PT1H
X-Robots-Tag:noindex
X-PUBLISHED-TTL:PT1H
BEGIN:VTIMEZONE
TZID:Europe/London
BEGIN:DAYLIGHT
TZOFFSETFROM:+0000
TZOFFSETTO:+0100
TZNAME:BST
DTSTART:20270328T010000
END:DAYLIGHT
BEGIN:STANDARD
TZOFFSETFROM:+0100
TZOFFSETTO:+0000
TZNAME:GMT
DTSTART:20271031T010000
END:STANDARD
BEGIN:DAYLIGHT
TZOFFSETFROM:+0000
TZOFFSETTO:+0100
TZNAME:BST
DTSTART:20280326T010000
END:DAYLIGHT
BEGIN:STANDARD
TZOFFSETFROM:+0100
TZOFFSETTO:+0000
TZNAME:GMT
DTSTART:20281029T010000
END:STANDARD
BEGIN:DAYLIGHT
TZOFFSETFROM:+0000
TZOFFSETTO:+0100
TZNAME:BST
DTSTART:20290325T010000
END:DAYLIGHT
BEGIN:STANDARD
TZOFFSETFROM:+0100
TZOFFSETTO:+0000
TZNAME:GMT
DTSTART:20291028T010000
END:STANDARD
END:VTIMEZONE
BEGIN:VEVENT
DTSTART;TZID=Europe/London:20280502T110000
DTEND;TZID=Europe/London:20280502T140000
DTSTAMP:20260425T174238
CREATED:20230614T084423Z
LAST-MODIFIED:20231130T233608Z
UID:10002580-1840878000-1840888800@hopechurchfamily.org
SUMMARY:Cafe Tuesdays
DESCRIPTION:A friendly drop-in cafe with free soup\, drinks\, wifi. Everyone welcome.
URL:https://hopechurchfamily.org/calendars/cafe-tuesdays/2028-05-02/
LOCATION:Hanley Swan Village Hall\, Welland Road\, Hanley Swan\, Worcestershire\, WR8 0EQ\, United Kingdom
CATEGORIES:AdvertiseHanleysWelland,Hanley Swan,Meal
ATTACH;FMTTYPE=image/jpeg:https://hopechurchfamily.org/wp-content/uploads/2023/06/cafe-tuesday-1.jpg
GEO:52.079635;-2.276444
X-APPLE-STRUCTURED-LOCATION;VALUE=URI;X-ADDRESS=Hanley Swan Village Hall Welland Road Hanley Swan Worcestershire WR8 0EQ United Kingdom;X-APPLE-RADIUS=500;X-TITLE=Welland Road:geo:-2.276444,52.079635
END:VEVENT
BEGIN:VEVENT
DTSTART;TZID=Europe/London:20280509T110000
DTEND;TZID=Europe/London:20280509T140000
DTSTAMP:20260425T174238
CREATED:20230614T084423Z
LAST-MODIFIED:20231130T233608Z
UID:10002581-1841482800-1841493600@hopechurchfamily.org
SUMMARY:Cafe Tuesdays
DESCRIPTION:A friendly drop-in cafe with free soup\, drinks\, wifi. Everyone welcome.
URL:https://hopechurchfamily.org/calendars/cafe-tuesdays/2028-05-09/
LOCATION:Hanley Swan Village Hall\, Welland Road\, Hanley Swan\, Worcestershire\, WR8 0EQ\, United Kingdom
CATEGORIES:AdvertiseHanleysWelland,Hanley Swan,Meal
ATTACH;FMTTYPE=image/jpeg:https://hopechurchfamily.org/wp-content/uploads/2023/06/cafe-tuesday-1.jpg
GEO:52.079635;-2.276444
X-APPLE-STRUCTURED-LOCATION;VALUE=URI;X-ADDRESS=Hanley Swan Village Hall Welland Road Hanley Swan Worcestershire WR8 0EQ United Kingdom;X-APPLE-RADIUS=500;X-TITLE=Welland Road:geo:-2.276444,52.079635
END:VEVENT
BEGIN:VEVENT
DTSTART;TZID=Europe/London:20280516T110000
DTEND;TZID=Europe/London:20280516T140000
DTSTAMP:20260425T174238
CREATED:20230614T084423Z
LAST-MODIFIED:20231130T233608Z
UID:10002582-1842087600-1842098400@hopechurchfamily.org
SUMMARY:Cafe Tuesdays
DESCRIPTION:A friendly drop-in cafe with free soup\, drinks\, wifi. Everyone welcome.
URL:https://hopechurchfamily.org/calendars/cafe-tuesdays/2028-05-16/
LOCATION:Hanley Swan Village Hall\, Welland Road\, Hanley Swan\, Worcestershire\, WR8 0EQ\, United Kingdom
CATEGORIES:AdvertiseHanleysWelland,Hanley Swan,Meal
ATTACH;FMTTYPE=image/jpeg:https://hopechurchfamily.org/wp-content/uploads/2023/06/cafe-tuesday-1.jpg
GEO:52.079635;-2.276444
X-APPLE-STRUCTURED-LOCATION;VALUE=URI;X-ADDRESS=Hanley Swan Village Hall Welland Road Hanley Swan Worcestershire WR8 0EQ United Kingdom;X-APPLE-RADIUS=500;X-TITLE=Welland Road:geo:-2.276444,52.079635
END:VEVENT
BEGIN:VEVENT
DTSTART;TZID=Europe/London:20280523T110000
DTEND;TZID=Europe/London:20280523T140000
DTSTAMP:20260425T174238
CREATED:20230614T084423Z
LAST-MODIFIED:20231130T233608Z
UID:10002583-1842692400-1842703200@hopechurchfamily.org
SUMMARY:Cafe Tuesdays
DESCRIPTION:A friendly drop-in cafe with free soup\, drinks\, wifi. Everyone welcome.
URL:https://hopechurchfamily.org/calendars/cafe-tuesdays/2028-05-23/
LOCATION:Hanley Swan Village Hall\, Welland Road\, Hanley Swan\, Worcestershire\, WR8 0EQ\, United Kingdom
CATEGORIES:AdvertiseHanleysWelland,Hanley Swan,Meal
ATTACH;FMTTYPE=image/jpeg:https://hopechurchfamily.org/wp-content/uploads/2023/06/cafe-tuesday-1.jpg
GEO:52.079635;-2.276444
X-APPLE-STRUCTURED-LOCATION;VALUE=URI;X-ADDRESS=Hanley Swan Village Hall Welland Road Hanley Swan Worcestershire WR8 0EQ United Kingdom;X-APPLE-RADIUS=500;X-TITLE=Welland Road:geo:-2.276444,52.079635
END:VEVENT
BEGIN:VEVENT
DTSTART;TZID=Europe/London:20280530T110000
DTEND;TZID=Europe/London:20280530T140000
DTSTAMP:20260425T174238
CREATED:20230614T084423Z
LAST-MODIFIED:20231130T233608Z
UID:10002584-1843297200-1843308000@hopechurchfamily.org
SUMMARY:Cafe Tuesdays
DESCRIPTION:A friendly drop-in cafe with free soup\, drinks\, wifi. Everyone welcome.
URL:https://hopechurchfamily.org/calendars/cafe-tuesdays/2028-05-30/
LOCATION:Hanley Swan Village Hall\, Welland Road\, Hanley Swan\, Worcestershire\, WR8 0EQ\, United Kingdom
CATEGORIES:AdvertiseHanleysWelland,Hanley Swan,Meal
ATTACH;FMTTYPE=image/jpeg:https://hopechurchfamily.org/wp-content/uploads/2023/06/cafe-tuesday-1.jpg
GEO:52.079635;-2.276444
X-APPLE-STRUCTURED-LOCATION;VALUE=URI;X-ADDRESS=Hanley Swan Village Hall Welland Road Hanley Swan Worcestershire WR8 0EQ United Kingdom;X-APPLE-RADIUS=500;X-TITLE=Welland Road:geo:-2.276444,52.079635
END:VEVENT
BEGIN:VEVENT
DTSTART;TZID=Europe/London:20280606T110000
DTEND;TZID=Europe/London:20280606T140000
DTSTAMP:20260425T174238
CREATED:20230614T084423Z
LAST-MODIFIED:20231130T233608Z
UID:10002585-1843902000-1843912800@hopechurchfamily.org
SUMMARY:Cafe Tuesdays
DESCRIPTION:A friendly drop-in cafe with free soup\, drinks\, wifi. Everyone welcome.
URL:https://hopechurchfamily.org/calendars/cafe-tuesdays/2028-06-06/
LOCATION:Hanley Swan Village Hall\, Welland Road\, Hanley Swan\, Worcestershire\, WR8 0EQ\, United Kingdom
CATEGORIES:AdvertiseHanleysWelland,Hanley Swan,Meal
ATTACH;FMTTYPE=image/jpeg:https://hopechurchfamily.org/wp-content/uploads/2023/06/cafe-tuesday-1.jpg
GEO:52.079635;-2.276444
X-APPLE-STRUCTURED-LOCATION;VALUE=URI;X-ADDRESS=Hanley Swan Village Hall Welland Road Hanley Swan Worcestershire WR8 0EQ United Kingdom;X-APPLE-RADIUS=500;X-TITLE=Welland Road:geo:-2.276444,52.079635
END:VEVENT
BEGIN:VEVENT
DTSTART;TZID=Europe/London:20280613T110000
DTEND;TZID=Europe/London:20280613T140000
DTSTAMP:20260425T174238
CREATED:20230614T084423Z
LAST-MODIFIED:20231130T233608Z
UID:10002586-1844506800-1844517600@hopechurchfamily.org
SUMMARY:Cafe Tuesdays
DESCRIPTION:A friendly drop-in cafe with free soup\, drinks\, wifi. Everyone welcome.
URL:https://hopechurchfamily.org/calendars/cafe-tuesdays/2028-06-13/
LOCATION:Hanley Swan Village Hall\, Welland Road\, Hanley Swan\, Worcestershire\, WR8 0EQ\, United Kingdom
CATEGORIES:AdvertiseHanleysWelland,Hanley Swan,Meal
ATTACH;FMTTYPE=image/jpeg:https://hopechurchfamily.org/wp-content/uploads/2023/06/cafe-tuesday-1.jpg
GEO:52.079635;-2.276444
X-APPLE-STRUCTURED-LOCATION;VALUE=URI;X-ADDRESS=Hanley Swan Village Hall Welland Road Hanley Swan Worcestershire WR8 0EQ United Kingdom;X-APPLE-RADIUS=500;X-TITLE=Welland Road:geo:-2.276444,52.079635
END:VEVENT
BEGIN:VEVENT
DTSTART;TZID=Europe/London:20280620T110000
DTEND;TZID=Europe/London:20280620T140000
DTSTAMP:20260425T174238
CREATED:20230614T084423Z
LAST-MODIFIED:20231130T233608Z
UID:10003587-1845111600-1845122400@hopechurchfamily.org
SUMMARY:Cafe Tuesdays
DESCRIPTION:A friendly drop-in cafe with free soup\, drinks\, wifi. Everyone welcome.
URL:https://hopechurchfamily.org/calendars/cafe-tuesdays/2028-06-20/
LOCATION:Hanley Swan Village Hall\, Welland Road\, Hanley Swan\, Worcestershire\, WR8 0EQ\, United Kingdom
CATEGORIES:AdvertiseHanleysWelland,Hanley Swan,Meal
ATTACH;FMTTYPE=image/jpeg:https://hopechurchfamily.org/wp-content/uploads/2023/06/cafe-tuesday-1.jpg
GEO:52.079635;-2.276444
X-APPLE-STRUCTURED-LOCATION;VALUE=URI;X-ADDRESS=Hanley Swan Village Hall Welland Road Hanley Swan Worcestershire WR8 0EQ United Kingdom;X-APPLE-RADIUS=500;X-TITLE=Welland Road:geo:-2.276444,52.079635
END:VEVENT
BEGIN:VEVENT
DTSTART;TZID=Europe/London:20280627T110000
DTEND;TZID=Europe/London:20280627T140000
DTSTAMP:20260425T174238
CREATED:20230614T084423Z
LAST-MODIFIED:20231130T233608Z
UID:10003588-1845716400-1845727200@hopechurchfamily.org
SUMMARY:Cafe Tuesdays
DESCRIPTION:A friendly drop-in cafe with free soup\, drinks\, wifi. Everyone welcome.
URL:https://hopechurchfamily.org/calendars/cafe-tuesdays/2028-06-27/
LOCATION:Hanley Swan Village Hall\, Welland Road\, Hanley Swan\, Worcestershire\, WR8 0EQ\, United Kingdom
CATEGORIES:AdvertiseHanleysWelland,Hanley Swan,Meal
ATTACH;FMTTYPE=image/jpeg:https://hopechurchfamily.org/wp-content/uploads/2023/06/cafe-tuesday-1.jpg
GEO:52.079635;-2.276444
X-APPLE-STRUCTURED-LOCATION;VALUE=URI;X-ADDRESS=Hanley Swan Village Hall Welland Road Hanley Swan Worcestershire WR8 0EQ United Kingdom;X-APPLE-RADIUS=500;X-TITLE=Welland Road:geo:-2.276444,52.079635
END:VEVENT
BEGIN:VEVENT
DTSTART;TZID=Europe/London:20280704T110000
DTEND;TZID=Europe/London:20280704T140000
DTSTAMP:20260425T174238
CREATED:20230614T084423Z
LAST-MODIFIED:20231130T233608Z
UID:10003589-1846321200-1846332000@hopechurchfamily.org
SUMMARY:Cafe Tuesdays
DESCRIPTION:A friendly drop-in cafe with free soup\, drinks\, wifi. Everyone welcome.
URL:https://hopechurchfamily.org/calendars/cafe-tuesdays/2028-07-04/
LOCATION:Hanley Swan Village Hall\, Welland Road\, Hanley Swan\, Worcestershire\, WR8 0EQ\, United Kingdom
CATEGORIES:AdvertiseHanleysWelland,Hanley Swan,Meal
ATTACH;FMTTYPE=image/jpeg:https://hopechurchfamily.org/wp-content/uploads/2023/06/cafe-tuesday-1.jpg
GEO:52.079635;-2.276444
X-APPLE-STRUCTURED-LOCATION;VALUE=URI;X-ADDRESS=Hanley Swan Village Hall Welland Road Hanley Swan Worcestershire WR8 0EQ United Kingdom;X-APPLE-RADIUS=500;X-TITLE=Welland Road:geo:-2.276444,52.079635
END:VEVENT
BEGIN:VEVENT
DTSTART;TZID=Europe/London:20280711T110000
DTEND;TZID=Europe/London:20280711T140000
DTSTAMP:20260425T174238
CREATED:20230614T084423Z
LAST-MODIFIED:20231130T233608Z
UID:10003590-1846926000-1846936800@hopechurchfamily.org
SUMMARY:Cafe Tuesdays
DESCRIPTION:A friendly drop-in cafe with free soup\, drinks\, wifi. Everyone welcome.
URL:https://hopechurchfamily.org/calendars/cafe-tuesdays/2028-07-11/
LOCATION:Hanley Swan Village Hall\, Welland Road\, Hanley Swan\, Worcestershire\, WR8 0EQ\, United Kingdom
CATEGORIES:AdvertiseHanleysWelland,Hanley Swan,Meal
ATTACH;FMTTYPE=image/jpeg:https://hopechurchfamily.org/wp-content/uploads/2023/06/cafe-tuesday-1.jpg
GEO:52.079635;-2.276444
X-APPLE-STRUCTURED-LOCATION;VALUE=URI;X-ADDRESS=Hanley Swan Village Hall Welland Road Hanley Swan Worcestershire WR8 0EQ United Kingdom;X-APPLE-RADIUS=500;X-TITLE=Welland Road:geo:-2.276444,52.079635
END:VEVENT
BEGIN:VEVENT
DTSTART;TZID=Europe/London:20280718T110000
DTEND;TZID=Europe/London:20280718T140000
DTSTAMP:20260425T174238
CREATED:20230614T084423Z
LAST-MODIFIED:20231130T233608Z
UID:10003591-1847530800-1847541600@hopechurchfamily.org
SUMMARY:Cafe Tuesdays
DESCRIPTION:A friendly drop-in cafe with free soup\, drinks\, wifi. Everyone welcome.
URL:https://hopechurchfamily.org/calendars/cafe-tuesdays/2028-07-18/
LOCATION:Hanley Swan Village Hall\, Welland Road\, Hanley Swan\, Worcestershire\, WR8 0EQ\, United Kingdom
CATEGORIES:AdvertiseHanleysWelland,Hanley Swan,Meal
ATTACH;FMTTYPE=image/jpeg:https://hopechurchfamily.org/wp-content/uploads/2023/06/cafe-tuesday-1.jpg
GEO:52.079635;-2.276444
X-APPLE-STRUCTURED-LOCATION;VALUE=URI;X-ADDRESS=Hanley Swan Village Hall Welland Road Hanley Swan Worcestershire WR8 0EQ United Kingdom;X-APPLE-RADIUS=500;X-TITLE=Welland Road:geo:-2.276444,52.079635
END:VEVENT
BEGIN:VEVENT
DTSTART;TZID=Europe/London:20280725T110000
DTEND;TZID=Europe/London:20280725T140000
DTSTAMP:20260425T174238
CREATED:20230614T084423Z
LAST-MODIFIED:20231130T233608Z
UID:10003592-1848135600-1848146400@hopechurchfamily.org
SUMMARY:Cafe Tuesdays
DESCRIPTION:A friendly drop-in cafe with free soup\, drinks\, wifi. Everyone welcome.
URL:https://hopechurchfamily.org/calendars/cafe-tuesdays/2028-07-25/
LOCATION:Hanley Swan Village Hall\, Welland Road\, Hanley Swan\, Worcestershire\, WR8 0EQ\, United Kingdom
CATEGORIES:AdvertiseHanleysWelland,Hanley Swan,Meal
ATTACH;FMTTYPE=image/jpeg:https://hopechurchfamily.org/wp-content/uploads/2023/06/cafe-tuesday-1.jpg
GEO:52.079635;-2.276444
X-APPLE-STRUCTURED-LOCATION;VALUE=URI;X-ADDRESS=Hanley Swan Village Hall Welland Road Hanley Swan Worcestershire WR8 0EQ United Kingdom;X-APPLE-RADIUS=500;X-TITLE=Welland Road:geo:-2.276444,52.079635
END:VEVENT
BEGIN:VEVENT
DTSTART;TZID=Europe/London:20280801T110000
DTEND;TZID=Europe/London:20280801T140000
DTSTAMP:20260425T174238
CREATED:20230614T084423Z
LAST-MODIFIED:20231130T233608Z
UID:10003593-1848740400-1848751200@hopechurchfamily.org
SUMMARY:Cafe Tuesdays
DESCRIPTION:A friendly drop-in cafe with free soup\, drinks\, wifi. Everyone welcome.
URL:https://hopechurchfamily.org/calendars/cafe-tuesdays/2028-08-01/
LOCATION:Hanley Swan Village Hall\, Welland Road\, Hanley Swan\, Worcestershire\, WR8 0EQ\, United Kingdom
CATEGORIES:AdvertiseHanleysWelland,Hanley Swan,Meal
ATTACH;FMTTYPE=image/jpeg:https://hopechurchfamily.org/wp-content/uploads/2023/06/cafe-tuesday-1.jpg
GEO:52.079635;-2.276444
X-APPLE-STRUCTURED-LOCATION;VALUE=URI;X-ADDRESS=Hanley Swan Village Hall Welland Road Hanley Swan Worcestershire WR8 0EQ United Kingdom;X-APPLE-RADIUS=500;X-TITLE=Welland Road:geo:-2.276444,52.079635
END:VEVENT
BEGIN:VEVENT
DTSTART;TZID=Europe/London:20280808T110000
DTEND;TZID=Europe/London:20280808T140000
DTSTAMP:20260425T174238
CREATED:20230614T084423Z
LAST-MODIFIED:20231130T233608Z
UID:10003594-1849345200-1849356000@hopechurchfamily.org
SUMMARY:Cafe Tuesdays
DESCRIPTION:A friendly drop-in cafe with free soup\, drinks\, wifi. Everyone welcome.
URL:https://hopechurchfamily.org/calendars/cafe-tuesdays/2028-08-08/
LOCATION:Hanley Swan Village Hall\, Welland Road\, Hanley Swan\, Worcestershire\, WR8 0EQ\, United Kingdom
CATEGORIES:AdvertiseHanleysWelland,Hanley Swan,Meal
ATTACH;FMTTYPE=image/jpeg:https://hopechurchfamily.org/wp-content/uploads/2023/06/cafe-tuesday-1.jpg
GEO:52.079635;-2.276444
X-APPLE-STRUCTURED-LOCATION;VALUE=URI;X-ADDRESS=Hanley Swan Village Hall Welland Road Hanley Swan Worcestershire WR8 0EQ United Kingdom;X-APPLE-RADIUS=500;X-TITLE=Welland Road:geo:-2.276444,52.079635
END:VEVENT
BEGIN:VEVENT
DTSTART;TZID=Europe/London:20280815T110000
DTEND;TZID=Europe/London:20280815T140000
DTSTAMP:20260425T174238
CREATED:20230614T084423Z
LAST-MODIFIED:20231130T233608Z
UID:10003595-1849950000-1849960800@hopechurchfamily.org
SUMMARY:Cafe Tuesdays
DESCRIPTION:A friendly drop-in cafe with free soup\, drinks\, wifi. Everyone welcome.
URL:https://hopechurchfamily.org/calendars/cafe-tuesdays/2028-08-15/
LOCATION:Hanley Swan Village Hall\, Welland Road\, Hanley Swan\, Worcestershire\, WR8 0EQ\, United Kingdom
CATEGORIES:AdvertiseHanleysWelland,Hanley Swan,Meal
ATTACH;FMTTYPE=image/jpeg:https://hopechurchfamily.org/wp-content/uploads/2023/06/cafe-tuesday-1.jpg
GEO:52.079635;-2.276444
X-APPLE-STRUCTURED-LOCATION;VALUE=URI;X-ADDRESS=Hanley Swan Village Hall Welland Road Hanley Swan Worcestershire WR8 0EQ United Kingdom;X-APPLE-RADIUS=500;X-TITLE=Welland Road:geo:-2.276444,52.079635
END:VEVENT
BEGIN:VEVENT
DTSTART;TZID=Europe/London:20280822T110000
DTEND;TZID=Europe/London:20280822T140000
DTSTAMP:20260425T174238
CREATED:20230614T084423Z
LAST-MODIFIED:20231130T233608Z
UID:10003596-1850554800-1850565600@hopechurchfamily.org
SUMMARY:Cafe Tuesdays
DESCRIPTION:A friendly drop-in cafe with free soup\, drinks\, wifi. Everyone welcome.
URL:https://hopechurchfamily.org/calendars/cafe-tuesdays/2028-08-22/
LOCATION:Hanley Swan Village Hall\, Welland Road\, Hanley Swan\, Worcestershire\, WR8 0EQ\, United Kingdom
CATEGORIES:AdvertiseHanleysWelland,Hanley Swan,Meal
ATTACH;FMTTYPE=image/jpeg:https://hopechurchfamily.org/wp-content/uploads/2023/06/cafe-tuesday-1.jpg
GEO:52.079635;-2.276444
X-APPLE-STRUCTURED-LOCATION;VALUE=URI;X-ADDRESS=Hanley Swan Village Hall Welland Road Hanley Swan Worcestershire WR8 0EQ United Kingdom;X-APPLE-RADIUS=500;X-TITLE=Welland Road:geo:-2.276444,52.079635
END:VEVENT
BEGIN:VEVENT
DTSTART;TZID=Europe/London:20280829T110000
DTEND;TZID=Europe/London:20280829T140000
DTSTAMP:20260425T174238
CREATED:20230614T084423Z
LAST-MODIFIED:20231130T233608Z
UID:10003597-1851159600-1851170400@hopechurchfamily.org
SUMMARY:Cafe Tuesdays
DESCRIPTION:A friendly drop-in cafe with free soup\, drinks\, wifi. Everyone welcome.
URL:https://hopechurchfamily.org/calendars/cafe-tuesdays/2028-08-29/
LOCATION:Hanley Swan Village Hall\, Welland Road\, Hanley Swan\, Worcestershire\, WR8 0EQ\, United Kingdom
CATEGORIES:AdvertiseHanleysWelland,Hanley Swan,Meal
ATTACH;FMTTYPE=image/jpeg:https://hopechurchfamily.org/wp-content/uploads/2023/06/cafe-tuesday-1.jpg
GEO:52.079635;-2.276444
X-APPLE-STRUCTURED-LOCATION;VALUE=URI;X-ADDRESS=Hanley Swan Village Hall Welland Road Hanley Swan Worcestershire WR8 0EQ United Kingdom;X-APPLE-RADIUS=500;X-TITLE=Welland Road:geo:-2.276444,52.079635
END:VEVENT
BEGIN:VEVENT
DTSTART;TZID=Europe/London:20280905T110000
DTEND;TZID=Europe/London:20280905T140000
DTSTAMP:20260425T174238
CREATED:20230614T084423Z
LAST-MODIFIED:20231130T233608Z
UID:10003598-1851764400-1851775200@hopechurchfamily.org
SUMMARY:Cafe Tuesdays
DESCRIPTION:A friendly drop-in cafe with free soup\, drinks\, wifi. Everyone welcome.
URL:https://hopechurchfamily.org/calendars/cafe-tuesdays/2028-09-05/
LOCATION:Hanley Swan Village Hall\, Welland Road\, Hanley Swan\, Worcestershire\, WR8 0EQ\, United Kingdom
CATEGORIES:AdvertiseHanleysWelland,Hanley Swan,Meal
ATTACH;FMTTYPE=image/jpeg:https://hopechurchfamily.org/wp-content/uploads/2023/06/cafe-tuesday-1.jpg
GEO:52.079635;-2.276444
X-APPLE-STRUCTURED-LOCATION;VALUE=URI;X-ADDRESS=Hanley Swan Village Hall Welland Road Hanley Swan Worcestershire WR8 0EQ United Kingdom;X-APPLE-RADIUS=500;X-TITLE=Welland Road:geo:-2.276444,52.079635
END:VEVENT
BEGIN:VEVENT
DTSTART;TZID=Europe/London:20280912T110000
DTEND;TZID=Europe/London:20280912T140000
DTSTAMP:20260425T174238
CREATED:20230614T084423Z
LAST-MODIFIED:20231130T233608Z
UID:10003599-1852369200-1852380000@hopechurchfamily.org
SUMMARY:Cafe Tuesdays
DESCRIPTION:A friendly drop-in cafe with free soup\, drinks\, wifi. Everyone welcome.
URL:https://hopechurchfamily.org/calendars/cafe-tuesdays/2028-09-12/
LOCATION:Hanley Swan Village Hall\, Welland Road\, Hanley Swan\, Worcestershire\, WR8 0EQ\, United Kingdom
CATEGORIES:AdvertiseHanleysWelland,Hanley Swan,Meal
ATTACH;FMTTYPE=image/jpeg:https://hopechurchfamily.org/wp-content/uploads/2023/06/cafe-tuesday-1.jpg
GEO:52.079635;-2.276444
X-APPLE-STRUCTURED-LOCATION;VALUE=URI;X-ADDRESS=Hanley Swan Village Hall Welland Road Hanley Swan Worcestershire WR8 0EQ United Kingdom;X-APPLE-RADIUS=500;X-TITLE=Welland Road:geo:-2.276444,52.079635
END:VEVENT
BEGIN:VEVENT
DTSTART;TZID=Europe/London:20280919T110000
DTEND;TZID=Europe/London:20280919T140000
DTSTAMP:20260425T174238
CREATED:20230614T084423Z
LAST-MODIFIED:20231130T233608Z
UID:10003600-1852974000-1852984800@hopechurchfamily.org
SUMMARY:Cafe Tuesdays
DESCRIPTION:A friendly drop-in cafe with free soup\, drinks\, wifi. Everyone welcome.
URL:https://hopechurchfamily.org/calendars/cafe-tuesdays/2028-09-19/
LOCATION:Hanley Swan Village Hall\, Welland Road\, Hanley Swan\, Worcestershire\, WR8 0EQ\, United Kingdom
CATEGORIES:AdvertiseHanleysWelland,Hanley Swan,Meal
ATTACH;FMTTYPE=image/jpeg:https://hopechurchfamily.org/wp-content/uploads/2023/06/cafe-tuesday-1.jpg
GEO:52.079635;-2.276444
X-APPLE-STRUCTURED-LOCATION;VALUE=URI;X-ADDRESS=Hanley Swan Village Hall Welland Road Hanley Swan Worcestershire WR8 0EQ United Kingdom;X-APPLE-RADIUS=500;X-TITLE=Welland Road:geo:-2.276444,52.079635
END:VEVENT
BEGIN:VEVENT
DTSTART;TZID=Europe/London:20280926T110000
DTEND;TZID=Europe/London:20280926T140000
DTSTAMP:20260425T174238
CREATED:20230614T084423Z
LAST-MODIFIED:20231130T233608Z
UID:10003602-1853578800-1853589600@hopechurchfamily.org
SUMMARY:Cafe Tuesdays
DESCRIPTION:A friendly drop-in cafe with free soup\, drinks\, wifi. Everyone welcome.
URL:https://hopechurchfamily.org/calendars/cafe-tuesdays/2028-09-26/
LOCATION:Hanley Swan Village Hall\, Welland Road\, Hanley Swan\, Worcestershire\, WR8 0EQ\, United Kingdom
CATEGORIES:AdvertiseHanleysWelland,Hanley Swan,Meal
ATTACH;FMTTYPE=image/jpeg:https://hopechurchfamily.org/wp-content/uploads/2023/06/cafe-tuesday-1.jpg
GEO:52.079635;-2.276444
X-APPLE-STRUCTURED-LOCATION;VALUE=URI;X-ADDRESS=Hanley Swan Village Hall Welland Road Hanley Swan Worcestershire WR8 0EQ United Kingdom;X-APPLE-RADIUS=500;X-TITLE=Welland Road:geo:-2.276444,52.079635
END:VEVENT
BEGIN:VEVENT
DTSTART;TZID=Europe/London:20281003T110000
DTEND;TZID=Europe/London:20281003T140000
DTSTAMP:20260425T174238
CREATED:20230614T084423Z
LAST-MODIFIED:20231130T233608Z
UID:10003606-1854183600-1854194400@hopechurchfamily.org
SUMMARY:Cafe Tuesdays
DESCRIPTION:A friendly drop-in cafe with free soup\, drinks\, wifi. Everyone welcome.
URL:https://hopechurchfamily.org/calendars/cafe-tuesdays/2028-10-03/
LOCATION:Hanley Swan Village Hall\, Welland Road\, Hanley Swan\, Worcestershire\, WR8 0EQ\, United Kingdom
CATEGORIES:AdvertiseHanleysWelland,Hanley Swan,Meal
ATTACH;FMTTYPE=image/jpeg:https://hopechurchfamily.org/wp-content/uploads/2023/06/cafe-tuesday-1.jpg
GEO:52.079635;-2.276444
X-APPLE-STRUCTURED-LOCATION;VALUE=URI;X-ADDRESS=Hanley Swan Village Hall Welland Road Hanley Swan Worcestershire WR8 0EQ United Kingdom;X-APPLE-RADIUS=500;X-TITLE=Welland Road:geo:-2.276444,52.079635
END:VEVENT
BEGIN:VEVENT
DTSTART;TZID=Europe/London:20281010T110000
DTEND;TZID=Europe/London:20281010T140000
DTSTAMP:20260425T174238
CREATED:20230614T084423Z
LAST-MODIFIED:20231130T233608Z
UID:10003607-1854788400-1854799200@hopechurchfamily.org
SUMMARY:Cafe Tuesdays
DESCRIPTION:A friendly drop-in cafe with free soup\, drinks\, wifi. Everyone welcome.
URL:https://hopechurchfamily.org/calendars/cafe-tuesdays/2028-10-10/
LOCATION:Hanley Swan Village Hall\, Welland Road\, Hanley Swan\, Worcestershire\, WR8 0EQ\, United Kingdom
CATEGORIES:AdvertiseHanleysWelland,Hanley Swan,Meal
ATTACH;FMTTYPE=image/jpeg:https://hopechurchfamily.org/wp-content/uploads/2023/06/cafe-tuesday-1.jpg
GEO:52.079635;-2.276444
X-APPLE-STRUCTURED-LOCATION;VALUE=URI;X-ADDRESS=Hanley Swan Village Hall Welland Road Hanley Swan Worcestershire WR8 0EQ United Kingdom;X-APPLE-RADIUS=500;X-TITLE=Welland Road:geo:-2.276444,52.079635
END:VEVENT
BEGIN:VEVENT
DTSTART;TZID=Europe/London:20281017T110000
DTEND;TZID=Europe/London:20281017T140000
DTSTAMP:20260425T174238
CREATED:20230614T084423Z
LAST-MODIFIED:20231130T233608Z
UID:10003618-1855393200-1855404000@hopechurchfamily.org
SUMMARY:Cafe Tuesdays
DESCRIPTION:A friendly drop-in cafe with free soup\, drinks\, wifi. Everyone welcome.
URL:https://hopechurchfamily.org/calendars/cafe-tuesdays/2028-10-17/
LOCATION:Hanley Swan Village Hall\, Welland Road\, Hanley Swan\, Worcestershire\, WR8 0EQ\, United Kingdom
CATEGORIES:AdvertiseHanleysWelland,Hanley Swan,Meal
ATTACH;FMTTYPE=image/jpeg:https://hopechurchfamily.org/wp-content/uploads/2023/06/cafe-tuesday-1.jpg
GEO:52.079635;-2.276444
X-APPLE-STRUCTURED-LOCATION;VALUE=URI;X-ADDRESS=Hanley Swan Village Hall Welland Road Hanley Swan Worcestershire WR8 0EQ United Kingdom;X-APPLE-RADIUS=500;X-TITLE=Welland Road:geo:-2.276444,52.079635
END:VEVENT
BEGIN:VEVENT
DTSTART;TZID=Europe/London:20281024T110000
DTEND;TZID=Europe/London:20281024T140000
DTSTAMP:20260425T174238
CREATED:20230614T084423Z
LAST-MODIFIED:20231130T233608Z
UID:10003620-1855998000-1856008800@hopechurchfamily.org
SUMMARY:Cafe Tuesdays
DESCRIPTION:A friendly drop-in cafe with free soup\, drinks\, wifi. Everyone welcome.
URL:https://hopechurchfamily.org/calendars/cafe-tuesdays/2028-10-24/
LOCATION:Hanley Swan Village Hall\, Welland Road\, Hanley Swan\, Worcestershire\, WR8 0EQ\, United Kingdom
CATEGORIES:AdvertiseHanleysWelland,Hanley Swan,Meal
ATTACH;FMTTYPE=image/jpeg:https://hopechurchfamily.org/wp-content/uploads/2023/06/cafe-tuesday-1.jpg
GEO:52.079635;-2.276444
X-APPLE-STRUCTURED-LOCATION;VALUE=URI;X-ADDRESS=Hanley Swan Village Hall Welland Road Hanley Swan Worcestershire WR8 0EQ United Kingdom;X-APPLE-RADIUS=500;X-TITLE=Welland Road:geo:-2.276444,52.079635
END:VEVENT
BEGIN:VEVENT
DTSTART;TZID=Europe/London:20281031T110000
DTEND;TZID=Europe/London:20281031T140000
DTSTAMP:20260425T174238
CREATED:20230614T084423Z
LAST-MODIFIED:20231130T233608Z
UID:10003708-1856602800-1856613600@hopechurchfamily.org
SUMMARY:Cafe Tuesdays
DESCRIPTION:A friendly drop-in cafe with free soup\, drinks\, wifi. Everyone welcome.
URL:https://hopechurchfamily.org/calendars/cafe-tuesdays/2028-10-31/
LOCATION:Hanley Swan Village Hall\, Welland Road\, Hanley Swan\, Worcestershire\, WR8 0EQ\, United Kingdom
CATEGORIES:AdvertiseHanleysWelland,Hanley Swan,Meal
ATTACH;FMTTYPE=image/jpeg:https://hopechurchfamily.org/wp-content/uploads/2023/06/cafe-tuesday-1.jpg
GEO:52.079635;-2.276444
X-APPLE-STRUCTURED-LOCATION;VALUE=URI;X-ADDRESS=Hanley Swan Village Hall Welland Road Hanley Swan Worcestershire WR8 0EQ United Kingdom;X-APPLE-RADIUS=500;X-TITLE=Welland Road:geo:-2.276444,52.079635
END:VEVENT
BEGIN:VEVENT
DTSTART;TZID=Europe/London:20281107T110000
DTEND;TZID=Europe/London:20281107T140000
DTSTAMP:20260425T174238
CREATED:20230614T084423Z
LAST-MODIFIED:20231130T233608Z
UID:10003711-1857207600-1857218400@hopechurchfamily.org
SUMMARY:Cafe Tuesdays
DESCRIPTION:A friendly drop-in cafe with free soup\, drinks\, wifi. Everyone welcome.
URL:https://hopechurchfamily.org/calendars/cafe-tuesdays/2028-11-07/
LOCATION:Hanley Swan Village Hall\, Welland Road\, Hanley Swan\, Worcestershire\, WR8 0EQ\, United Kingdom
CATEGORIES:AdvertiseHanleysWelland,Hanley Swan,Meal
ATTACH;FMTTYPE=image/jpeg:https://hopechurchfamily.org/wp-content/uploads/2023/06/cafe-tuesday-1.jpg
GEO:52.079635;-2.276444
X-APPLE-STRUCTURED-LOCATION;VALUE=URI;X-ADDRESS=Hanley Swan Village Hall Welland Road Hanley Swan Worcestershire WR8 0EQ United Kingdom;X-APPLE-RADIUS=500;X-TITLE=Welland Road:geo:-2.276444,52.079635
END:VEVENT
BEGIN:VEVENT
DTSTART;TZID=Europe/London:20281114T110000
DTEND;TZID=Europe/London:20281114T140000
DTSTAMP:20260425T174238
CREATED:20230614T084423Z
LAST-MODIFIED:20231130T233608Z
UID:10003715-1857812400-1857823200@hopechurchfamily.org
SUMMARY:Cafe Tuesdays
DESCRIPTION:A friendly drop-in cafe with free soup\, drinks\, wifi. Everyone welcome.
URL:https://hopechurchfamily.org/calendars/cafe-tuesdays/2028-11-14/
LOCATION:Hanley Swan Village Hall\, Welland Road\, Hanley Swan\, Worcestershire\, WR8 0EQ\, United Kingdom
CATEGORIES:AdvertiseHanleysWelland,Hanley Swan,Meal
ATTACH;FMTTYPE=image/jpeg:https://hopechurchfamily.org/wp-content/uploads/2023/06/cafe-tuesday-1.jpg
GEO:52.079635;-2.276444
X-APPLE-STRUCTURED-LOCATION;VALUE=URI;X-ADDRESS=Hanley Swan Village Hall Welland Road Hanley Swan Worcestershire WR8 0EQ United Kingdom;X-APPLE-RADIUS=500;X-TITLE=Welland Road:geo:-2.276444,52.079635
END:VEVENT
BEGIN:VEVENT
DTSTART;TZID=Europe/London:20281121T110000
DTEND;TZID=Europe/London:20281121T140000
DTSTAMP:20260425T174238
CREATED:20230614T084423Z
LAST-MODIFIED:20231130T233608Z
UID:10003723-1858417200-1858428000@hopechurchfamily.org
SUMMARY:Cafe Tuesdays
DESCRIPTION:A friendly drop-in cafe with free soup\, drinks\, wifi. Everyone welcome.
URL:https://hopechurchfamily.org/calendars/cafe-tuesdays/2028-11-21/
LOCATION:Hanley Swan Village Hall\, Welland Road\, Hanley Swan\, Worcestershire\, WR8 0EQ\, United Kingdom
CATEGORIES:AdvertiseHanleysWelland,Hanley Swan,Meal
ATTACH;FMTTYPE=image/jpeg:https://hopechurchfamily.org/wp-content/uploads/2023/06/cafe-tuesday-1.jpg
GEO:52.079635;-2.276444
X-APPLE-STRUCTURED-LOCATION;VALUE=URI;X-ADDRESS=Hanley Swan Village Hall Welland Road Hanley Swan Worcestershire WR8 0EQ United Kingdom;X-APPLE-RADIUS=500;X-TITLE=Welland Road:geo:-2.276444,52.079635
END:VEVENT
END:VCALENDAR