BEGIN:VCALENDAR
VERSION:2.0
PRODID:-//The Hope Church Family - ECPv6.15.20//NONSGML v1.0//EN
CALSCALE:GREGORIAN
METHOD:PUBLISH
X-ORIGINAL-URL:https://hopechurchfamily.org
X-WR-CALDESC:Events for The Hope Church Family
REFRESH-INTERVAL;VALUE=DURATION:PT1H
X-Robots-Tag:noindex
X-PUBLISHED-TTL:PT1H
BEGIN:VTIMEZONE
TZID:Europe/London
BEGIN:DAYLIGHT
TZOFFSETFROM:+0000
TZOFFSETTO:+0100
TZNAME:BST
DTSTART:20250330T010000
END:DAYLIGHT
BEGIN:STANDARD
TZOFFSETFROM:+0100
TZOFFSETTO:+0000
TZNAME:GMT
DTSTART:20251026T010000
END:STANDARD
BEGIN:DAYLIGHT
TZOFFSETFROM:+0000
TZOFFSETTO:+0100
TZNAME:BST
DTSTART:20260329T010000
END:DAYLIGHT
BEGIN:STANDARD
TZOFFSETFROM:+0100
TZOFFSETTO:+0000
TZNAME:GMT
DTSTART:20261025T010000
END:STANDARD
BEGIN:DAYLIGHT
TZOFFSETFROM:+0000
TZOFFSETTO:+0100
TZNAME:BST
DTSTART:20270328T010000
END:DAYLIGHT
BEGIN:STANDARD
TZOFFSETFROM:+0100
TZOFFSETTO:+0000
TZNAME:GMT
DTSTART:20271031T010000
END:STANDARD
BEGIN:DAYLIGHT
TZOFFSETFROM:+0000
TZOFFSETTO:+0100
TZNAME:BST
DTSTART:20280326T010000
END:DAYLIGHT
BEGIN:STANDARD
TZOFFSETFROM:+0100
TZOFFSETTO:+0000
TZNAME:GMT
DTSTART:20281029T010000
END:STANDARD
END:VTIMEZONE
BEGIN:VEVENT
DTSTART;TZID=Europe/London:20260503T110000
DTEND;TZID=Europe/London:20260503T120000
DTSTAMP:20260422T181428
CREATED:20251229T001840Z
LAST-MODIFIED:20260401T123854Z
UID:10007233-1777806000-1777809600@hopechurchfamily.org
SUMMARY:Holy Communion
DESCRIPTION:Join us for a simple service of Holy Communion.
URL:https://hopechurchfamily.org/calendars/holy-communion-13/2026-05-03/
LOCATION:Hook\, Church of the Good Shepherd\, Hook Common\, Worcestershire\, WR8 0JQ\, United Kingdom
CATEGORIES:AdvertiseUpton,All,Hook,Service
ATTACH;FMTTYPE=image/jpeg:https://hopechurchfamily.org/wp-content/uploads/2016/09/communion-400_400.jpg
GEO:52.0632147;-2.2616535
END:VEVENT
BEGIN:VEVENT
DTSTART;TZID=Europe/London:20260503T110000
DTEND;TZID=Europe/London:20260503T120000
DTSTAMP:20260422T181428
CREATED:20260401T120057Z
LAST-MODIFIED:20260401T120057Z
UID:10007911-1777806000-1777809600@hopechurchfamily.org
SUMMARY:Holy Communion
DESCRIPTION:Join us for a simple service of Holy Communion.
URL:https://hopechurchfamily.org/calendars/holy-communion-15/
LOCATION:Hook\, Church of the Good Shepherd\, Hook Common\, Worcestershire\, WR8 0JQ\, United Kingdom
CATEGORIES:AdvertiseUpton,All,Easter,EasterSunday,Hook,Service
ATTACH;FMTTYPE=image/jpeg:https://hopechurchfamily.org/wp-content/uploads/2018/02/easter400_400.jpg
GEO:52.0632147;-2.2616535
END:VEVENT
BEGIN:VEVENT
DTSTART;TZID=Europe/London:20260510T093000
DTEND;TZID=Europe/London:20260510T103000
DTSTAMP:20260422T181428
CREATED:20260401T124127Z
LAST-MODIFIED:20260401T124129Z
UID:10008049-1778405400-1778409000@hopechurchfamily.org
SUMMARY:Holy Communion
DESCRIPTION:Join us for a simple service of Holy Communion.
URL:https://hopechurchfamily.org/calendars/holy-communion-13-2/
LOCATION:Hook\, Church of the Good Shepherd\, Hook Common\, Worcestershire\, WR8 0JQ\, United Kingdom
CATEGORIES:AdvertiseUpton,All,Hook,Service
ATTACH;FMTTYPE=image/jpeg:https://hopechurchfamily.org/wp-content/uploads/2016/09/communion-400_400.jpg
GEO:52.0632147;-2.2616535
END:VEVENT
BEGIN:VEVENT
DTSTART;TZID=Europe/London:20260517T093000
DTEND;TZID=Europe/London:20260517T103000
DTSTAMP:20260422T181428
CREATED:20230315T174949Z
LAST-MODIFIED:20251014T163330Z
UID:10002941-1779010200-1779013800@hopechurchfamily.org
SUMMARY:Morning Worship
DESCRIPTION:Join us for a simple service of morning worship\, featuring a warm welcome\, hymns\, readings\, prayers and a sermon.
URL:https://hopechurchfamily.org/calendars/morning-worship-3/2026-05-17/
LOCATION:Hook\, Church of the Good Shepherd\, Hook Common\, Worcestershire\, WR8 0JQ\, United Kingdom
CATEGORIES:AdvertiseUpton,Hook,Service
ATTACH;FMTTYPE=image/jpeg:https://hopechurchfamily.org/wp-content/uploads/2016/10/morning-worship-400_400.jpg
GEO:52.0632147;-2.2616535
END:VEVENT
BEGIN:VEVENT
DTSTART;TZID=Europe/London:20260607T110000
DTEND;TZID=Europe/London:20260607T120000
DTSTAMP:20260422T181428
CREATED:20251229T001840Z
LAST-MODIFIED:20260401T123854Z
UID:10007234-1780830000-1780833600@hopechurchfamily.org
SUMMARY:Holy Communion
DESCRIPTION:Join us for a simple service of Holy Communion.
URL:https://hopechurchfamily.org/calendars/holy-communion-13/2026-06-07/
LOCATION:Hook\, Church of the Good Shepherd\, Hook Common\, Worcestershire\, WR8 0JQ\, United Kingdom
CATEGORIES:AdvertiseUpton,All,Hook,Service
ATTACH;FMTTYPE=image/jpeg:https://hopechurchfamily.org/wp-content/uploads/2016/09/communion-400_400.jpg
GEO:52.0632147;-2.2616535
END:VEVENT
BEGIN:VEVENT
DTSTART;TZID=Europe/London:20260607T110000
DTEND;TZID=Europe/London:20260607T120000
DTSTAMP:20260422T181428
CREATED:20260401T120057Z
LAST-MODIFIED:20260401T120057Z
UID:10007912-1780830000-1780833600@hopechurchfamily.org
SUMMARY:Holy Communion
DESCRIPTION:Join us for a simple service of Holy Communion.
URL:https://hopechurchfamily.org/calendars/holy-communion-15/
LOCATION:Hook\, Church of the Good Shepherd\, Hook Common\, Worcestershire\, WR8 0JQ\, United Kingdom
CATEGORIES:AdvertiseUpton,All,Easter,EasterSunday,Hook,Service
ATTACH;FMTTYPE=image/jpeg:https://hopechurchfamily.org/wp-content/uploads/2018/02/easter400_400.jpg
GEO:52.0632147;-2.2616535
END:VEVENT
BEGIN:VEVENT
DTSTART;TZID=Europe/London:20260621T093000
DTEND;TZID=Europe/London:20260621T103000
DTSTAMP:20260422T181428
CREATED:20230315T174949Z
LAST-MODIFIED:20251014T163330Z
UID:10002942-1782034200-1782037800@hopechurchfamily.org
SUMMARY:Morning Worship
DESCRIPTION:Join us for a simple service of morning worship\, featuring a warm welcome\, hymns\, readings\, prayers and a sermon.
URL:https://hopechurchfamily.org/calendars/morning-worship-3/2026-06-21/
LOCATION:Hook\, Church of the Good Shepherd\, Hook Common\, Worcestershire\, WR8 0JQ\, United Kingdom
CATEGORIES:AdvertiseUpton,Hook,Service
ATTACH;FMTTYPE=image/jpeg:https://hopechurchfamily.org/wp-content/uploads/2016/10/morning-worship-400_400.jpg
GEO:52.0632147;-2.2616535
END:VEVENT
BEGIN:VEVENT
DTSTART;TZID=Europe/London:20260705T110000
DTEND;TZID=Europe/London:20260705T120000
DTSTAMP:20260422T181428
CREATED:20251229T001840Z
LAST-MODIFIED:20260401T123854Z
UID:10007235-1783249200-1783252800@hopechurchfamily.org
SUMMARY:Holy Communion
DESCRIPTION:Join us for a simple service of Holy Communion.
URL:https://hopechurchfamily.org/calendars/holy-communion-13/2026-07-05/
LOCATION:Hook\, Church of the Good Shepherd\, Hook Common\, Worcestershire\, WR8 0JQ\, United Kingdom
CATEGORIES:AdvertiseUpton,All,Hook,Service
ATTACH;FMTTYPE=image/jpeg:https://hopechurchfamily.org/wp-content/uploads/2016/09/communion-400_400.jpg
GEO:52.0632147;-2.2616535
END:VEVENT
BEGIN:VEVENT
DTSTART;TZID=Europe/London:20260705T110000
DTEND;TZID=Europe/London:20260705T120000
DTSTAMP:20260422T181428
CREATED:20260401T120057Z
LAST-MODIFIED:20260401T120057Z
UID:10007913-1783249200-1783252800@hopechurchfamily.org
SUMMARY:Holy Communion
DESCRIPTION:Join us for a simple service of Holy Communion.
URL:https://hopechurchfamily.org/calendars/holy-communion-15/
LOCATION:Hook\, Church of the Good Shepherd\, Hook Common\, Worcestershire\, WR8 0JQ\, United Kingdom
CATEGORIES:AdvertiseUpton,All,Easter,EasterSunday,Hook,Service
ATTACH;FMTTYPE=image/jpeg:https://hopechurchfamily.org/wp-content/uploads/2018/02/easter400_400.jpg
GEO:52.0632147;-2.2616535
END:VEVENT
BEGIN:VEVENT
DTSTART;TZID=Europe/London:20260719T093000
DTEND;TZID=Europe/London:20260719T103000
DTSTAMP:20260422T181428
CREATED:20230315T174949Z
LAST-MODIFIED:20251014T163330Z
UID:10002943-1784453400-1784457000@hopechurchfamily.org
SUMMARY:Morning Worship
DESCRIPTION:Join us for a simple service of morning worship\, featuring a warm welcome\, hymns\, readings\, prayers and a sermon.
URL:https://hopechurchfamily.org/calendars/morning-worship-3/2026-07-19/
LOCATION:Hook\, Church of the Good Shepherd\, Hook Common\, Worcestershire\, WR8 0JQ\, United Kingdom
CATEGORIES:AdvertiseUpton,Hook,Service
ATTACH;FMTTYPE=image/jpeg:https://hopechurchfamily.org/wp-content/uploads/2016/10/morning-worship-400_400.jpg
GEO:52.0632147;-2.2616535
END:VEVENT
BEGIN:VEVENT
DTSTART;TZID=Europe/London:20260802T110000
DTEND;TZID=Europe/London:20260802T120000
DTSTAMP:20260422T181428
CREATED:20251229T001840Z
LAST-MODIFIED:20260401T123854Z
UID:10007236-1785668400-1785672000@hopechurchfamily.org
SUMMARY:Holy Communion
DESCRIPTION:Join us for a simple service of Holy Communion.
URL:https://hopechurchfamily.org/calendars/holy-communion-13/2026-08-02/
LOCATION:Hook\, Church of the Good Shepherd\, Hook Common\, Worcestershire\, WR8 0JQ\, United Kingdom
CATEGORIES:AdvertiseUpton,All,Hook,Service
ATTACH;FMTTYPE=image/jpeg:https://hopechurchfamily.org/wp-content/uploads/2016/09/communion-400_400.jpg
GEO:52.0632147;-2.2616535
END:VEVENT
BEGIN:VEVENT
DTSTART;TZID=Europe/London:20260802T110000
DTEND;TZID=Europe/London:20260802T120000
DTSTAMP:20260422T181428
CREATED:20260401T120057Z
LAST-MODIFIED:20260401T120057Z
UID:10007914-1785668400-1785672000@hopechurchfamily.org
SUMMARY:Holy Communion
DESCRIPTION:Join us for a simple service of Holy Communion.
URL:https://hopechurchfamily.org/calendars/holy-communion-15/
LOCATION:Hook\, Church of the Good Shepherd\, Hook Common\, Worcestershire\, WR8 0JQ\, United Kingdom
CATEGORIES:AdvertiseUpton,All,Easter,EasterSunday,Hook,Service
ATTACH;FMTTYPE=image/jpeg:https://hopechurchfamily.org/wp-content/uploads/2018/02/easter400_400.jpg
GEO:52.0632147;-2.2616535
END:VEVENT
BEGIN:VEVENT
DTSTART;TZID=Europe/London:20260816T093000
DTEND;TZID=Europe/London:20260816T103000
DTSTAMP:20260422T181428
CREATED:20230315T174949Z
LAST-MODIFIED:20251014T163330Z
UID:10002944-1786872600-1786876200@hopechurchfamily.org
SUMMARY:Morning Worship
DESCRIPTION:Join us for a simple service of morning worship\, featuring a warm welcome\, hymns\, readings\, prayers and a sermon.
URL:https://hopechurchfamily.org/calendars/morning-worship-3/2026-08-16/
LOCATION:Hook\, Church of the Good Shepherd\, Hook Common\, Worcestershire\, WR8 0JQ\, United Kingdom
CATEGORIES:AdvertiseUpton,Hook,Service
ATTACH;FMTTYPE=image/jpeg:https://hopechurchfamily.org/wp-content/uploads/2016/10/morning-worship-400_400.jpg
GEO:52.0632147;-2.2616535
END:VEVENT
BEGIN:VEVENT
DTSTART;TZID=Europe/London:20260906T110000
DTEND;TZID=Europe/London:20260906T120000
DTSTAMP:20260422T181428
CREATED:20251229T001840Z
LAST-MODIFIED:20260401T123854Z
UID:10007237-1788692400-1788696000@hopechurchfamily.org
SUMMARY:Holy Communion
DESCRIPTION:Join us for a simple service of Holy Communion.
URL:https://hopechurchfamily.org/calendars/holy-communion-13/2026-09-06/
LOCATION:Hook\, Church of the Good Shepherd\, Hook Common\, Worcestershire\, WR8 0JQ\, United Kingdom
CATEGORIES:AdvertiseUpton,All,Hook,Service
ATTACH;FMTTYPE=image/jpeg:https://hopechurchfamily.org/wp-content/uploads/2016/09/communion-400_400.jpg
GEO:52.0632147;-2.2616535
END:VEVENT
BEGIN:VEVENT
DTSTART;TZID=Europe/London:20260906T110000
DTEND;TZID=Europe/London:20260906T120000
DTSTAMP:20260422T181428
CREATED:20260401T120057Z
LAST-MODIFIED:20260401T120057Z
UID:10007915-1788692400-1788696000@hopechurchfamily.org
SUMMARY:Holy Communion
DESCRIPTION:Join us for a simple service of Holy Communion.
URL:https://hopechurchfamily.org/calendars/holy-communion-15/
LOCATION:Hook\, Church of the Good Shepherd\, Hook Common\, Worcestershire\, WR8 0JQ\, United Kingdom
CATEGORIES:AdvertiseUpton,All,Easter,EasterSunday,Hook,Service
ATTACH;FMTTYPE=image/jpeg:https://hopechurchfamily.org/wp-content/uploads/2018/02/easter400_400.jpg
GEO:52.0632147;-2.2616535
END:VEVENT
BEGIN:VEVENT
DTSTART;TZID=Europe/London:20260920T093000
DTEND;TZID=Europe/London:20260920T103000
DTSTAMP:20260422T181428
CREATED:20230315T174949Z
LAST-MODIFIED:20251014T163330Z
UID:10002945-1789896600-1789900200@hopechurchfamily.org
SUMMARY:Morning Worship
DESCRIPTION:Join us for a simple service of morning worship\, featuring a warm welcome\, hymns\, readings\, prayers and a sermon.
URL:https://hopechurchfamily.org/calendars/morning-worship-3/2026-09-20/
LOCATION:Hook\, Church of the Good Shepherd\, Hook Common\, Worcestershire\, WR8 0JQ\, United Kingdom
CATEGORIES:AdvertiseUpton,Hook,Service
ATTACH;FMTTYPE=image/jpeg:https://hopechurchfamily.org/wp-content/uploads/2016/10/morning-worship-400_400.jpg
GEO:52.0632147;-2.2616535
END:VEVENT
BEGIN:VEVENT
DTSTART;TZID=Europe/London:20261004T110000
DTEND;TZID=Europe/London:20261004T120000
DTSTAMP:20260422T181428
CREATED:20251229T001840Z
LAST-MODIFIED:20260401T123854Z
UID:10007238-1791111600-1791115200@hopechurchfamily.org
SUMMARY:Holy Communion
DESCRIPTION:Join us for a simple service of Holy Communion.
URL:https://hopechurchfamily.org/calendars/holy-communion-13/2026-10-04/
LOCATION:Hook\, Church of the Good Shepherd\, Hook Common\, Worcestershire\, WR8 0JQ\, United Kingdom
CATEGORIES:AdvertiseUpton,All,Hook,Service
ATTACH;FMTTYPE=image/jpeg:https://hopechurchfamily.org/wp-content/uploads/2016/09/communion-400_400.jpg
GEO:52.0632147;-2.2616535
END:VEVENT
BEGIN:VEVENT
DTSTART;TZID=Europe/London:20261004T110000
DTEND;TZID=Europe/London:20261004T120000
DTSTAMP:20260422T181428
CREATED:20260401T120057Z
LAST-MODIFIED:20260401T120057Z
UID:10007916-1791111600-1791115200@hopechurchfamily.org
SUMMARY:Holy Communion
DESCRIPTION:Join us for a simple service of Holy Communion.
URL:https://hopechurchfamily.org/calendars/holy-communion-15/
LOCATION:Hook\, Church of the Good Shepherd\, Hook Common\, Worcestershire\, WR8 0JQ\, United Kingdom
CATEGORIES:AdvertiseUpton,All,Easter,EasterSunday,Hook,Service
ATTACH;FMTTYPE=image/jpeg:https://hopechurchfamily.org/wp-content/uploads/2018/02/easter400_400.jpg
GEO:52.0632147;-2.2616535
END:VEVENT
BEGIN:VEVENT
DTSTART;TZID=Europe/London:20261018T093000
DTEND;TZID=Europe/London:20261018T103000
DTSTAMP:20260422T181428
CREATED:20230315T174949Z
LAST-MODIFIED:20251014T163330Z
UID:10002946-1792315800-1792319400@hopechurchfamily.org
SUMMARY:Morning Worship
DESCRIPTION:Join us for a simple service of morning worship\, featuring a warm welcome\, hymns\, readings\, prayers and a sermon.
URL:https://hopechurchfamily.org/calendars/morning-worship-3/2026-10-18/
LOCATION:Hook\, Church of the Good Shepherd\, Hook Common\, Worcestershire\, WR8 0JQ\, United Kingdom
CATEGORIES:AdvertiseUpton,Hook,Service
ATTACH;FMTTYPE=image/jpeg:https://hopechurchfamily.org/wp-content/uploads/2016/10/morning-worship-400_400.jpg
GEO:52.0632147;-2.2616535
END:VEVENT
BEGIN:VEVENT
DTSTART;TZID=Europe/London:20261101T110000
DTEND;TZID=Europe/London:20261101T120000
DTSTAMP:20260422T181428
CREATED:20251229T001840Z
LAST-MODIFIED:20260401T123854Z
UID:10007239-1793530800-1793534400@hopechurchfamily.org
SUMMARY:Holy Communion
DESCRIPTION:Join us for a simple service of Holy Communion.
URL:https://hopechurchfamily.org/calendars/holy-communion-13/2026-11-01/
LOCATION:Hook\, Church of the Good Shepherd\, Hook Common\, Worcestershire\, WR8 0JQ\, United Kingdom
CATEGORIES:AdvertiseUpton,All,Hook,Service
ATTACH;FMTTYPE=image/jpeg:https://hopechurchfamily.org/wp-content/uploads/2016/09/communion-400_400.jpg
GEO:52.0632147;-2.2616535
END:VEVENT
BEGIN:VEVENT
DTSTART;TZID=Europe/London:20261101T110000
DTEND;TZID=Europe/London:20261101T120000
DTSTAMP:20260422T181428
CREATED:20260401T120057Z
LAST-MODIFIED:20260401T120057Z
UID:10007917-1793530800-1793534400@hopechurchfamily.org
SUMMARY:Holy Communion
DESCRIPTION:Join us for a simple service of Holy Communion.
URL:https://hopechurchfamily.org/calendars/holy-communion-15/
LOCATION:Hook\, Church of the Good Shepherd\, Hook Common\, Worcestershire\, WR8 0JQ\, United Kingdom
CATEGORIES:AdvertiseUpton,All,Easter,EasterSunday,Hook,Service
ATTACH;FMTTYPE=image/jpeg:https://hopechurchfamily.org/wp-content/uploads/2018/02/easter400_400.jpg
GEO:52.0632147;-2.2616535
END:VEVENT
BEGIN:VEVENT
DTSTART;TZID=Europe/London:20261115T093000
DTEND;TZID=Europe/London:20261115T103000
DTSTAMP:20260422T181428
CREATED:20230315T174949Z
LAST-MODIFIED:20251014T163330Z
UID:10002947-1794735000-1794738600@hopechurchfamily.org
SUMMARY:Morning Worship
DESCRIPTION:Join us for a simple service of morning worship\, featuring a warm welcome\, hymns\, readings\, prayers and a sermon.
URL:https://hopechurchfamily.org/calendars/morning-worship-3/2026-11-15/
LOCATION:Hook\, Church of the Good Shepherd\, Hook Common\, Worcestershire\, WR8 0JQ\, United Kingdom
CATEGORIES:AdvertiseUpton,Hook,Service
ATTACH;FMTTYPE=image/jpeg:https://hopechurchfamily.org/wp-content/uploads/2016/10/morning-worship-400_400.jpg
GEO:52.0632147;-2.2616535
END:VEVENT
BEGIN:VEVENT
DTSTART;TZID=Europe/London:20261129T080000
DTEND;TZID=Europe/London:20261129T170000
DTSTAMP:20260422T181428
CREATED:20251014T123242Z
LAST-MODIFIED:20251014T131916Z
UID:10006703-1795939200-1795971600@hopechurchfamily.org
SUMMARY:Advent Hymns and Sherry
DESCRIPTION:Join us on Advent Sunday as we begin the buildup to Christmas with a glass of sherry and the chance to sing some traditional Advent hymns.
URL:https://hopechurchfamily.org/calendars/aadvent-hymns-and-sherry/2026-11-29/
LOCATION:Hook\, Church of the Good Shepherd\, Hook Common\, Worcestershire\, WR8 0JQ\, United Kingdom
CATEGORIES:AdvertiseCroomes,AdvertiseHanleysWelland,AdvertiseRipple,AdvertiseUpton,Christmas,ChristmasHook,Hook
ATTACH;FMTTYPE=image/jpeg:https://hopechurchfamily.org/wp-content/uploads/2025/10/advent-hymns-and-sherry.jpg
GEO:52.0632147;-2.2616535
END:VEVENT
BEGIN:VEVENT
DTSTART;TZID=Europe/London:20261206T110000
DTEND;TZID=Europe/London:20261206T120000
DTSTAMP:20260422T181428
CREATED:20251229T001840Z
LAST-MODIFIED:20260401T123854Z
UID:10007240-1796554800-1796558400@hopechurchfamily.org
SUMMARY:Holy Communion
DESCRIPTION:Join us for a simple service of Holy Communion.
URL:https://hopechurchfamily.org/calendars/holy-communion-13/2026-12-06/
LOCATION:Hook\, Church of the Good Shepherd\, Hook Common\, Worcestershire\, WR8 0JQ\, United Kingdom
CATEGORIES:AdvertiseUpton,All,Hook,Service
ATTACH;FMTTYPE=image/jpeg:https://hopechurchfamily.org/wp-content/uploads/2016/09/communion-400_400.jpg
GEO:52.0632147;-2.2616535
END:VEVENT
BEGIN:VEVENT
DTSTART;TZID=Europe/London:20261206T110000
DTEND;TZID=Europe/London:20261206T120000
DTSTAMP:20260422T181428
CREATED:20260401T120057Z
LAST-MODIFIED:20260401T120057Z
UID:10007918-1796554800-1796558400@hopechurchfamily.org
SUMMARY:Holy Communion
DESCRIPTION:Join us for a simple service of Holy Communion.
URL:https://hopechurchfamily.org/calendars/holy-communion-15/
LOCATION:Hook\, Church of the Good Shepherd\, Hook Common\, Worcestershire\, WR8 0JQ\, United Kingdom
CATEGORIES:AdvertiseUpton,All,Easter,EasterSunday,Hook,Service
ATTACH;FMTTYPE=image/jpeg:https://hopechurchfamily.org/wp-content/uploads/2018/02/easter400_400.jpg
GEO:52.0632147;-2.2616535
END:VEVENT
BEGIN:VEVENT
DTSTART;TZID=Europe/London:20261220T093000
DTEND;TZID=Europe/London:20261220T103000
DTSTAMP:20260422T181428
CREATED:20230315T174949Z
LAST-MODIFIED:20251014T163330Z
UID:10002948-1797759000-1797762600@hopechurchfamily.org
SUMMARY:Morning Worship
DESCRIPTION:Join us for a simple service of morning worship\, featuring a warm welcome\, hymns\, readings\, prayers and a sermon.
URL:https://hopechurchfamily.org/calendars/morning-worship-3/2026-12-20/
LOCATION:Hook\, Church of the Good Shepherd\, Hook Common\, Worcestershire\, WR8 0JQ\, United Kingdom
CATEGORIES:AdvertiseUpton,Hook,Service
ATTACH;FMTTYPE=image/jpeg:https://hopechurchfamily.org/wp-content/uploads/2016/10/morning-worship-400_400.jpg
GEO:52.0632147;-2.2616535
END:VEVENT
BEGIN:VEVENT
DTSTART;TZID=Europe/London:20261225T093000
DTEND;TZID=Europe/London:20261225T103000
DTSTAMP:20260422T181428
CREATED:20231130T235104Z
LAST-MODIFIED:20231130T235640Z
UID:10003840-1798191000-1798194600@hopechurchfamily.org
SUMMARY:Holy Communion
DESCRIPTION:Join us for a service of Holy Communion.
URL:https://hopechurchfamily.org/calendars/holy-communion-8/2026-12-25/
LOCATION:Hook\, Church of the Good Shepherd\, Hook Common\, Worcestershire\, WR8 0JQ\, United Kingdom
CATEGORIES:AdvertiseUpton,Christmas,ChristmasHook,Hook,Service
ATTACH;FMTTYPE=image/jpeg:https://hopechurchfamily.org/wp-content/uploads/2016/09/communion-400_400.jpg
GEO:52.0632147;-2.2616535
END:VEVENT
BEGIN:VEVENT
DTSTART;TZID=Europe/London:20270103T110000
DTEND;TZID=Europe/London:20270103T120000
DTSTAMP:20260422T181428
CREATED:20251229T001840Z
LAST-MODIFIED:20260401T123854Z
UID:10007241-1798974000-1798977600@hopechurchfamily.org
SUMMARY:Holy Communion
DESCRIPTION:Join us for a simple service of Holy Communion.
URL:https://hopechurchfamily.org/calendars/holy-communion-13/2027-01-03/
LOCATION:Hook\, Church of the Good Shepherd\, Hook Common\, Worcestershire\, WR8 0JQ\, United Kingdom
CATEGORIES:AdvertiseUpton,All,Hook,Service
ATTACH;FMTTYPE=image/jpeg:https://hopechurchfamily.org/wp-content/uploads/2016/09/communion-400_400.jpg
GEO:52.0632147;-2.2616535
END:VEVENT
BEGIN:VEVENT
DTSTART;TZID=Europe/London:20270103T110000
DTEND;TZID=Europe/London:20270103T120000
DTSTAMP:20260422T181428
CREATED:20260401T120057Z
LAST-MODIFIED:20260401T120057Z
UID:10007919-1798974000-1798977600@hopechurchfamily.org
SUMMARY:Holy Communion
DESCRIPTION:Join us for a simple service of Holy Communion.
URL:https://hopechurchfamily.org/calendars/holy-communion-15/
LOCATION:Hook\, Church of the Good Shepherd\, Hook Common\, Worcestershire\, WR8 0JQ\, United Kingdom
CATEGORIES:AdvertiseUpton,All,Easter,EasterSunday,Hook,Service
ATTACH;FMTTYPE=image/jpeg:https://hopechurchfamily.org/wp-content/uploads/2018/02/easter400_400.jpg
GEO:52.0632147;-2.2616535
END:VEVENT
BEGIN:VEVENT
DTSTART;TZID=Europe/London:20270117T093000
DTEND;TZID=Europe/London:20270117T103000
DTSTAMP:20260422T181428
CREATED:20230315T174949Z
LAST-MODIFIED:20251014T163330Z
UID:10002949-1800178200-1800181800@hopechurchfamily.org
SUMMARY:Morning Worship
DESCRIPTION:Join us for a simple service of morning worship\, featuring a warm welcome\, hymns\, readings\, prayers and a sermon.
URL:https://hopechurchfamily.org/calendars/morning-worship-3/2027-01-17/
LOCATION:Hook\, Church of the Good Shepherd\, Hook Common\, Worcestershire\, WR8 0JQ\, United Kingdom
CATEGORIES:AdvertiseUpton,Hook,Service
ATTACH;FMTTYPE=image/jpeg:https://hopechurchfamily.org/wp-content/uploads/2016/10/morning-worship-400_400.jpg
GEO:52.0632147;-2.2616535
END:VEVENT
END:VCALENDAR