BEGIN:VCALENDAR
VERSION:2.0
PRODID:-//The Hope Church Family - ECPv6.15.20//NONSGML v1.0//EN
CALSCALE:GREGORIAN
METHOD:PUBLISH
X-ORIGINAL-URL:https://hopechurchfamily.org
X-WR-CALDESC:Events for The Hope Church Family
REFRESH-INTERVAL;VALUE=DURATION:PT1H
X-Robots-Tag:noindex
X-PUBLISHED-TTL:PT1H
BEGIN:VTIMEZONE
TZID:Europe/London
BEGIN:DAYLIGHT
TZOFFSETFROM:+0000
TZOFFSETTO:+0100
TZNAME:BST
DTSTART:20250330T010000
END:DAYLIGHT
BEGIN:STANDARD
TZOFFSETFROM:+0100
TZOFFSETTO:+0000
TZNAME:GMT
DTSTART:20251026T010000
END:STANDARD
BEGIN:DAYLIGHT
TZOFFSETFROM:+0000
TZOFFSETTO:+0100
TZNAME:BST
DTSTART:20260329T010000
END:DAYLIGHT
BEGIN:STANDARD
TZOFFSETFROM:+0100
TZOFFSETTO:+0000
TZNAME:GMT
DTSTART:20261025T010000
END:STANDARD
BEGIN:DAYLIGHT
TZOFFSETFROM:+0000
TZOFFSETTO:+0100
TZNAME:BST
DTSTART:20270328T010000
END:DAYLIGHT
BEGIN:STANDARD
TZOFFSETFROM:+0100
TZOFFSETTO:+0000
TZNAME:GMT
DTSTART:20271031T010000
END:STANDARD
END:VTIMEZONE
BEGIN:VEVENT
DTSTART;TZID=Europe/London:20260419T180000
DTEND;TZID=Europe/London:20260419T190000
DTSTAMP:20260422T045110
CREATED:20230214T180001Z
LAST-MODIFIED:20251014T132914Z
UID:10002300-1776621600-1776625200@hopechurchfamily.org
SUMMARY:Choral Evensong
DESCRIPTION:Join us for a traditional choral evensong service\, with music from the Upton Choir.
URL:https://hopechurchfamily.org/calendars/choral-evensong-2/2026-04-19/
LOCATION:Upton\, St Peter and St Paul\, Old Street\, Upton Upon Severn\, Worcestershire\, WR8 0JQ
CATEGORIES:AdvertiseCroomes,AdvertiseHanleysWelland,AdvertiseRipple,AdvertiseUpton,concert,Service,Upton
ATTACH;FMTTYPE=image/jpeg:https://hopechurchfamily.org/wp-content/uploads/2017/01/choral-evensong-400_400.jpg
GEO:52.0613513;-2.2183986
X-APPLE-STRUCTURED-LOCATION;VALUE=URI;X-ADDRESS=Upton St Peter and St Paul Old Street Upton Upon Severn Worcestershire WR8 0JQ;X-APPLE-RADIUS=500;X-TITLE=Old Street:geo:-2.2183986,52.0613513
END:VEVENT
BEGIN:VEVENT
DTSTART;TZID=Europe/London:20260405T093000
DTEND;TZID=Europe/London:20260405T103000
DTSTAMP:20260422T045110
CREATED:20260401T121216Z
LAST-MODIFIED:20260401T121351Z
UID:10008036-1775381400-1775385000@hopechurchfamily.org
SUMMARY:Holy Communion
DESCRIPTION:Join us for a simple service of Holy Communion
URL:https://hopechurchfamily.org/calendars/holy-communion-17/
LOCATION:Upton\, St Peter and St Paul\, Old Street\, Upton Upon Severn\, Worcestershire\, WR8 0JQ
CATEGORIES:AdvertiseUpton,Easter,EasterSunday,Service,Upton
ATTACH;FMTTYPE=image/jpeg:https://hopechurchfamily.org/wp-content/uploads/2018/02/easter400_400.jpg
GEO:52.0613513;-2.2183986
X-APPLE-STRUCTURED-LOCATION;VALUE=URI;X-ADDRESS=Upton St Peter and St Paul Old Street Upton Upon Severn Worcestershire WR8 0JQ;X-APPLE-RADIUS=500;X-TITLE=Old Street:geo:-2.2183986,52.0613513
END:VEVENT
BEGIN:VEVENT
DTSTART;TZID=Europe/London:20260403T180000
DTEND;TZID=Europe/London:20260403T190000
DTSTAMP:20260422T045110
CREATED:20260401T115617Z
LAST-MODIFIED:20260401T115617Z
UID:10007841-1775239200-1775242800@hopechurchfamily.org
SUMMARY:An hour of music and contemplation
DESCRIPTION:Join us for a choral-led Good Friday meditation.
URL:https://hopechurchfamily.org/calendars/an-hour-of-music-and-contemplation/
LOCATION:Upton\, St Peter and St Paul\, Old Street\, Upton Upon Severn\, Worcestershire\, WR8 0JQ
CATEGORIES:AdvertiseCroomes,AdvertiseHanleysWelland,AdvertiseRipple,AdvertiseUpton,Easter,GoodFriday,Service,Upton
ATTACH;FMTTYPE=image/jpeg:https://hopechurchfamily.org/wp-content/uploads/2018/02/easter400_400.jpg
GEO:52.0613513;-2.2183986
X-APPLE-STRUCTURED-LOCATION;VALUE=URI;X-ADDRESS=Upton St Peter and St Paul Old Street Upton Upon Severn Worcestershire WR8 0JQ;X-APPLE-RADIUS=500;X-TITLE=Old Street:geo:-2.2183986,52.0613513
END:VEVENT
BEGIN:VEVENT
DTSTART;TZID=Europe/London:20260401T180000
DTEND;TZID=Europe/London:20260401T190000
DTSTAMP:20260422T045110
CREATED:20260401T114657Z
LAST-MODIFIED:20260401T115008Z
UID:10007774-1775066400-1775070000@hopechurchfamily.org
SUMMARY:Compline
DESCRIPTION:A gentle\, choral led\, compline service\, for Holy Week.
URL:https://hopechurchfamily.org/calendars/compline/
LOCATION:Upton\, St Peter and St Paul\, Old Street\, Upton Upon Severn\, Worcestershire\, WR8 0JQ
CATEGORIES:AdvertiseCroomes,AdvertiseHanleysWelland,AdvertiseRipple,AdvertiseUpton,Easter,HolyWeek,Service,Upton
ATTACH;FMTTYPE=image/jpeg:https://hopechurchfamily.org/wp-content/uploads/2018/02/easter400_400.jpg
GEO:52.0613513;-2.2183986
X-APPLE-STRUCTURED-LOCATION;VALUE=URI;X-ADDRESS=Upton St Peter and St Paul Old Street Upton Upon Severn Worcestershire WR8 0JQ;X-APPLE-RADIUS=500;X-TITLE=Old Street:geo:-2.2183986,52.0613513
END:VEVENT
BEGIN:VEVENT
DTSTART;TZID=Europe/London:20260322T093000
DTEND;TZID=Europe/London:20260322T103000
DTSTAMP:20260422T045110
CREATED:20201201T090755Z
LAST-MODIFIED:20251014T133608Z
UID:10004849-1774171800-1774175400@hopechurchfamily.org
SUMMARY:Morning Worship
DESCRIPTION:Join us for a simple Morning service\, with readings\, prayers\, hymns and a sermon.
URL:https://hopechurchfamily.org/calendars/a-service-of-readings-and-carols-2021-01-17-2021-01-24/2026-03-22/
LOCATION:Upton\, St Peter and St Paul\, Old Street\, Upton Upon Severn\, Worcestershire\, WR8 0JQ
CATEGORIES:AdvertiseUpton,Hook,Upton
ATTACH;FMTTYPE=image/jpeg:https://hopechurchfamily.org/wp-content/uploads/2016/11/morning-worship-2-400_400.jpg
GEO:52.0613513;-2.2183986
X-APPLE-STRUCTURED-LOCATION;VALUE=URI;X-ADDRESS=Upton St Peter and St Paul Old Street Upton Upon Severn Worcestershire WR8 0JQ;X-APPLE-RADIUS=500;X-TITLE=Old Street:geo:-2.2183986,52.0613513
END:VEVENT
BEGIN:VEVENT
DTSTART;TZID=Europe/London:20260315T180000
DTEND;TZID=Europe/London:20260315T190000
DTSTAMP:20260422T045110
CREATED:20230214T180001Z
LAST-MODIFIED:20251014T132914Z
UID:10002299-1773597600-1773601200@hopechurchfamily.org
SUMMARY:Choral Evensong
DESCRIPTION:Join us for a traditional choral evensong service\, with music from the Upton Choir.
URL:https://hopechurchfamily.org/calendars/choral-evensong-2/2026-03-15/
LOCATION:Upton\, St Peter and St Paul\, Old Street\, Upton Upon Severn\, Worcestershire\, WR8 0JQ
CATEGORIES:AdvertiseCroomes,AdvertiseHanleysWelland,AdvertiseRipple,AdvertiseUpton,concert,Service,Upton
ATTACH;FMTTYPE=image/jpeg:https://hopechurchfamily.org/wp-content/uploads/2017/01/choral-evensong-400_400.jpg
GEO:52.0613513;-2.2183986
X-APPLE-STRUCTURED-LOCATION;VALUE=URI;X-ADDRESS=Upton St Peter and St Paul Old Street Upton Upon Severn Worcestershire WR8 0JQ;X-APPLE-RADIUS=500;X-TITLE=Old Street:geo:-2.2183986,52.0613513
END:VEVENT
BEGIN:VEVENT
DTSTART;TZID=Europe/London:20260308T093000
DTEND;TZID=Europe/London:20260308T103000
DTSTAMP:20260422T045110
CREATED:20220706T090642Z
LAST-MODIFIED:20260401T123648Z
UID:10004055-1772962200-1772965800@hopechurchfamily.org
SUMMARY:Holy Communion
DESCRIPTION:Join us for a service of Holy Communion\, featuring the Upton Choir. \nRefreshments afterwards.
URL:https://hopechurchfamily.org/calendars/holy-communion-3/2026-03-08/
LOCATION:Upton\, St Peter and St Paul\, Old Street\, Upton Upon Severn\, Worcestershire\, WR8 0JQ
CATEGORIES:AdvertiseUpton,Service,Upton
ATTACH;FMTTYPE=image/jpeg:https://hopechurchfamily.org/wp-content/uploads/2016/09/communion-400_400.jpg
GEO:52.0613513;-2.2183986
X-APPLE-STRUCTURED-LOCATION;VALUE=URI;X-ADDRESS=Upton St Peter and St Paul Old Street Upton Upon Severn Worcestershire WR8 0JQ;X-APPLE-RADIUS=500;X-TITLE=Old Street:geo:-2.2183986,52.0613513
END:VEVENT
BEGIN:VEVENT
DTSTART;TZID=Europe/London:20260222T093000
DTEND;TZID=Europe/London:20260222T103000
DTSTAMP:20260422T045110
CREATED:20201201T090755Z
LAST-MODIFIED:20251014T133608Z
UID:10004848-1771752600-1771756200@hopechurchfamily.org
SUMMARY:Morning Worship
DESCRIPTION:Join us for a simple Morning service\, with readings\, prayers\, hymns and a sermon.
URL:https://hopechurchfamily.org/calendars/a-service-of-readings-and-carols-2021-01-17-2021-01-24/2026-02-22/
LOCATION:Upton\, St Peter and St Paul\, Old Street\, Upton Upon Severn\, Worcestershire\, WR8 0JQ
CATEGORIES:AdvertiseUpton,Hook,Upton
ATTACH;FMTTYPE=image/jpeg:https://hopechurchfamily.org/wp-content/uploads/2016/11/morning-worship-2-400_400.jpg
GEO:52.0613513;-2.2183986
X-APPLE-STRUCTURED-LOCATION;VALUE=URI;X-ADDRESS=Upton St Peter and St Paul Old Street Upton Upon Severn Worcestershire WR8 0JQ;X-APPLE-RADIUS=500;X-TITLE=Old Street:geo:-2.2183986,52.0613513
END:VEVENT
BEGIN:VEVENT
DTSTART;TZID=Europe/London:20260215T180000
DTEND;TZID=Europe/London:20260215T190000
DTSTAMP:20260422T045110
CREATED:20230214T180001Z
LAST-MODIFIED:20251014T132914Z
UID:10008063-1771178400-1771182000@hopechurchfamily.org
SUMMARY:Choral Evensong
DESCRIPTION:Join us for a traditional choral evensong service\, with music from the Upton Choir.
URL:https://hopechurchfamily.org/calendars/choral-evensong-2/2026-02-15/
LOCATION:Upton\, St Peter and St Paul\, Old Street\, Upton Upon Severn\, Worcestershire\, WR8 0JQ
CATEGORIES:AdvertiseCroomes,AdvertiseHanleysWelland,AdvertiseRipple,AdvertiseUpton,concert,Service,Upton
ATTACH;FMTTYPE=image/jpeg:https://hopechurchfamily.org/wp-content/uploads/2017/01/choral-evensong-400_400.jpg
GEO:52.0613513;-2.2183986
X-APPLE-STRUCTURED-LOCATION;VALUE=URI;X-ADDRESS=Upton St Peter and St Paul Old Street Upton Upon Severn Worcestershire WR8 0JQ;X-APPLE-RADIUS=500;X-TITLE=Old Street:geo:-2.2183986,52.0613513
END:VEVENT
BEGIN:VEVENT
DTSTART;TZID=Europe/London:20260208T093000
DTEND;TZID=Europe/London:20260208T103000
DTSTAMP:20260422T045110
CREATED:20220706T090642Z
LAST-MODIFIED:20260401T123648Z
UID:10004054-1770543000-1770546600@hopechurchfamily.org
SUMMARY:Holy Communion
DESCRIPTION:Join us for a service of Holy Communion\, featuring the Upton Choir. \nRefreshments afterwards.
URL:https://hopechurchfamily.org/calendars/holy-communion-3/2026-02-08/
LOCATION:Upton\, St Peter and St Paul\, Old Street\, Upton Upon Severn\, Worcestershire\, WR8 0JQ
CATEGORIES:AdvertiseUpton,Service,Upton
ATTACH;FMTTYPE=image/jpeg:https://hopechurchfamily.org/wp-content/uploads/2016/09/communion-400_400.jpg
GEO:52.0613513;-2.2183986
X-APPLE-STRUCTURED-LOCATION;VALUE=URI;X-ADDRESS=Upton St Peter and St Paul Old Street Upton Upon Severn Worcestershire WR8 0JQ;X-APPLE-RADIUS=500;X-TITLE=Old Street:geo:-2.2183986,52.0613513
END:VEVENT
BEGIN:VEVENT
DTSTART;TZID=Europe/London:20260125T093000
DTEND;TZID=Europe/London:20260125T103000
DTSTAMP:20260422T045110
CREATED:20201201T090755Z
LAST-MODIFIED:20251014T133608Z
UID:10004847-1769333400-1769337000@hopechurchfamily.org
SUMMARY:Morning Worship
DESCRIPTION:Join us for a simple Morning service\, with readings\, prayers\, hymns and a sermon.
URL:https://hopechurchfamily.org/calendars/a-service-of-readings-and-carols-2021-01-17-2021-01-24/2026-01-25/
LOCATION:Upton\, St Peter and St Paul\, Old Street\, Upton Upon Severn\, Worcestershire\, WR8 0JQ
CATEGORIES:AdvertiseUpton,Hook,Upton
ATTACH;FMTTYPE=image/jpeg:https://hopechurchfamily.org/wp-content/uploads/2016/11/morning-worship-2-400_400.jpg
GEO:52.0613513;-2.2183986
X-APPLE-STRUCTURED-LOCATION;VALUE=URI;X-ADDRESS=Upton St Peter and St Paul Old Street Upton Upon Severn Worcestershire WR8 0JQ;X-APPLE-RADIUS=500;X-TITLE=Old Street:geo:-2.2183986,52.0613513
END:VEVENT
END:VCALENDAR